FFI-Platypus v1.10 Perl 5 v5.16.2 x86_64-linux-thread-multi
- Status
- Pass
- From
- Nigel Horne
- Dist
-
FFI-Platypus v1.10
- Platform
- Perl 5 v5.16.2 x86_64-linux-thread-multi
- Date
- 2020-04-14 22:27:21
- ID
- 1b3b98fc-7e9f-11ea-baf9-8e7157f1bc38
This distribution has been tested as part of the CPAN Testers
project, supporting the Perl programming language. See
http://wiki.cpantesters.org/ for more information or email
questions to cpan-testers-discuss@perl.org
--
Dear Graham Ollis,
This is a computer-generated report for FFI-Platypus-1.10
on perl 5.16.2, created by CPAN-Reporter-1.2018.
Thank you for uploading your work to CPAN. Congratulations!
All tests were successful.
Sections of this report:
* Tester comments
* Program output
* Prerequisites
* Environment and other context
------------------------------
TESTER COMMENTS
------------------------------
Additional comments from tester:
this report is from an automated smoke testing program
and was not reviewed by a human for accuracy
------------------------------
PROGRAM OUTPUT
------------------------------
Output from '/usr/bin/make test':
"/home/njh/perl5/perlbrew/perls/perl-5.16.2-thread/bin/perl5.16.2" -MExtUtils::Command::MM -e 'cp_nonempty' -- lib/FFI/Platypus.bs blib/arch/auto/FFI/Platypus/Platypus.bs 644
CC t/ffi/align.c
CC t/ffi/align_array.c
CC t/ffi/align_fixed.c
CC t/ffi/align_string.c
CC t/ffi/basic.c
CC t/ffi/closure.c
CC t/ffi/color.c
CC t/ffi/complex_double.c
CC t/ffi/complex_float.c
CC t/ffi/double.c
CC t/ffi/float.c
CC t/ffi/gh117.c
CC t/ffi/gh174.c
CC t/ffi/longdouble.c
CC t/ffi/memcmp4.c
CC t/ffi/meta.c
CC t/ffi/pointer.c
CC t/ffi/record.c
CC t/ffi/sint16.c
CC t/ffi/sint32.c
CC t/ffi/sint64.c
CC t/ffi/sint8.c
CC t/ffi/string.c
CC t/ffi/string_array.c
CC t/ffi/uint16.c
CC t/ffi/uint32.c
CC t/ffi/uint64.c
CC t/ffi/uint8.c
CC t/ffi/variadic.c
LD t/ffi/libtest.so
PERL_DL_NONLAZY=1 "/home/njh/perl5/perlbrew/perls/perl-5.16.2-thread/bin/perl5.16.2" "-MExtUtils::Command::MM" "-MTest::Harness" "-e" "undef *Test::Harness::Switches; test_harness(0, 'blib/lib', 'blib/arch')" t/*.t
#
#
#
# HARNESS_ACTIVE=1
# HARNESS_OPTIONS=
# HARNESS_VERSION=3.42
# LANG=en_US.UTF-8
# PERL5LIB=/tmp/build/FFI-Platypus-1.10-0/blib/lib:/tmp/build/FFI-Platypus-1.10-0/blib/arch:/tmp/build/constant-1.33-0/blib/arch:/tmp/build/constant-1.33-0/blib/lib:/tmp/build/Alien-Build-2.21-0/blib/arch:/tmp/build/Alien-Build-2.21-0/blib/lib:/tmp/build/ExtUtils-ParseXS-3.35-0/blib/arch:/tmp/build/ExtUtils-ParseXS-3.35-0/blib/lib:/tmp/build/FFI-CheckLib-0.26-0/blib/arch:/tmp/build/FFI-CheckLib-0.26-0/blib/lib:/tmp/build/Test2-Suite-0.000129-0/blib/arch:/tmp/build/Test2-Suite-0.000129-0/blib/lib:/tmp/build/Test-Simple-1.302175-0/blib/arch:/tmp/build/Test-Simple-1.302175-0/blib/lib:/tmp/build/Term-Table-0.015-0/blib/arch:/tmp/build/Term-Table-0.015-0/blib/lib:/tmp/build/Sub-Info-0.002-0/blib/arch:/tmp/build/Sub-Info-0.002-0/blib/lib:/tmp/build/Scope-Guard-0.21-0/blib/arch:/tmp/build/Scope-Guard-0.21-0/blib/lib:/tmp/build/Importer-0.025-0/blib/arch:/tmp/build/Importer-0.025-0/blib/lib:/tmp/build/libwww-perl-6.44-0/blib/arch:/tmp/build/libwww-perl-6.44-0/blib/lib:/tmp/build/Net-IPAM-IP-1.12-0/blib/arch:/tmp/build/Net-IPAM-IP-1.12-0/blib/lib:/tmp/build/Socket-2.029-0/blib/arch:/tmp/build/Socket-2.029-0/blib/lib:/tmp/build/constant-1.33-0/blib/arch:/tmp/build/constant-1.33-0/blib/lib:/tmp/build/Alien-Build-2.21-0/blib/arch:/tmp/build/Alien-Build-2.21-0/blib/lib:/tmp/build/ExtUtils-ParseXS-3.35-0/blib/arch:/tmp/build/ExtUtils-ParseXS-3.35-0/blib/lib:/tmp/build/FFI-CheckLib-0.26-0/blib/arch:/tmp/build/FFI-CheckLib-0.26-0/blib/lib:/tmp/build/Test2-Suite-0.000129-0/blib/arch:/tmp/build/Test2-Suite-0.000129-0/blib/lib:/tmp/build/Test-Simple-1.302175-0/blib/arch:/tmp/build/Test-Simple-1.302175-0/blib/lib:/tmp/build/Term-Table-0.015-0/blib/arch:/tmp/build/Term-Table-0.015-0/blib/lib:/tmp/build/Sub-Info-0.002-0/blib/arch:/tmp/build/Sub-Info-0.002-0/blib/lib:/tmp/build/Scope-Guard-0.21-0/blib/arch:/tmp/build/Scope-Guard-0.21-0/blib/lib:/tmp/build/Importer-0.025-0/blib/arch:/tmp/build/Importer-0.025-0/blib/lib:/tmp/build/libwww-perl-6.44-0/blib/arch:/tmp/build/libwww-perl-6.44-0/blib/lib:/tmp/build/Net-IPAM-IP-1.12-0/blib/arch:/tmp/build/Net-IPAM-IP-1.12-0/blib/lib:/tmp/build/Socket-2.029-0/blib/arch:/tmp/build/Socket-2.029-0/blib/lib
# PERL5OPT=
# PERL5_CPANPLUS_IS_RUNNING=1581208
# PERL5_CPAN_IS_RUNNING=1581208
# PERL5_CPAN_IS_RUNNING_IN_RECURSION=1581191,1581208
# PERLBREW_HOME=/home/njh/.perlbrew
# PERLBREW_MANPATH=/home/njh/perl5/perlbrew/perls/perl-5.16.2-thread/man
# PERLBREW_PATH=/home/njh/perl5/perlbrew/bin:/home/njh/perl5/perlbrew/perls/perl-5.16.2-thread/bin
# PERLBREW_PERL=perl-5.16.2-thread
# PERLBREW_ROOT=/home/njh/perl5/perlbrew
# PERLBREW_SHELLRC_VERSION=0.86
# PERLBREW_VERSION=0.86
# PERL_DL_NONLAZY=1
# PERL_USE_UNSAFE_INC=1
# SHELL=/bin/sh
#
#
#
# PERL5LIB path
# /tmp/build/FFI-Platypus-1.10-0/blib/lib
# /tmp/build/FFI-Platypus-1.10-0/blib/arch
# /tmp/build/constant-1.33-0/blib/arch
# /tmp/build/constant-1.33-0/blib/lib
# /tmp/build/Alien-Build-2.21-0/blib/arch
# /tmp/build/Alien-Build-2.21-0/blib/lib
# /tmp/build/ExtUtils-ParseXS-3.35-0/blib/arch
# /tmp/build/ExtUtils-ParseXS-3.35-0/blib/lib
# /tmp/build/FFI-CheckLib-0.26-0/blib/arch
# /tmp/build/FFI-CheckLib-0.26-0/blib/lib
# /tmp/build/Test2-Suite-0.000129-0/blib/arch
# /tmp/build/Test2-Suite-0.000129-0/blib/lib
# /tmp/build/Test-Simple-1.302175-0/blib/arch
# /tmp/build/Test-Simple-1.302175-0/blib/lib
# /tmp/build/Term-Table-0.015-0/blib/arch
# /tmp/build/Term-Table-0.015-0/blib/lib
# /tmp/build/Sub-Info-0.002-0/blib/arch
# /tmp/build/Sub-Info-0.002-0/blib/lib
# /tmp/build/Scope-Guard-0.21-0/blib/arch
# /tmp/build/Scope-Guard-0.21-0/blib/lib
# /tmp/build/Importer-0.025-0/blib/arch
# /tmp/build/Importer-0.025-0/blib/lib
# /tmp/build/libwww-perl-6.44-0/blib/arch
# /tmp/build/libwww-perl-6.44-0/blib/lib
# /tmp/build/Net-IPAM-IP-1.12-0/blib/arch
# /tmp/build/Net-IPAM-IP-1.12-0/blib/lib
# /tmp/build/Socket-2.029-0/blib/arch
# /tmp/build/Socket-2.029-0/blib/lib
# /tmp/build/constant-1.33-0/blib/arch
# /tmp/build/constant-1.33-0/blib/lib
# /tmp/build/Alien-Build-2.21-0/blib/arch
# /tmp/build/Alien-Build-2.21-0/blib/lib
# /tmp/build/ExtUtils-ParseXS-3.35-0/blib/arch
# /tmp/build/ExtUtils-ParseXS-3.35-0/blib/lib
# /tmp/build/FFI-CheckLib-0.26-0/blib/arch
# /tmp/build/FFI-CheckLib-0.26-0/blib/lib
# /tmp/build/Test2-Suite-0.000129-0/blib/arch
# /tmp/build/Test2-Suite-0.000129-0/blib/lib
# /tmp/build/Test-Simple-1.302175-0/blib/arch
# /tmp/build/Test-Simple-1.302175-0/blib/lib
# /tmp/build/Term-Table-0.015-0/blib/arch
# /tmp/build/Term-Table-0.015-0/blib/lib
# /tmp/build/Sub-Info-0.002-0/blib/arch
# /tmp/build/Sub-Info-0.002-0/blib/lib
# /tmp/build/Scope-Guard-0.21-0/blib/arch
# /tmp/build/Scope-Guard-0.21-0/blib/lib
# /tmp/build/Importer-0.025-0/blib/arch
# /tmp/build/Importer-0.025-0/blib/lib
# /tmp/build/libwww-perl-6.44-0/blib/arch
# /tmp/build/libwww-perl-6.44-0/blib/lib
# /tmp/build/Net-IPAM-IP-1.12-0/blib/arch
# /tmp/build/Net-IPAM-IP-1.12-0/blib/lib
# /tmp/build/Socket-2.029-0/blib/arch
# /tmp/build/Socket-2.029-0/blib/lib
#
#
#
# perl 5.016002
# Alien::Base 2.21
# Capture::Tiny 0.48
# Devel::Hide -
# ExtUtils::CBuilder 0.280206
# ExtUtils::MakeMaker 7.42
# ExtUtils::ParseXS 3.35
# FFI::CheckLib 0.26
# IPC::Cmd 0.76
# JSON::PP 2.27203
# List::Util 1.52
# Math::LongDouble -
# PkgConfig -
# Test::More 1.302175
# constant 1.33
# forks -
#
#
#
# mode : system
# Alien::FFI::pkgconfig->VERSION = undef
# Alien::FFI::pkgconfig->install_type = system
# Alien::FFI::pkgconfig->cflags =
# Alien::FFI::pkgconfig->libs = -lffi
# Alien::FFI::pkgconfig->version = 3.3
#
#
#
# ffi.platypus.memory.strdup_impl =libc
# ffi.platypus.memory.strndup_impl=libc
#
#
#
# Types:
# double : double, float complex
# float : float
# longdouble : double complex, long double, long double complex
# sint16 : int16_t, short, signed short
# sint32 : int, int32_t, senum, signed int, wchar_t
# sint64 : blkcnt_t, blksize_t, int64_t, intptr_t, long, long long, off_t, ptrdiff_t, signed long, signed long long, ssize_t, time_t
# sint8 : char, int8_t, signed char
# uint16 : uint16_t, unsigned short, ushort
# uint32 : enum, gid_t, mode_t, uid_t, uint, uint32_t, unsigned int, wint_t
# uint64 : dev_t, ino_t, nlink_t, size_t, uint64_t, uintptr_t, ulong, unsigned long, unsigned long long
# uint8 : bool, uchar, uint8_t, unsigned char
#
#
#
# ABIs:
# default_abi 2
# efi64 3
# gnuw64 4
# unix64 2
# win64 3
#
#
#
# Probes:
# bigendian64 0
# recordvalue 1
# longdouble 1
# complex 1
# abi 1
# bigendian 0
# alloca 1
# variadic 1
#
#
#
# CPU Info:
# model name : Intel(R) Core(TM)2 Duo CPU E7400 @ 2.80GHz
# flags : fpu vme de pse tsc msr pae mce cx8 apic sep mtrr pge mca cmov pat pse36 clflush dts acpi mmx fxsr sse sse2 ss ht tm pbe syscall nx lm constant_tsc arch_perfmon pebs bts rep_good nopl cpuid aperfmperf pni dtes64 monitor ds_cpl est tm2 ssse3 cx16 xtpr pdcm sse4_1 xsave lahf_lm pti dtherm
# address sizes : 36 bits physical, 48 bits virtual
#
#
#
# No LSB modules are available.
# Distributor ID: Debian
# Description: Debian GNU/Linux bullseye/sid
# Release: testing
# Codename: bullseye
#
#
#
# [PLATFORM]
# osname : linux
# cc : cc
# cxx : c++
# for : ---
# ld : cc
# ccflags : -fPIC -D_REENTRANT -D_GNU_SOURCE -fno-strict-aliasing -pipe -fstack-protector -I/usr/local/include -D_LARGEFILE_SOURCE -D_FILE_OFFSET_BITS=64 -O2 -I/tmp/build/FFI-Platypus-1.10-0/blib/lib/auto/share/dist/FFI-Platypus/include
# ldflags : -shared -O2 -L/usr/local/lib -fstack-protector
# object suffix : .o
# library prefix : lib
# library suffix : .so
# cc mm works : -MM
#
#
#
t/00_diag.t .............................. ok
t/01_use.t ............................... ok
t/ffi_build_file_base.t .................. ok
t/ffi_build_file_c.t ..................... ok
t/ffi_build_file_cxx.t ................... ok
t/ffi_build_file_library.t ............... ok
t/ffi_build_file_object.t ................ ok
t/ffi_build.t ............................ ok
t/ffi_build_platform.t ................... ok
t/ffi_build_mm.t ......................... ok
t/ffi_platypus_api.t ..................... ok
t/ffi_platypus_buffer.t .................. ok
t/ffi_platypus.t ......................... ok
t/ffi_platypus_bundle.t .................. ok
t/ffi_platypus_closure.t ................. ok
t/ffi_platypus_declare.t ................. ok
t/ffi_platypus_constant.t ................ ok
t/ffi_platypus_dl.t ...................... ok
t/ffi_platypus_function.t ................ ok
t/ffi_platypus_function_wrapper.t ........ ok
t/ffi_platypus_internal.t ................ ok
t/ffi_platypus_lang.t .................... ok
t/ffi_platypus_lang_asm.t ................ ok
t/ffi_platypus_lang_c.t .................. ok
t/ffi_platypus_lang_win32.t .............. ok
t/ffi_platypus_legacy.t .................. ok
t/ffi_platypus_memory.t .................. ok
t/ffi_platypus_record_meta.t ............. ok
t/ffi_platypus_record_tiearray.t ......... ok
t/ffi_platypus_shareconfig.t ............. ok
t/ffi_platypus_record.t .................. ok
t/ffi_platypus_type.t .................... ok
t/ffi_platypus_type_pointersizebuffer.t .. ok
t/ffi_platypus_type_stringarray.t ........ ok
t/ffi_platypus_type_stringpointer.t ...... ok
t/ffi_platypus_typeparser.t .............. ok
t/ffi_platypus_typeparser_version0.t ..... ok
t/ffi_platypus_typeparser_version1.t ..... ok
t/ffi_probe_runner.t ..................... ok
t/ffi_probe.t ............................ ok
t/ffi_probe_runner_result.t .............. ok
t/ffi_temp.t ............................. ok
t/ffi_probe_runner_builder.t ............. ok
t/forks.t ................................ skipped: Test requires forks
t/gh117.t ................................ ok
t/gh129.t ................................ ok
t/memory.t ............................... skipped: tested only in CI
t/threads.t .............................. ok
t/type_complex_double.t .................. ok
t/type_custom.t .......................... ok
t/type_complex_float.t ................... ok
t/type_double.t .......................... ok
t/type_float.t ........................... ok
t/type_longdouble__array.t ............... ok
t/type_longdouble.t ...................... ok
t/type_longdouble__hide.t ................ skipped: test requires Devel::Hide 0.0010
t/type_longdouble__ptr.t ................. ok
t/type_opaque.t .......................... ok
t/type_record.t .......................... ok
t/type_record_value.t .................... ok
t/type_sint16.t .......................... ok
t/type_sint32.t .......................... ok
t/type_sint64.t .......................... ok
t/type_sint8.t ........................... ok
t/type_string.t .......................... ok
t/type_uint16.t .......................... ok
t/type_uint32.t .......................... ok
t/type_uint64.t .......................... ok
t/type_uint8.t ........................... ok
All tests successful.
Files=69, Tests=344, 8 wallclock secs ( 0.65 usr 0.13 sys + 11.91 cusr 2.12 csys = 14.81 CPU)
Result: PASS
------------------------------
PREREQUISITES
------------------------------
Prerequisite modules loaded:
requires:
Module Need Have
------------------- -------- --------
Capture::Tiny 0 0.48
constant 1.32 1.33
ExtUtils::MakeMaker 7.12 7.42
FFI::CheckLib 0.05 0.26
IPC::Cmd 0 0.76
JSON::PP 0 2.27203
List::Util 1.45 1.52
perl 5.008001 5.016002
build_requires:
Module Need Have
------------------- -------- --------
Capture::Tiny 0 0.48
ExtUtils::CBuilder 0 0.280206
Test::More 0.98 1.302175
configure_requires:
Module Need Have
------------------- -------- --------
Capture::Tiny 0 0.48
ExtUtils::MakeMaker 7.12 7.42
ExtUtils::ParseXS 3.30 3.35
IPC::Cmd 0 0.76
perl 5.006 5.016002
------------------------------
ENVIRONMENT AND OTHER CONTEXT
------------------------------
Environment variables:
AUTOMATED_TESTING = 1
HARNESS_OPTIONS = j2
LANG = en_US.UTF-8
PATH = /home/njh/perl5/perlbrew/bin:/home/njh/perl5/perlbrew/perls/perl-5.16.2-thread/bin:/home/njh/src/njh/smoker/bin:/usr/bin:/bin
PERL5LIB = /tmp/build/constant-1.33-0/blib/arch:/tmp/build/constant-1.33-0/blib/lib:/tmp/build/Alien-Build-2.21-0/blib/arch:/tmp/build/Alien-Build-2.21-0/blib/lib:/tmp/build/ExtUtils-ParseXS-3.35-0/blib/arch:/tmp/build/ExtUtils-ParseXS-3.35-0/blib/lib:/tmp/build/FFI-CheckLib-0.26-0/blib/arch:/tmp/build/FFI-CheckLib-0.26-0/blib/lib:/tmp/build/Test2-Suite-0.000129-0/blib/arch:/tmp/build/Test2-Suite-0.000129-0/blib/lib:/tmp/build/Test-Simple-1.302175-0/blib/arch:/tmp/build/Test-Simple-1.302175-0/blib/lib:/tmp/build/Term-Table-0.015-0/blib/arch:/tmp/build/Term-Table-0.015-0/blib/lib:/tmp/build/Sub-Info-0.002-0/blib/arch:/tmp/build/Sub-Info-0.002-0/blib/lib:/tmp/build/Scope-Guard-0.21-0/blib/arch:/tmp/build/Scope-Guard-0.21-0/blib/lib:/tmp/build/Importer-0.025-0/blib/arch:/tmp/build/Importer-0.025-0/blib/lib:/tmp/build/libwww-perl-6.44-0/blib/arch:/tmp/build/libwww-perl-6.44-0/blib/lib:/tmp/build/Net-IPAM-IP-1.12-0/blib/arch:/tmp/build/Net-IPAM-IP-1.12-0/blib/lib:/tmp/build/Socket-2.029-0/blib/arch:/tmp/build/Socket-2.029-0/blib/lib
PERL5OPT =
PERL5_CPANPLUS_IS_RUNNING = 1581208
PERL5_CPAN_IS_RUNNING = 1581208
PERL5_CPAN_IS_RUNNING_IN_RECURSION = 1581191,1581208
PERLBREW_HOME = /home/njh/.perlbrew
PERLBREW_MANPATH = /home/njh/perl5/perlbrew/perls/perl-5.16.2-thread/man
PERLBREW_PATH = /home/njh/perl5/perlbrew/bin:/home/njh/perl5/perlbrew/perls/perl-5.16.2-thread/bin
PERLBREW_PERL = perl-5.16.2-thread
PERLBREW_ROOT = /home/njh/perl5/perlbrew
PERLBREW_SHELLRC_VERSION = 0.86
PERLBREW_VERSION = 0.86
PERL_USE_UNSAFE_INC = 1
SHELL = /bin/sh
TEMP = /tmp/user/1000
TMPDIR = /tmp/user/1000/testwrapper.1581194
Perl special variables (and OS-specific diagnostics, for MSWin32):
$^X = /home/njh/perl5/perlbrew/perls/perl-5.16.2-thread/bin/perl5.16.2
$UID/$EUID = 1000 / 1000
$GID = 1000 4 24 25 29 30 44 46 103 108 115 123 996 1000
$EGID = 1000 4 24 25 29 30 44 46 103 108 115 123 996 1000
Perl module toolchain versions installed:
Module Have
------------------- --------
CPAN 2.25
CPAN::Meta 2.143240
Cwd 3.39_02
ExtUtils::CBuilder 0.280206
ExtUtils::Command 7.42
ExtUtils::Install 2.06
ExtUtils::MakeMaker 7.42
ExtUtils::Manifest 1.70
ExtUtils::ParseXS 3.35
File::Spec 3.39_02
JSON 4.02
JSON::PP 2.27203
Module::Build 0.4229
Module::Signature n/a
Parse::CPAN::Meta 1.4414
Test::Harness 3.42
Test::More 1.302175
YAML 1.30
YAML::Syck 1.32
version 0.99
--
Summary of my perl5 (revision 5 version 16 subversion 2) configuration:
Platform:
osname=linux, osvers=4.16.0-2-amd64, archname=x86_64-linux-thread-multi
uname='linux amelia 4.16.0-2-amd64 #1 smp debian 4.16.16-2 (2018-06-22) x86_64 gnulinux '
config_args='-de -Dprefix=/home/njh/perl5/perlbrew/perls/perl-5.16.2-thread -Dusedevel -Dusethreads -Accflags= -Aeval:scriptdir=/home/njh/perl5/perlbrew/perls/perl-5.16.2-thread/bin'
hint=recommended, useposix=true, d_sigaction=define
useithreads=define, usemultiplicity=define
useperlio=define, d_sfio=undef, uselargefiles=define, usesocks=undef
use64bitint=define, use64bitall=define, uselongdouble=undef
usemymalloc=n, bincompat5005=undef
Compiler:
cc='cc', ccflags ='-D_REENTRANT -D_GNU_SOURCE -fno-strict-aliasing -pipe -fstack-protector -I/usr/local/include -D_LARGEFILE_SOURCE -D_FILE_OFFSET_BITS=64',
optimize='-O2',
cppflags='-D_REENTRANT -D_GNU_SOURCE -fno-strict-aliasing -pipe -fstack-protector -I/usr/local/include'
ccversion='', gccversion='8.2.0', gccosandvers=''
intsize=4, longsize=8, ptrsize=8, doublesize=8, byteorder=12345678
d_longlong=define, longlongsize=8, d_longdbl=define, longdblsize=16
ivtype='long', ivsize=8, nvtype='double', nvsize=8, Off_t='off_t', lseeksize=8
alignbytes=8, prototype=define
Linker and Libraries:
ld='cc', ldflags =' -fstack-protector -L/usr/local/lib'
libpth=/usr/local/lib /lib/x86_64-linux-gnu /lib/../lib /usr/lib/x86_64-linux-gnu /usr/lib/../lib /lib /usr/lib /lib64 /usr/lib64
libs=-lnsl -lgdbm -ldb -ldl -lm -lcrypt -lutil -lpthread -lc
perllibs=-lnsl -ldl -lm -lcrypt -lutil -lpthread -lc
libc=libc-2.27.so, so=so, useshrplib=false, libperl=libperl.a
gnulibc_version='2.27'
Dynamic Linking:
dlsrc=dl_dlopen.xs, dlext=so, d_dlsymun=undef, ccdlflags='-Wl,-E'
cccdlflags='-fPIC', lddlflags='-shared -O2 -L/usr/local/lib -fstack-protector'
Characteristics of this binary (from libperl):
Compile-time options: HAS_TIMES MULTIPLICITY PERLIO_LAYERS
PERL_DONT_CREATE_GVSV PERL_IMPLICIT_CONTEXT
PERL_MALLOC_WRAP PERL_PRESERVE_IVUV PERL_USE_DEVEL
USE_64_BIT_ALL USE_64_BIT_INT USE_ITHREADS
USE_LARGE_FILES USE_LOCALE USE_LOCALE_COLLATE
USE_LOCALE_CTYPE USE_LOCALE_NUMERIC USE_PERLIO
USE_PERL_ATOF USE_REENTRANT_API
Locally applied patches:
Devel::PatchPerl 1.48
Built under linux
Compiled at Oct 9 2018 01:57:20
%ENV:
PERL5LIB="/tmp/build/constant-1.33-0/blib/arch:/tmp/build/constant-1.33-0/blib/lib:/tmp/build/Alien-Build-2.21-0/blib/arch:/tmp/build/Alien-Build-2.21-0/blib/lib:/tmp/build/ExtUtils-ParseXS-3.35-0/blib/arch:/tmp/build/ExtUtils-ParseXS-3.35-0/blib/lib:/tmp/build/FFI-CheckLib-0.26-0/blib/arch:/tmp/build/FFI-CheckLib-0.26-0/blib/lib:/tmp/build/Test2-Suite-0.000129-0/blib/arch:/tmp/build/Test2-Suite-0.000129-0/blib/lib:/tmp/build/Test-Simple-1.302175-0/blib/arch:/tmp/build/Test-Simple-1.302175-0/blib/lib:/tmp/build/Term-Table-0.015-0/blib/arch:/tmp/build/Term-Table-0.015-0/blib/lib:/tmp/build/Sub-Info-0.002-0/blib/arch:/tmp/build/Sub-Info-0.002-0/blib/lib:/tmp/build/Scope-Guard-0.21-0/blib/arch:/tmp/build/Scope-Guard-0.21-0/blib/lib:/tmp/build/Importer-0.025-0/blib/arch:/tmp/build/Importer-0.025-0/blib/lib:/tmp/build/libwww-perl-6.44-0/blib/arch:/tmp/build/libwww-perl-6.44-0/blib/lib:/tmp/build/Net-IPAM-IP-1.12-0/blib/arch:/tmp/build/Net-IPAM-IP-1.12-0/blib/lib:/tmp/build/Socket-2.029-0/blib/arch:/tmp/build/Socket-2.029-0/blib/lib"
PERL5OPT=""
PERL5_CPANPLUS_IS_RUNNING="1581208"
PERL5_CPAN_IS_RUNNING="1581208"
PERL5_CPAN_IS_RUNNING_IN_RECURSION="1581191,1581208"
PERLBREW_HOME="/home/njh/.perlbrew"
PERLBREW_MANPATH="/home/njh/perl5/perlbrew/perls/perl-5.16.2-thread/man"
PERLBREW_PATH="/home/njh/perl5/perlbrew/bin:/home/njh/perl5/perlbrew/perls/perl-5.16.2-thread/bin"
PERLBREW_PERL="perl-5.16.2-thread"
PERLBREW_ROOT="/home/njh/perl5/perlbrew"
PERLBREW_SHELLRC_VERSION="0.86"
PERLBREW_VERSION="0.86"
PERL_USE_UNSAFE_INC="1"
@INC:
/tmp/build/constant-1.33-0/blib/arch
/tmp/build/constant-1.33-0/blib/lib
/tmp/build/Alien-Build-2.21-0/blib/arch
/tmp/build/Alien-Build-2.21-0/blib/lib
/tmp/build/ExtUtils-ParseXS-3.35-0/blib/arch
/tmp/build/ExtUtils-ParseXS-3.35-0/blib/lib
/tmp/build/FFI-CheckLib-0.26-0/blib/arch
/tmp/build/FFI-CheckLib-0.26-0/blib/lib
/tmp/build/Test2-Suite-0.000129-0/blib/arch
/tmp/build/Test2-Suite-0.000129-0/blib/lib
/tmp/build/Test-Simple-1.302175-0/blib/arch
/tmp/build/Test-Simple-1.302175-0/blib/lib
/tmp/build/Term-Table-0.015-0/blib/arch
/tmp/build/Term-Table-0.015-0/blib/lib
/tmp/build/Sub-Info-0.002-0/blib/arch
/tmp/build/Sub-Info-0.002-0/blib/lib
/tmp/build/Scope-Guard-0.21-0/blib/arch
/tmp/build/Scope-Guard-0.21-0/blib/lib
/tmp/build/Importer-0.025-0/blib/arch
/tmp/build/Importer-0.025-0/blib/lib
/tmp/build/libwww-perl-6.44-0/blib/arch
/tmp/build/libwww-perl-6.44-0/blib/lib
/tmp/build/Net-IPAM-IP-1.12-0/blib/arch
/tmp/build/Net-IPAM-IP-1.12-0/blib/lib
/tmp/build/Socket-2.029-0/blib/arch
/tmp/build/Socket-2.029-0/blib/lib
/home/njh/perl5/perlbrew/perls/perl-5.16.2-thread/lib/site_perl/5.16.2/x86_64-linux-thread-multi
/home/njh/perl5/perlbrew/perls/perl-5.16.2-thread/lib/site_perl/5.16.2
/home/njh/perl5/perlbrew/perls/perl-5.16.2-thread/lib/5.16.2/x86_64-linux-thread-multi
/home/njh/perl5/perlbrew/perls/perl-5.16.2-thread/lib/5.16.2
.