CHI v0.61 Perl 5 v5.10.1 MSWin32-x86-multi-thread
- Status
- Pass
- From
- NONAME
- Dist
-
CHI v0.61
- Platform
- Perl 5 v5.10.1 MSWin32-x86-multi-thread
- Date
- 2021-10-15 20:04:32
- ID
- 1af763f3-6d00-1014-af10-6c18032c038b
This distribution has been tested as part of the CPAN Testers
project, supporting the Perl programming language. See
http://wiki.cpantesters.org/ for more information or email
questions to cpan-testers-discuss@perl.org
--
Dear ASB,
This is a computer-generated report for CHI-0.61
on perl 5.10.1, created by App::cpanminus::reporter 0.17 (1.7042).
Thank you for uploading your work to CPAN. Congratulations!
All tests were successful.
Sections of this report:
* Tester comments
* Program output
* Prerequisites
* Environment and other context
------------------------------
TESTER COMMENTS
------------------------------
Additional comments from tester:
none provided
------------------------------
PROGRAM OUTPUT
------------------------------
Output from '':
Building and testing CHI-0.61
cp lib/CHI/Serializer/JSON.pm blib\lib\CHI\Serializer\JSON.pm
cp lib/CHI/Driver/Role/IsSizeAware.pm blib\lib\CHI\Driver\Role\IsSizeAware.pm
cp lib/CHI/Stats.pm blib\lib\CHI\Stats.pm
cp lib/CHI/Serializer/Storable.pm blib\lib\CHI\Serializer\Storable.pm
cp lib/CHI.pm blib\lib\CHI.pm
cp lib/CHI/Constants.pm blib\lib\CHI\Constants.pm
cp lib/CHI/Driver/Development.pod blib\lib\CHI\Driver\Development.pod
cp lib/CHI/Driver/RawMemory.pm blib\lib\CHI\Driver\RawMemory.pm
cp lib/CHI/CacheObject.pm blib\lib\CHI\CacheObject.pm
cp lib/CHI/Driver/Role/Universal.pm blib\lib\CHI\Driver\Role\Universal.pm
cp lib/CHI/Driver/File.pm blib\lib\CHI\Driver\File.pm
cp lib/CHI/Driver/Null.pm blib\lib\CHI\Driver\Null.pm
cp lib/CHI/Driver/Role/IsSubcache.pm blib\lib\CHI\Driver\Role\IsSubcache.pm
cp lib/CHI/Driver/Metacache.pm blib\lib\CHI\Driver\Metacache.pm
cp lib/CHI/Driver/Base/CacheContainer.pm blib\lib\CHI\Driver\Base\CacheContainer.pm
cp lib/CHI/Driver/Memory.pm blib\lib\CHI\Driver\Memory.pm
cp lib/CHI/Driver/Role/HasSubcaches.pm blib\lib\CHI\Driver\Role\HasSubcaches.pm
cp lib/CHI/Driver/CacheCache.pm blib\lib\CHI\Driver\CacheCache.pm
cp lib/CHI/Benchmarks.pod blib\lib\CHI\Benchmarks.pod
cp lib/CHI/Driver/FastMmap.pm blib\lib\CHI\Driver\FastMmap.pm
cp lib/CHI/Driver.pm blib\lib\CHI\Driver.pm
cp lib/CHI/t/Driver/FastMmap.pm blib\lib\CHI\t\Driver\FastMmap.pm
cp lib/CHI/Test/Driver/NonMoose.pm blib\lib\CHI\Test\Driver\NonMoose.pm
cp lib/CHI/t/Driver/CacheCache.pm blib\lib\CHI\t\Driver\CacheCache.pm
cp lib/CHI/Test/Driver/Role/CheckKeyValidity.pm blib\lib\CHI\Test\Driver\Role\CheckKeyValidity.pm
cp lib/CHI/Util.pm blib\lib\CHI\Util.pm
cp lib/CHI/t/Driver/Memory.pm blib\lib\CHI\t\Driver\Memory.pm
cp lib/CHI/Types.pm blib\lib\CHI\Types.pm
cp lib/CHI/t/Config.pm blib\lib\CHI\t\Config.pm
cp lib/CHI/Test.pm blib\lib\CHI\Test.pm
cp lib/CHI/t/Driver/Subcache.pm blib\lib\CHI\t\Driver\Subcache.pm
cp lib/CHI/t/Driver/NonMoose.pm blib\lib\CHI\t\Driver\NonMoose.pm
cp lib/CHI/t/Driver/File/DepthZero.pm blib\lib\CHI\t\Driver\File\DepthZero.pm
cp lib/CHI/t/Constants.pm blib\lib\CHI\t\Constants.pm
cp lib/CHI/t/Bugs.pm blib\lib\CHI\t\Bugs.pm
cp lib/CHI/t/Driver.pm blib\lib\CHI\t\Driver.pm
cp lib/CHI/Test/Class.pm blib\lib\CHI\Test\Class.pm
cp lib/CHI/t/Driver/File.pm blib\lib\CHI\t\Driver\File.pm
cp lib/CHI/Test/Driver/Writeonly.pm blib\lib\CHI\Test\Driver\Writeonly.pm
cp lib/CHI/t/Driver/RawMemory.pm blib\lib\CHI\t\Driver\RawMemory.pm
cp lib/CHI/Test/Util.pm blib\lib\CHI\Test\Util.pm
cp lib/CHI/Test/Driver/Readonly.pm blib\lib\CHI\Test\Driver\Readonly.pm
cp lib/CHI/t/Sanity.pm blib\lib\CHI\t\Sanity.pm
cp lib/CHI/t/Util.pm blib\lib\CHI\t\Util.pm
cp lib/CHI/t/Subcache.pm blib\lib\CHI\t\Subcache.pm
cp lib/CHI/t/SetError.pm blib\lib\CHI\t\SetError.pm
cp lib/CHI/t/RequiredModules.pm blib\lib\CHI\t\RequiredModules.pm
cp lib/CHI/t/GetError.pm blib\lib\CHI\t\GetError.pm
cp lib/CHI/t/Driver/Subcache/l1_cache.pm blib\lib\CHI\t\Driver\Subcache\l1_cache.pm
cp lib/CHI/t/Driver/Subcache/mirror_cache.pm blib\lib\CHI\t\Driver\Subcache\mirror_cache.pm
cp lib/CHI/t/Initialize.pm blib\lib\CHI\t\Initialize.pm
cp lib/CHI/t/Subclass.pm blib\lib\CHI\t\Subclass.pm
cp lib/CHI/t/Null.pm blib\lib\CHI\t\Null.pm
C:\"Strawberry\perl\bin\perl.exe" "-MExtUtils::Command::MM" "-MTest::Harness" "-e" "undef *Test::Harness::Switches; test_harness(0, 'blib\lib', 'blib\arch')" t/*.t
# Testing CHI 0.61, Perl 5.010001, C:\Strawberry\perl\bin\perl.exe
t/00-load.t ............................. ok
t/author-03-pod.t ....................... skipped: these tests are for testing by the author
t/author-file-driver.t .................. skipped: these tests are for testing by the author
t/author-no-data-serializer.t ........... skipped: these tests are for testing by the author
t/author-RequiredModules.t .............. skipped: these tests are for testing by the author
t/Bugs.t ................................ ok
t/Config.t .............................. ok
t/Constants.t ........................... ok
t/Driver-Memory.t ....................... ok
t/Driver-RawMemory.t .................... ok
t/GetError.t ............................ ok
t/Initialize.t .......................... ok
t/release-dependent.t ................... skipped: these tests are for release candidate testing
t/Sanity.t .............................. ok
t/SetError.t ............................ ok
t/smoke-Driver-CacheCache.t ............. skipped: these tests are for "smoke bot" testing
t/smoke-Driver-FastMmap.t ............... skipped: these tests are for "smoke bot" testing
t/smoke-Driver-File-DepthZero.t ......... skipped: these tests are for "smoke bot" testing
t/smoke-Driver-File.t ................... skipped: these tests are for "smoke bot" testing
t/smoke-Driver-NonMoose.t ............... skipped: these tests are for "smoke bot" testing
t/smoke-Driver-Subcache-l1_cache.t ...... skipped: these tests are for "smoke bot" testing
t/smoke-Driver-Subcache-mirror_cache.t .. skipped: these tests are for "smoke bot" testing
t/smoke-Null.t .......................... skipped: these tests are for "smoke bot" testing
t/Subcache.t ............................ ok
t/Subclass.t ............................ ok
t/Util.t ................................ ok
All tests successful.
Files=26, Tests=1787, 13 wallclock secs ( 0.69 usr + 0.11 sys = 0.80 CPU)
Result: PASS
------------------------------
PREREQUISITES
------------------------------
Prerequisite modules loaded:
No requirements found
------------------------------
ENVIRONMENT AND OTHER CONTEXT
------------------------------
Environment variables:
COMSPEC = C:\windows\system32\cmd.exe
NUMBER_OF_PROCESSORS = 4
PATH = C:\home\tennis\perl5\bin;C:\windows\system32;C:\windows;C:\windows\System32\Wbem;C:\windows\System32\WindowsPowerShell\v1.0\;C:\Strawberry\c\bin;C:\Strawberry\perl\site\bin;C:\Strawberry\perl\bin
PERL5LIB = C:\home\tennis\perl5\lib\perl5
PERL_LOCAL_LIB_ROOT = C:\home\tennis\perl5
PERL_MB_OPT = --install_base "C:\\home\\tennis\\perl5"
PERL_MM_OPT = INSTALL_BASE=C:\\home\\tennis\\perl5
PROCESSOR_IDENTIFIER = x86 Family 6 Model 37 Stepping 5, GenuineIntel
TEMP = C:\Users\user\AppData\Local\Temp
TERM = dumb
Perl special variables (and OS-specific diagnostics, for MSWin32):
EGID = 0
EUID = 0
EXECUTABLE_NAME = C:\Strawberry\perl\bin\perl.exe
GID = 0
UID = 0
Win32::FsType = NTFS
Win32::GetOSName = Win7
Win32::GetOSVersion = Service Pack 1, 6, 1, 7601, 2, 1, 0, 256, 1
Win32::IsAdminUser = 0
Perl module toolchain versions installed:
Module Have
------------------- --------
CPAN 1.9600
CPAN::Meta 2.150010
Cwd 3.62
ExtUtils::CBuilder 0.280224
ExtUtils::Command 7.63_05
ExtUtils::Install 2.14
ExtUtils::MakeMaker 7.63_05
ExtUtils::Manifest 1.70
ExtUtils::ParseXS 3.30
File::Spec 3.62
JSON 2.94
JSON::PP 2.97001
Module::Build 0.42_28
Module::Signature 0.66
Parse::CPAN::Meta 2.150010
Test::Harness 3.36
Test::More 1.302188
YAML 1.26
YAML::Syck n/a
version 0.9924
--
Summary of my perl5 (revision 5 version 10 subversion 1) configuration:
Platform:
osname=MSWin32, osvers=5.1, archname=MSWin32-x86-multi-thread
uname='Win32 strawberryperl 5.10.1.5 #1 Sun May 15 09:44:53 2011 i386'
config_args='undef'
hint=recommended, useposix=true, d_sigaction=undef
useithreads=define, usemultiplicity=define
useperlio=define, d_sfio=undef, uselargefiles=define, usesocks=undef
use64bitint=undef, use64bitall=undef, uselongdouble=undef
usemymalloc=n, bincompat5005=undef
Compiler:
cc='gcc', ccflags =' -s -O2 -DWIN32 -DHAVE_DES_FCRYPT -DUSE_SITECUSTOMIZE -DPERL_IMPLICIT_CONTEXT -DPERL_IMPLICIT_SYS -fno-strict-aliasing -DPERL_MSVCRT_READFIX',
optimize='-s -O2',
cppflags='-DWIN32'
ccversion='', gccversion='3.4.5', gccosandvers=''
intsize=4, longsize=4, ptrsize=4, doublesize=8, byteorder=1234
d_longlong=undef, longlongsize=8, d_longdbl=define, longdblsize=12
ivtype='long', ivsize=4, nvtype='double', nvsize=8, Off_t='long long', lseeksize=8
alignbytes=8, prototype=define
Linker and Libraries:
ld='g++', ldflags ='-s -L"C:\strawberry\perl\lib\CORE" -L"C:\strawberry\c\lib"'
libpth=C:\strawberry\c\lib
libs= -lmoldname -lkernel32 -luser32 -lgdi32 -lwinspool -lcomdlg32 -ladvapi32 -lshell32 -lole32 -loleaut32 -lnetapi32 -luuid -lws2_32 -lmpr -lwinmm -lversion -lodbc32 -lodbccp32
perllibs= -lmoldname -lkernel32 -luser32 -lgdi32 -lwinspool -lcomdlg32 -ladvapi32 -lshell32 -lole32 -loleaut32 -lnetapi32 -luuid -lws2_32 -lmpr -lwinmm -lversion -lodbc32 -lodbccp32
libc=, so=dll, useshrplib=true, libperl=libperl510.a
gnulibc_version=''
Dynamic Linking:
dlsrc=dl_win32.xs, dlext=dll, d_dlsymun=undef, ccdlflags=' '
cccdlflags=' ', lddlflags='-mdll -s -L"C:\strawberry\perl\lib\CORE" -L"C:\strawberry\c\lib"'
Characteristics of this binary (from libperl):
Compile-time options: MULTIPLICITY PERL_DONT_CREATE_GVSV
PERL_IMPLICIT_CONTEXT PERL_IMPLICIT_SYS
PERL_MALLOC_WRAP PL_OP_SLAB_ALLOC USE_ITHREADS
USE_LARGE_FILES USE_PERLIO USE_SITECUSTOMIZE
Built under MSWin32
Compiled at May 15 2011 09:50:23
%ENV:
PERL5LIB="C:\home\tennis\perl5\lib\perl5"
PERL_LOCAL_LIB_ROOT="C:\home\tennis\perl5"
PERL_MB_OPT="--install_base "C:\\home\\tennis\\perl5""
PERL_MM_OPT="INSTALL_BASE=C:\\home\\tennis\\perl5"
@INC:
C:\home\tennis\perl5\lib\perl5/MSWin32-x86-multi-thread
C:\home\tennis\perl5\lib\perl5
C:/Strawberry/perl/lib
C:/Strawberry/perl/site/lib
C:\strawberry\perl\vendor\lib
.