Task-BeLike-GEEKRUTH v1.0000 Perl 5 v5.35.11 x86_64-linux-thread-multi-ld

Status
Pass
From
Andreas J. König (ANDK)
Dist
Task-BeLike-GEEKRUTH v1.0000
Platform
Perl 5 v5.35.11 x86_64-linux-thread-multi-ld
Date
2022-05-21 04:47:22
ID
1aa4a540-d8c1-11ec-bb66-1ae0dd195665
This distribution has been tested as part of the CPAN Testers
project, supporting the Perl programming language.  See
http://wiki.cpantesters.org/ for more information or email
questions to cpan-testers-discuss@perl.org


--
Dear D Ruth Holloway,

This is a computer-generated report for Task-BeLike-GEEKRUTH-1.0000
on perl 5.35.11, created by CPAN-Reporter-1.2018.

Thank you for uploading your work to CPAN.  Congratulations!
All tests were successful.

Sections of this report:

    * Tester comments
    * Program output
    * Prerequisites
    * Environment and other context

------------------------------
TESTER COMMENTS
------------------------------

Additional comments from tester:

this report is from an automated smoke testing program
and was not reviewed by a human for accuracy

------------------------------
PROGRAM OUTPUT
------------------------------

Output from '/usr/bin/make test':

PERL_DL_NONLAZY=1 "/tmp/basesmoker-reloperl-OYtS/bin/perl" "-MExtUtils::Command::MM" "-MTest::Harness" "-e" "undef *Test::Harness::Switches; test_harness(0, 'blib/lib', 'blib/arch')" t/*.t
t/00-compile.t ......... ok
t/00-placeholder.t ..... ok
# 
# Versions for all modules listed in MYMETA.json (including optional ones):
# 
# === Configure Requires ===
# 
#     Module              Want Have
#     ------------------- ---- ----
#     ExtUtils::MakeMaker  any 7.64
# 
# === Build Requires ===
# 
#     Module              Want Have
#     ------------------- ---- ----
#     ExtUtils::MakeMaker  any 7.64
# 
# === Test Requires ===
# 
#     Module              Want     Have
#     ------------------- ---- --------
#     ExtUtils::MakeMaker  any     7.64
#     File::Spec           any     3.84
#     IO::Handle           any     1.48
#     IPC::Open3           any     1.22
#     Test2::V0            any 0.000145
#     Test::More           any 1.302190
#     strict               any     1.12
#     warnings             any     1.58
# 
# === Test Recommends ===
# 
#     Module         Want     Have
#     ---------- -------- --------
#     CPAN::Meta 2.120900 2.150010
# 
# === Runtime Requires ===
# 
#     Module                                                   Want       Have
#     -------------------------------------------------------- ---- ----------
#     App::cpanminus                                            any     1.7046
#     App::perlbrew                                             any       0.95
#     Code::TidyAll                                             any       0.82
#     Code::TidyAll::Plugin::Test::Vars                         any       0.04
#     Cpanel::JSON::XS                                          any       4.28
#     DBIx::Class                                               any   0.082843
#     DBIx::Class::Helpers                                      any   2.036000
#     DBIx::Class::Schema::ResultSetNames                       any       1.03
#     Dancer2                                                   any   0.400000
#     Dancer2::Plugin::Ajax                                     any   0.400000
#     Dancer2::Plugin::Auth::Extensible                         any      0.710
#     Dancer2::Plugin::Auth::Extensible::Provider::DBIC         any      0.624
#     Dancer2::Plugin::Auth::Extensible::Provider::DBIx::Class  any    missing
#     Dancer2::Plugin::Cache::CHI                               any      2.0.0
#     Dancer2::Plugin::DBIC                                     any     0.0100
#     Dancer2::Plugin::DBIx::Class                              any       1.06
#     Dancer2::Plugin::Growler                                  any       0.03
#     Dancer2::Plugin::Minify                                   any      0.002
#     Dancer2::Plugin::REST                                     any       1.02
#     Dancer2::Template::Handlebars                             any       1.00
#     Devel::Local                                              any       0.22
#     Dist::Zilla                                               any      6.024
#     Dist::Zilla::App::Command::cover                          any   1.101001
#     Dist::Zilla::App::Command::critic                         any   0.001011
#     Dist::Zilla::App::Command::dumpphases                     any   1.000009
#     Dist::Zilla::App::Command::lsplugins                      any   0.003001
#     Dist::Zilla::PluginBundle::Author::GEEKRUTH               any     1.0200
#     File::Path                                                any       2.18
#     Modern::Perl                                              any 1.20220515
#     Moo                                                       any   2.005004
#     OrePAN2                                                   any       0.48
#     PLS                                                       any      0.899
#     Perl::Critic                                              any      1.140
#     Perl::Critic::Bangs                                       any       1.12
#     Perl::Critic::Community                                   any     v1.0.2
#     Perl::Critic::Dancer2                                     any    missing
#     Perl::Critic::StricterSubs                                any       0.06
#     Perl::Critic::TooMuchCode                                 any       0.18
#     Perl::Tidy                                                any   20220217
#     Pod::Coverage::TrustPod                                   any   0.100005
#     Try::Tiny                                                 any       0.31
#     YAML::Tiny                                                any       1.73
#     autodie                                                   any       2.34
# 
# 
# *** WARNING WARNING WARNING WARNING WARNING WARNING WARNING WARNING ***
# 
# The following REQUIRED prerequisites were not satisfied:
# 
# Dancer2::Plugin::Auth::Extensible::Provider::DBIx::Class is not installed (any version required)
# Perl::Critic::Dancer2 is not installed (any version required)
# 
t/00-report-prereqs.t .. ok
t/placeholder.t ........ ok
All tests successful.
Files=4, Tests=4,  1 wallclock secs ( 0.03 usr  0.02 sys +  0.39 cusr  0.15 csys =  0.59 CPU)
Result: PASS

------------------------------
PREREQUISITES
------------------------------

Prerequisite modules loaded:

requires:

    Module                                                   Need  Have      
    -------------------------------------------------------- ----- ----------
    App::cpanminus                                           0     1.7046    
    App::perlbrew                                            0     0.95      
    autodie                                                  0     2.34      
    Code::TidyAll                                            0     0.82      
    Code::TidyAll::Plugin::Test::Vars                        0     0.04      
    Cpanel::JSON::XS                                         0     4.28      
    Dancer2                                                  0     0.400000  
    Dancer2::Plugin::Ajax                                    0     0.400000  
    Dancer2::Plugin::Auth::Extensible                        0     0.710     
    Dancer2::Plugin::Auth::Extensible::Provider::DBIC        0     0.624     
  ! Dancer2::Plugin::Auth::Extensible::Provider::DBIx::Class 0     n/a       
    Dancer2::Plugin::Cache::CHI                              0     2.0.0     
    Dancer2::Plugin::DBIC                                    0     0.0100    
    Dancer2::Plugin::DBIx::Class                             0     1.06      
    Dancer2::Plugin::Growler                                 0     0.03      
    Dancer2::Plugin::Minify                                  0     0.002     
    Dancer2::Plugin::REST                                    0     1.02      
    Dancer2::Template::Handlebars                            0     1.00      
    DBIx::Class                                              0     0.082843  
    DBIx::Class::Helpers                                     0     2.036000  
    DBIx::Class::Schema::ResultSetNames                      0     1.03      
    Devel::Local                                             0     0.22      
    Dist::Zilla                                              0     6.024     
    Dist::Zilla::App::Command::cover                         0     1.101001  
    Dist::Zilla::App::Command::critic                        0     0.001011  
    Dist::Zilla::App::Command::dumpphases                    0     1.000009  
    Dist::Zilla::App::Command::lsplugins                     0     0.003001  
    Dist::Zilla::PluginBundle::Author::GEEKRUTH              0     1.0200    
    File::Path                                               0     2.18      
    Modern::Perl                                             0     1.20220515
    Moo                                                      0     2.005004  
    OrePAN2                                                  0     0.48      
    perl                                                     5.006 5.035011  
    Perl::Critic                                             0     1.140     
    Perl::Critic::Bangs                                      0     1.12      
    Perl::Critic::Community                                  0     v1.0.2    
  ! Perl::Critic::Dancer2                                    0     n/a       
    Perl::Critic::StricterSubs                               0     0.06      
    Perl::Critic::TooMuchCode                                0     0.18      
    Perl::Tidy                                               0     20220217  
    PLS                                                      0     0.899     
    Pod::Coverage::TrustPod                                  0     0.100005  
    Try::Tiny                                                0     0.31      
    YAML::Tiny                                               0     1.73      

build_requires:

    Module                                                   Need  Have      
    -------------------------------------------------------- ----- ----------
    ExtUtils::MakeMaker                                      0     7.64      
    File::Spec                                               0     3.84      
    IO::Handle                                               0     1.48      
    IPC::Open3                                               0     1.22      
    strict                                                   0     1.12      
    Test2::V0                                                0     0.000145  
    Test::More                                               0     1.302190  
    warnings                                                 0     1.58      

configure_requires:

    Module                                                   Need  Have      
    -------------------------------------------------------- ----- ----------
    ExtUtils::MakeMaker                                      0     7.64      
    perl                                                     5.006 5.035011  


------------------------------
ENVIRONMENT AND OTHER CONTEXT
------------------------------

Environment variables:

    AUTOMATED_TESTING = 1
    LANG = en_US.utf8
    PATH = /home/sand/bin:/usr/local/bin:/usr/local/sbin:/usr/sbin:/usr/bin:/sbin:/bin:/usr/games:/usr/local/games:/snap/bin:/usr/local/perl/bin:/usr/X11/bin
    PERL5LIB = /tmp/loop_over_bdir-512327-lYMp_v/Net-Async-WebService-lxd-0.02-0/blib/arch:/tmp/loop_over_bdir-512327-lYMp_v/Net-Async-WebService-lxd-0.02-0/blib/lib:/tmp/loop_over_bdir-512327-lYMp_v/CORBA-Python-2.66-0/blib/arch:/tmp/loop_over_bdir-512327-lYMp_v/CORBA-Python-2.66-0/blib/lib:/tmp/loop_over_bdir-512327-lYMp_v/dta-tokwrap-0.98-0/blib/arch:/tmp/loop_over_bdir-512327-lYMp_v/dta-tokwrap-0.98-0/blib/lib:/tmp/loop_over_bdir-512327-lYMp_v/MP3-PodcastFetch-1.05-0/blib/arch:/tmp/loop_over_bdir-512327-lYMp_v/MP3-PodcastFetch-1.05-0/blib/lib:/tmp/loop_over_bdir-512327-lYMp_v/Dpkg-1.21.5-0/blib/arch:/tmp/loop_over_bdir-512327-lYMp_v/Dpkg-1.21.5-0/blib/lib:/tmp/loop_over_bdir-512327-lYMp_v/RDF-NLP-SPARQLQuery-0.1-0/blib/arch:/tmp/loop_over_bdir-512327-lYMp_v/RDF-NLP-SPARQLQuery-0.1-0/blib/lib:/tmp/loop_over_bdir-512327-lYMp_v/Lingua-BioYaTeA-0.11-0/blib/arch:/tmp/loop_over_bdir-512327-lYMp_v/Lingua-BioYaTeA-0.11-0/blib/lib:/tmp/loop_over_bdir-512327-lYMp_v/Lingua-YaTeA-0.626-0/blib/arch:/tmp/loop_over_bdir-512327-lYMp_v/Lingua-YaTeA-0.626-0/blib/lib:/tmp/loop_over_bdir-512327-lYMp_v/Sysync-0.35-0/blib/arch:/tmp/loop_over_bdir-512327-lYMp_v/Sysync-0.35-0/blib/lib:/tmp/loop_over_bdir-512327-lYMp_v/LiquidWeb-Storm-CLI-1.03-0/blib/arch:/tmp/loop_over_bdir-512327-lYMp_v/LiquidWeb-Storm-CLI-1.03-0/blib/lib:/tmp/loop_over_bdir-512327-lYMp_v/Devel-Required-0.16-0/blib/arch:/tmp/loop_over_bdir-512327-lYMp_v/Devel-Required-0.16-0/blib/lib
    PERL5OPT = 
    PERL5_CPANPLUS_IS_RUNNING = 512335
    PERL5_CPAN_IS_RUNNING = 512335
    PERL_CANARY_STABILITY_NOPROMPT = 1
    PERL_MM_USE_DEFAULT = 1
    PERL_USE_UNSAFE_INC = 1
    SHELL = /usr/bin/zsh
    TERM = screen

Perl special variables (and OS-specific diagnostics, for MSWin32):

    $^X = /tmp/basesmoker-reloperl-OYtS/bin/perl
    $UID/$EUID = 1005 / 1005
    $GID = 1005 1005
    $EGID = 1005 1005

Perl module toolchain versions installed:

    Module              Have    
    ------------------- --------
    CPAN                2.34    
    CPAN::Meta          2.150010
    Cwd                 3.84    
    ExtUtils::CBuilder  0.280236
    ExtUtils::Command   7.64    
    ExtUtils::Install   2.20    
    ExtUtils::MakeMaker 7.64    
    ExtUtils::Manifest  1.73    
    ExtUtils::ParseXS   3.45    
    File::Spec          3.84    
    JSON                4.05    
    JSON::PP            4.08    
    Module::Build       0.4231  
    Module::Signature   0.88    
    Parse::CPAN::Meta   2.150010
    Test::Harness       3.44    
    Test::More          1.302190
    YAML                1.30    
    YAML::Syck          1.34    
    version             0.9929  


--

Summary of my perl5 (revision 5 version 35 subversion 11) configuration:
  Commit id: 6309b8c0e379d2ae5a9d50fe46b4c1f52ec1b012
  Platform:
    osname=linux
    osvers=5.4.0-107-generic
    archname=x86_64-linux-thread-multi-ld
    uname='linux k93focal 5.4.0-107-generic #121-ubuntu smp thu mar 24 16:04:27 utc 2022 x86_64 x86_64 x86_64 gnulinux '
    config_args='-Dprefix=/home/sand/src/perl/repoperls/installed-perls/host/k93focal/v5.35.11/e463 -Dmyhostname=k93focal -Dinstallusrbinperl=n -Uversiononly -Dusedevel -des -Ui_db -Dlibswanted=cl pthread socket inet nsl gdbm dbm malloc dl ld sun m crypt sec util c cposix posix ucb BSD gdbm_compat -Duseithreads -Duselongdouble -DEBUGGING=both'
    hint=recommended
    useposix=true
    d_sigaction=define
    useithreads=define
    usemultiplicity=define
    use64bitint=define
    use64bitall=define
    uselongdouble=define
    usemymalloc=n
    default_inc_excludes_dot=define
  Compiler:
    cc='cc'
    ccflags ='-D_REENTRANT -D_GNU_SOURCE -fwrapv -DDEBUGGING -fno-strict-aliasing -pipe -fstack-protector-strong -I/usr/local/include -D_LARGEFILE_SOURCE -D_FILE_OFFSET_BITS=64'
    optimize='-O2 -g'
    cppflags='-D_REENTRANT -D_GNU_SOURCE -fwrapv -DDEBUGGING -fno-strict-aliasing -pipe -fstack-protector-strong -I/usr/local/include'
    ccversion=''
    gccversion='9.4.0'
    gccosandvers=''
    intsize=4
    longsize=8
    ptrsize=8
    doublesize=8
    byteorder=12345678
    doublekind=3
    d_longlong=define
    longlongsize=8
    d_longdbl=define
    longdblsize=16
    longdblkind=3
    ivtype='long'
    ivsize=8
    nvtype='long double'
    nvsize=16
    Off_t='off_t'
    lseeksize=8
    alignbytes=16
    prototype=define
  Linker and Libraries:
    ld='cc'
    ldflags =' -fstack-protector-strong -L/usr/local/lib'
    libpth=/usr/local/lib /usr/lib/x86_64-linux-gnu /usr/lib /usr/lib64
    libs=-lpthread -lnsl -ldl -lm -lcrypt -lutil -lc
    perllibs=-lpthread -lnsl -ldl -lm -lcrypt -lutil -lc
    libc=libc-2.31.so
    so=so
    useshrplib=false
    libperl=libperl.a
    gnulibc_version='2.31'
  Dynamic Linking:
    dlsrc=dl_dlopen.xs
    dlext=so
    d_dlsymun=undef
    ccdlflags='-Wl,-E'
    cccdlflags='-fPIC'
    lddlflags='-shared -O2 -g -L/usr/local/lib -fstack-protector-strong'


Characteristics of this binary (from libperl): 
  Compile-time options:
    DEBUGGING
    HAS_TIMES
    MULTIPLICITY
    PERLIO_LAYERS
    PERL_COPY_ON_WRITE
    PERL_DONT_CREATE_GVSV
    PERL_MALLOC_WRAP
    PERL_OP_PARENT
    PERL_PRESERVE_IVUV
    PERL_TRACK_MEMPOOL
    PERL_USE_DEVEL
    USE_64_BIT_ALL
    USE_64_BIT_INT
    USE_ITHREADS
    USE_LARGE_FILES
    USE_LOCALE
    USE_LOCALE_COLLATE
    USE_LOCALE_CTYPE
    USE_LOCALE_NUMERIC
    USE_LOCALE_TIME
    USE_LONG_DOUBLE
    USE_PERLIO
    USE_PERL_ATOF
    USE_REENTRANT_API
    USE_THREAD_SAFE_LOCALE
  Built under linux
  Compiled at May 16 2022 23:26:40
  %ENV:
    PERL5LIB="/tmp/loop_over_bdir-512327-lYMp_v/Net-Async-WebService-lxd-0.02-0/blib/arch:/tmp/loop_over_bdir-512327-lYMp_v/Net-Async-WebService-lxd-0.02-0/blib/lib:/tmp/loop_over_bdir-512327-lYMp_v/CORBA-Python-2.66-0/blib/arch:/tmp/loop_over_bdir-512327-lYMp_v/CORBA-Python-2.66-0/blib/lib:/tmp/loop_over_bdir-512327-lYMp_v/dta-tokwrap-0.98-0/blib/arch:/tmp/loop_over_bdir-512327-lYMp_v/dta-tokwrap-0.98-0/blib/lib:/tmp/loop_over_bdir-512327-lYMp_v/MP3-PodcastFetch-1.05-0/blib/arch:/tmp/loop_over_bdir-512327-lYMp_v/MP3-PodcastFetch-1.05-0/blib/lib:/tmp/loop_over_bdir-512327-lYMp_v/Dpkg-1.21.5-0/blib/arch:/tmp/loop_over_bdir-512327-lYMp_v/Dpkg-1.21.5-0/blib/lib:/tmp/loop_over_bdir-512327-lYMp_v/RDF-NLP-SPARQLQuery-0.1-0/blib/arch:/tmp/loop_over_bdir-512327-lYMp_v/RDF-NLP-SPARQLQuery-0.1-0/blib/lib:/tmp/loop_over_bdir-512327-lYMp_v/Lingua-BioYaTeA-0.11-0/blib/arch:/tmp/loop_over_bdir-512327-lYMp_v/Lingua-BioYaTeA-0.11-0/blib/lib:/tmp/loop_over_bdir-512327-lYMp_v/Lingua-YaTeA-0.626-0/blib/arch:/tmp/loop_over_bdir-512327-lYMp_v/Lingua-YaTeA-0.626-0/blib/lib:/tmp/loop_over_bdir-512327-lYMp_v/Sysync-0.35-0/blib/arch:/tmp/loop_over_bdir-512327-lYMp_v/Sysync-0.35-0/blib/lib:/tmp/loop_over_bdir-512327-lYMp_v/LiquidWeb-Storm-CLI-1.03-0/blib/arch:/tmp/loop_over_bdir-512327-lYMp_v/LiquidWeb-Storm-CLI-1.03-0/blib/lib:/tmp/loop_over_bdir-512327-lYMp_v/Devel-Required-0.16-0/blib/arch:/tmp/loop_over_bdir-512327-lYMp_v/Devel-Required-0.16-0/blib/lib"
    PERL5OPT=""
    PERL5_CPANPLUS_IS_RUNNING="512335"
    PERL5_CPAN_IS_RUNNING="512335"
    PERL_CANARY_STABILITY_NOPROMPT="1"
    PERL_MM_USE_DEFAULT="1"
    PERL_USE_UNSAFE_INC="1"
  @INC:
    /tmp/loop_over_bdir-512327-lYMp_v/Net-Async-WebService-lxd-0.02-0/blib/arch
    /tmp/loop_over_bdir-512327-lYMp_v/Net-Async-WebService-lxd-0.02-0/blib/lib
    /tmp/loop_over_bdir-512327-lYMp_v/CORBA-Python-2.66-0/blib/arch
    /tmp/loop_over_bdir-512327-lYMp_v/CORBA-Python-2.66-0/blib/lib
    /tmp/loop_over_bdir-512327-lYMp_v/dta-tokwrap-0.98-0/blib/arch
    /tmp/loop_over_bdir-512327-lYMp_v/dta-tokwrap-0.98-0/blib/lib
    /tmp/loop_over_bdir-512327-lYMp_v/MP3-PodcastFetch-1.05-0/blib/arch
    /tmp/loop_over_bdir-512327-lYMp_v/MP3-PodcastFetch-1.05-0/blib/lib
    /tmp/loop_over_bdir-512327-lYMp_v/Dpkg-1.21.5-0/blib/arch
    /tmp/loop_over_bdir-512327-lYMp_v/Dpkg-1.21.5-0/blib/lib
    /tmp/loop_over_bdir-512327-lYMp_v/RDF-NLP-SPARQLQuery-0.1-0/blib/arch
    /tmp/loop_over_bdir-512327-lYMp_v/RDF-NLP-SPARQLQuery-0.1-0/blib/lib
    /tmp/loop_over_bdir-512327-lYMp_v/Lingua-BioYaTeA-0.11-0/blib/arch
    /tmp/loop_over_bdir-512327-lYMp_v/Lingua-BioYaTeA-0.11-0/blib/lib
    /tmp/loop_over_bdir-512327-lYMp_v/Lingua-YaTeA-0.626-0/blib/arch
    /tmp/loop_over_bdir-512327-lYMp_v/Lingua-YaTeA-0.626-0/blib/lib
    /tmp/loop_over_bdir-512327-lYMp_v/Sysync-0.35-0/blib/arch
    /tmp/loop_over_bdir-512327-lYMp_v/Sysync-0.35-0/blib/lib
    /tmp/loop_over_bdir-512327-lYMp_v/LiquidWeb-Storm-CLI-1.03-0/blib/arch
    /tmp/loop_over_bdir-512327-lYMp_v/LiquidWeb-Storm-CLI-1.03-0/blib/lib
    /tmp/loop_over_bdir-512327-lYMp_v/Devel-Required-0.16-0/blib/arch
    /tmp/loop_over_bdir-512327-lYMp_v/Devel-Required-0.16-0/blib/lib
    /home/sand/src/perl/repoperls/installed-perls/host/k93focal/v5.35.11/e463/lib/site_perl/5.35.11/x86_64-linux-thread-multi-ld
    /home/sand/src/perl/repoperls/installed-perls/host/k93focal/v5.35.11/e463/lib/site_perl/5.35.11
    /home/sand/src/perl/repoperls/installed-perls/host/k93focal/v5.35.11/e463/lib/5.35.11/x86_64-linux-thread-multi-ld
    /home/sand/src/perl/repoperls/installed-perls/host/k93focal/v5.35.11/e463/lib/5.35.11
    .