FFI-Platypus v1.10 Perl 5 v5.24.0 MSWin32-x86-multi-thread

Status
Pass
From
Alexandr Ciornii (CHORNY)
Dist
FFI-Platypus v1.10
Platform
Perl 5 v5.24.0 MSWin32-x86-multi-thread
Date
2020-02-06 02:23:13
ID
1a8c2b5a-6bf6-1014-bdf2-ab0c58558100
This distribution has been tested as part of the CPAN Testers
project, supporting the Perl programming language.  See
http://wiki.cpantesters.org/ for more information or email
questions to cpan-testers-discuss@perl.org


--
Dear Graham Ollis,

This is a computer-generated report for FFI-Platypus-1.10
on perl 5.24.0, created by CPAN-Reporter-1.2018.

Thank you for uploading your work to CPAN.  Congratulations!
All tests were successful.

Sections of this report:

    * Tester comments
    * Program output
    * Prerequisites
    * Environment and other context

------------------------------
TESTER COMMENTS
------------------------------

Additional comments from tester:

this report is from an automated smoke testing program
and was not reviewed by a human for accuracy

------------------------------
PROGRAM OUTPUT
------------------------------

Output from 'C:\STRAWB~1\c\bin\dmake.exe test':

"C:\Strawberry240\perl\bin\perl.exe" -MExtUtils::Command::MM -e cp_nonempty -- lib/FFI/Platypus.bs blib\arch\auto\FFI\Platypus\Platypus.bs 644
CC t/ffi/align.c
CC t/ffi/align_array.c
CC t/ffi/align_fixed.c
CC t/ffi/align_string.c
CC t/ffi/basic.c
CC t/ffi/closure.c
CC t/ffi/color.c
CC t/ffi/complex_double.c
CC t/ffi/complex_float.c
CC t/ffi/double.c
CC t/ffi/float.c
CC t/ffi/gh117.c
CC t/ffi/gh174.c
CC t/ffi/longdouble.c
CC t/ffi/memcmp4.c
CC t/ffi/meta.c
CC t/ffi/pointer.c
CC t/ffi/record.c
CC t/ffi/sint16.c
CC t/ffi/sint32.c
CC t/ffi/sint64.c
CC t/ffi/sint8.c
CC t/ffi/string.c
CC t/ffi/string_array.c
CC t/ffi/uint16.c
CC t/ffi/uint32.c
CC t/ffi/uint64.c
CC t/ffi/uint8.c
CC t/ffi/variadic.c
LD t/ffi/test.dll
"C:\Strawberry240\perl\bin\perl.exe" "-MExtUtils::Command::MM" "-MTest::Harness" "-e" "undef *Test::Harness::Switches; test_harness(0, 'blib\lib', 'blib\arch')" t/*.t
# 
# 
# 
# HARNESS_ACTIVE=1
# HARNESS_VERSION=3.36
# PERL5LIB=C:\STRAWB~1\cpan\build\FFI-Platypus-1.10-0\blib\lib;C:\STRAWB~1\cpan\build\FFI-Platypus-1.10-0\blib\arch
# PERL5_CPANPLUS_IS_RUNNING=2020
# PERL5_CPAN_IS_RUNNING=2020
# PERL5_CPAN_IS_RUNNING_IN_RECURSION=1244,2020
# PERL_CR_SMOKER_CURRENT=FFI-Platypus-1.10
# PERL_CR_SMOKER_RUNONCE=1
# PERL_EXTUTILS_AUTOINSTALL=--defaultdeps
# PERL_HASH_SEED=0x11111111
# PERL_MM_USE_DEFAULT=1
# 
# 
# 
# PERL5LIB path
# C:\STRAWB~1\cpan\build\FFI-Platypus-1.10-0\blib\lib
# C:\STRAWB~1\cpan\build\FFI-Platypus-1.10-0\blib\arch
# 
# 
# 
# perl                5.024000
# Alien::Base         0.03
# Capture::Tiny       0.44
# Devel::Hide         0.0009
# ExtUtils::CBuilder  0.280225
# ExtUtils::MakeMaker 7.24
# ExtUtils::ParseXS   3.31
# FFI::CheckLib       0.15
# IPC::Cmd            0.96
# JSON::PP            2.27400
# List::Util          1.47
# Math::LongDouble    -
# PkgConfig           0.12026
# Test::More          1.302073
# constant            1.33
# forks               -
# 
# 
# 
# mode : system
# Alien::FFI::PkgConfigPP->VERSION      = undef
# Alien::FFI::PkgConfigPP->install_type = system
# Alien::FFI::PkgConfigPP->cflags       = 
# Alien::FFI::PkgConfigPP->libs         = -LC:/Strawberry240/c/lib/pkgconfig/../../lib/../lib -lffi
# Alien::FFI::PkgConfigPP->version      = 3.2.1
# 
# 
# 
# ffi.platypus.memory.strdup_impl =ffi
# ffi.platypus.memory.strndup_impl=ffi
# 
# 
# 
# Types:
#   double   : double, float complex
#   float    : float
#   longdouble : double complex, long double, long double complex
#   sint16   : int16_t, short, signed short
#   sint32   : int, int32_t, intptr_t, long, off_t, ptrdiff_t, senum, signed int, signed long, ssize_t, time_t
#   sint64   : int64_t, long long, signed long long
#   sint8    : char, int8_t, signed char
#   uint16   : ino_t, mode_t, uint16_t, unsigned short, ushort, wchar_t, wint_t
#   uint32   : dev_t, enum, size_t, uint, uint32_t, uintptr_t, ulong, unsigned int, unsigned long
#   uint64   : uint64_t, unsigned long long
#   uint8    : bool, uchar, uint8_t, unsigned char
# 
# 
# 
# ABIs:
#   default_abi          1
#   fastcall             4
#   ms_cdecl             5
#   pascal               6
#   register             7
#   stdcall              2
#   sysv                 1
#   thiscall             3
# 
# 
# 
# Probes:
#   alloca               1
#   bigendian64          0
#   bigendian            0
#   abi                  1
#   variadic             1
#   recordvalue          1
#   longdouble           1
# 
# 
# 
# [PLATFORM]
# osname            : MSWin32
# cc                : gcc
# cxx               : g++
# for               : gfortran
# ld                : g++
# ccflags           : -s -O2 -DWIN32 -DPERL_TEXTMODE_SCRIPTS -DPERL_IMPLICIT_CONTEXT -DPERL_IMPLICIT_SYS -fwrapv -fno-strict-aliasing -mms-bitfields -s -O2 -IC:\STRAWB~1\cpan\build\FFI-Platypus-1.10-0\blib\lib\auto\share\dist\FFI-Platypus\include
# ldflags           : -mdll -s -LC:STRAWB~1perllibCORE -LC:STRAWB~1clib -Wl,--enable-auto-import -Wl,--export-all-symbols -Wl,--enable-auto-image-base
# object suffix     : .o
# library prefix    : 
# library suffix    : .dll
# cc mm works       : -MM
# 
# 
# 
t/00_diag.t .............................. ok
t/01_use.t ............................... ok
t/ffi_build.t ............................ ok
t/ffi_build_file_base.t .................. ok
t/ffi_build_file_c.t ..................... ok
t/ffi_build_file_cxx.t ................... ok
t/ffi_build_file_library.t ............... ok
t/ffi_build_file_object.t ................ ok
t/ffi_build_mm.t ......................... ok
t/ffi_build_platform.t ................... ok
t/ffi_platypus.t ......................... ok
t/ffi_platypus_api.t ..................... ok
t/ffi_platypus_buffer.t .................. ok
cannot unlink file for C:\STRAWB~1\cpan\build\FFI-Platypus-1.10-0\.tmp\w2zXkqyd9h\lib\auto\share\dist\Foo-Bar1\bar1.dll: Permission denied at C:/Strawberry240/perl/lib/File/Temp.pm line 1616.
cannot remove directory for C:\STRAWB~1\cpan\build\FFI-Platypus-1.10-0\.tmp\w2zXkqyd9h\lib\auto\share\dist\Foo-Bar1: Directory not empty at C:/Strawberry240/perl/lib/File/Temp.pm line 1616.
cannot remove directory for C:\STRAWB~1\cpan\build\FFI-Platypus-1.10-0\.tmp\w2zXkqyd9h\lib\auto\share\dist: Directory not empty at C:/Strawberry240/perl/lib/File/Temp.pm line 1616.
cannot remove directory for C:\STRAWB~1\cpan\build\FFI-Platypus-1.10-0\.tmp\w2zXkqyd9h\lib\auto\share: Directory not empty at C:/Strawberry240/perl/lib/File/Temp.pm line 1616.
cannot remove directory for C:\STRAWB~1\cpan\build\FFI-Platypus-1.10-0\.tmp\w2zXkqyd9h\lib\auto: Directory not empty at C:/Strawberry240/perl/lib/File/Temp.pm line 1616.
cannot remove directory for C:\STRAWB~1\cpan\build\FFI-Platypus-1.10-0\.tmp\w2zXkqyd9h\lib: Directory not empty at C:/Strawberry240/perl/lib/File/Temp.pm line 1616.
cannot remove directory for C:/STRAWB~1/cpan/build/FFI-Platypus-1.10-0/.tmp/w2zXkqyd9h: Directory not empty at C:/Strawberry240/perl/lib/File/Temp.pm line 1616.
cannot unlink file for C:\STRAWB~1\cpan\build\FFI-Platypus-1.10-0\.tmp\dRP9rhUtSm\lib\auto\share\dist\Foo-Bar2\bar2.dll: Permission denied at C:/Strawberry240/perl/lib/File/Temp.pm line 1616.
cannot remove directory for C:\STRAWB~1\cpan\build\FFI-Platypus-1.10-0\.tmp\dRP9rhUtSm\lib\auto\share\dist\Foo-Bar2: Directory not empty at C:/Strawberry240/perl/lib/File/Temp.pm line 1616.
cannot remove directory for C:\STRAWB~1\cpan\build\FFI-Platypus-1.10-0\.tmp\dRP9rhUtSm\lib\auto\share\dist: Directory not empty at C:/Strawberry240/perl/lib/File/Temp.pm line 1616.
cannot remove directory for C:\STRAWB~1\cpan\build\FFI-Platypus-1.10-0\.tmp\dRP9rhUtSm\lib\auto\share: Directory not empty at C:/Strawberry240/perl/lib/File/Temp.pm line 1616.
cannot remove directory for C:\STRAWB~1\cpan\build\FFI-Platypus-1.10-0\.tmp\dRP9rhUtSm\lib\auto: Directory not empty at C:/Strawberry240/perl/lib/File/Temp.pm line 1616.
cannot remove directory for C:\STRAWB~1\cpan\build\FFI-Platypus-1.10-0\.tmp\dRP9rhUtSm\lib: Directory not empty at C:/Strawberry240/perl/lib/File/Temp.pm line 1616.
cannot remove directory for C:/STRAWB~1/cpan/build/FFI-Platypus-1.10-0/.tmp/dRP9rhUtSm: Directory not empty at C:/Strawberry240/perl/lib/File/Temp.pm line 1616.
cannot unlink file for C:\STRAWB~1\cpan\build\FFI-Platypus-1.10-0\.tmp\h4rW_n4doI\lib\auto\share\dist\Foo-Bar3\bar3.dll: Permission denied at C:/Strawberry240/perl/lib/File/Temp.pm line 1616.
cannot remove directory for C:\STRAWB~1\cpan\build\FFI-Platypus-1.10-0\.tmp\h4rW_n4doI\lib\auto\share\dist\Foo-Bar3: Directory not empty at C:/Strawberry240/perl/lib/File/Temp.pm line 1616.
cannot remove directory for C:\STRAWB~1\cpan\build\FFI-Platypus-1.10-0\.tmp\h4rW_n4doI\lib\auto\share\dist: Directory not empty at C:/Strawberry240/perl/lib/File/Temp.pm line 1616.
cannot remove directory for C:\STRAWB~1\cpan\build\FFI-Platypus-1.10-0\.tmp\h4rW_n4doI\lib\auto\share: Directory not empty at C:/Strawberry240/perl/lib/File/Temp.pm line 1616.
cannot remove directory for C:\STRAWB~1\cpan\build\FFI-Platypus-1.10-0\.tmp\h4rW_n4doI\lib\auto: Directory not empty at C:/Strawberry240/perl/lib/File/Temp.pm line 1616.
cannot remove directory for C:\STRAWB~1\cpan\build\FFI-Platypus-1.10-0\.tmp\h4rW_n4doI\lib: Directory not empty at C:/Strawberry240/perl/lib/File/Temp.pm line 1616.
cannot remove directory for C:/STRAWB~1/cpan/build/FFI-Platypus-1.10-0/.tmp/h4rW_n4doI: Directory not empty at C:/Strawberry240/perl/lib/File/Temp.pm line 1616.
cannot unlink file for C:\STRAWB~1\cpan\build\FFI-Platypus-1.10-0\.tmp\Esp6mFBE_9\ffi\_build\foo.dll: Permission denied at C:/Strawberry240/perl/lib/File/Temp.pm line 1616.
cannot remove directory for C:\STRAWB~1\cpan\build\FFI-Platypus-1.10-0\.tmp\Esp6mFBE_9\ffi\_build: Directory not empty at C:/Strawberry240/perl/lib/File/Temp.pm line 1616.
cannot remove directory for C:\STRAWB~1\cpan\build\FFI-Platypus-1.10-0\.tmp\Esp6mFBE_9\ffi: Directory not empty at C:/Strawberry240/perl/lib/File/Temp.pm line 1616.
cannot remove directory for C:/STRAWB~1/cpan/build/FFI-Platypus-1.10-0/.tmp/Esp6mFBE_9: Directory not empty at C:/Strawberry240/perl/lib/File/Temp.pm line 1616.
t/ffi_platypus_bundle.t .................. ok
t/ffi_platypus_closure.t ................. ok
t/ffi_platypus_constant.t ................ ok
t/ffi_platypus_declare.t ................. ok
t/ffi_platypus_dl.t ...................... ok
t/ffi_platypus_function.t ................ ok
t/ffi_platypus_function_wrapper.t ........ ok
t/ffi_platypus_internal.t ................ ok
t/ffi_platypus_lang.t .................... ok
t/ffi_platypus_lang_asm.t ................ ok
t/ffi_platypus_lang_c.t .................. ok
t/ffi_platypus_lang_win32.t .............. ok
t/ffi_platypus_legacy.t .................. ok
t/ffi_platypus_memory.t .................. ok
t/ffi_platypus_record.t .................. ok
t/ffi_platypus_record_meta.t ............. ok
t/ffi_platypus_record_tiearray.t ......... ok
t/ffi_platypus_shareconfig.t ............. ok
t/ffi_platypus_type.t .................... ok
t/ffi_platypus_type_pointersizebuffer.t .. ok
t/ffi_platypus_type_stringarray.t ........ ok
t/ffi_platypus_type_stringpointer.t ...... ok
t/ffi_platypus_typeparser.t .............. ok
t/ffi_platypus_typeparser_version0.t ..... ok
t/ffi_platypus_typeparser_version1.t ..... ok
t/ffi_probe.t ............................ ok
t/ffi_probe_runner.t ..................... ok
t/ffi_probe_runner_builder.t ............. ok
t/ffi_probe_runner_result.t .............. ok
t/ffi_temp.t ............................. ok
t/forks.t ................................ skipped: Test requires forks
t/gh117.t ................................ ok
t/gh129.t ................................ ok
t/memory.t ............................... skipped: tested only in CI
t/threads.t .............................. ok
t/type_complex_double.t .................. skipped: Test requires support for double complex
t/type_complex_float.t ................... skipped: Test requires support for float complex
t/type_custom.t .......................... ok
t/type_double.t .......................... ok
t/type_float.t ........................... ok
t/type_longdouble.t ...................... ok
t/type_longdouble__array.t ............... ok
t/type_longdouble__hide.t ................ skipped: test requires Devel::Hide 0.0010
t/type_longdouble__ptr.t ................. ok
t/type_opaque.t .......................... ok
t/type_record.t .......................... ok
t/type_record_value.t .................... ok
t/type_sint16.t .......................... ok
t/type_sint32.t .......................... ok
t/type_sint64.t .......................... ok
t/type_sint8.t ........................... ok
t/type_string.t .......................... ok
t/type_uint16.t .......................... ok
t/type_uint32.t .......................... ok
t/type_uint64.t .......................... ok
t/type_uint8.t ........................... ok
All tests successful.
Files=69, Tests=340, 43 wallclock secs ( 0.62 usr +  0.37 sys =  0.99 CPU)
Result: PASS
dmake.exe:  makefile:  line 1276:  Warning: -- Empty recipe for special or meta target .NO_PARALLEL

------------------------------
PREREQUISITES
------------------------------

Prerequisite modules loaded:

requires:

    Module              Need     Have    
    ------------------- -------- --------
    Capture::Tiny       0        0.44    
    constant            1.32     1.33    
    ExtUtils::MakeMaker 7.12     7.24    
    FFI::CheckLib       0.05     0.15    
    IPC::Cmd            0        0.96    
    JSON::PP            0        2.27400 
    List::Util          1.45     1.47    
    Math::Int64         0.34     0.54    
    perl                5.008001 5.024000

build_requires:

    Module              Need     Have    
    ------------------- -------- --------
    Capture::Tiny       0        0.44    
    ExtUtils::CBuilder  0        0.280225
    Math::Int64         0.34     0.54    
    Test::More          0.98     1.302073

configure_requires:

    Module              Need     Have    
    ------------------- -------- --------
    Capture::Tiny       0        0.44    
    ExtUtils::MakeMaker 7.12     7.24    
    ExtUtils::ParseXS   3.30     3.31    
    IPC::Cmd            0        0.96    
    perl                5.006    5.024000


------------------------------
ENVIRONMENT AND OTHER CONTEXT
------------------------------

Environment variables:

    AUTOMATED_TESTING = 1
    COMSPEC = C:\WINDOWS\system32\cmd.exe
    NUMBER_OF_PROCESSORS = 1
    PATH = C:\WINDOWS\system32;C:\WINDOWS;C:\WINDOWS\System32\Wbem;C:\Git\cmd;C:\Strawberry240\c\bin;C:\Strawberry240\perl\site\bin;C:\Strawberry240\perl\bin
    PERL5LIB = 
    PERL5OPT = 
    PERL5_CPANPLUS_IS_RUNNING = 2020
    PERL5_CPAN_IS_RUNNING = 2020
    PERL5_CPAN_IS_RUNNING_IN_RECURSION = 1244,2020
    PERL_CR_SMOKER_CURRENT = FFI-Platypus-1.10
    PERL_CR_SMOKER_RUNONCE = 1
    PERL_EXTUTILS_AUTOINSTALL = --defaultdeps
    PERL_HASH_SEED = 0x11111111
    PERL_MM_USE_DEFAULT = 1
    PROCESSOR_IDENTIFIER = x86 Family 16 Model 5 Stepping 3, AuthenticAMD
    TEMP = C:\DOCUME~1\a\LOCALS~1\Temp

Perl special variables (and OS-specific diagnostics, for MSWin32):

    $^X = C:\Strawberry240\perl\bin\perl.exe
    $UID/$EUID = 0 / 0
    $GID = 0
    $EGID = 0
    Win32::GetOSName = WinXP/.Net
    Win32::GetOSVersion = Service Pack 3, 5, 1, 2600, 2, 3, 0, 256, 1
    Win32::FsType = NTFS
    Win32::IsAdminUser = 1

Perl module toolchain versions installed:

    Module              Have    
    ------------------- --------
    CPAN                2.14    
    CPAN::Meta          2.150010
    Cwd                 3.63    
    ExtUtils::CBuilder  0.280225
    ExtUtils::Command   7.24    
    ExtUtils::Install   2.04    
    ExtUtils::MakeMaker 7.24    
    ExtUtils::Manifest  1.70    
    ExtUtils::ParseXS   3.31    
    File::Spec          3.63    
    JSON                2.90    
    JSON::PP            2.27400 
    Module::Build       0.4220  
    Module::Signature   0.81    
    Parse::CPAN::Meta   2.150010
    Test::Harness       3.36    
    Test::More          1.302073
    YAML                1.21    
    YAML::Syck          1.29    
    version             0.9917  


--

Summary of my perl5 (revision 5 version 24 subversion 0) configuration:
   
  Platform:
    osname=MSWin32, osvers=4.0, archname=MSWin32-x86-multi-thread
    uname='Win32 strawberry-perl 5.24.0.1-beta1 #1 Thu Dec 29 16:46:05 2016 i386'
    config_args='undef'
    hint=recommended, useposix=true, d_sigaction=undef
    useithreads=define, usemultiplicity=define
    use64bitint=undef, use64bitall=undef, uselongdouble=undef
    usemymalloc=n, bincompat5005=undef
  Compiler:
    cc='gcc', ccflags =' -s -O2 -DWIN32  -DPERL_TEXTMODE_SCRIPTS -DPERL_IMPLICIT_CONTEXT -DPERL_IMPLICIT_SYS -fwrapv -fno-strict-aliasing -mms-bitfields',
    optimize='-s -O2',
    cppflags='-DWIN32'
    ccversion='', gccversion='4.9.2', gccosandvers=''
    intsize=4, longsize=4, ptrsize=4, doublesize=8, byteorder=1234, doublekind=3
    d_longlong=define, longlongsize=8, d_longdbl=define, longdblsize=12, longdblkind=3
    ivtype='long', ivsize=4, nvtype='double', nvsize=8, Off_t='long long', lseeksize=8
    alignbytes=8, prototype=define
  Linker and Libraries:
    ld='g++', ldflags ='-s -L"C:\STRAWB~1\perl\lib\CORE" -L"C:\STRAWB~1\c\lib"'
    libpth=C:\STRAWB~1\c\lib C:\STRAWB~1\c\i686-w64-mingw32\lib C:\STRAWB~1\c\lib\gcc\i686-w64-mingw32\4.9.2
    libs=-lmoldname -lkernel32 -luser32 -lgdi32 -lwinspool -lcomdlg32 -ladvapi32 -lshell32 -lole32 -loleaut32 -lnetapi32 -luuid -lws2_32 -lmpr -lwinmm -lversion -lodbc32 -lodbccp32 -lcomctl32
    perllibs=-lmoldname -lkernel32 -luser32 -lgdi32 -lwinspool -lcomdlg32 -ladvapi32 -lshell32 -lole32 -loleaut32 -lnetapi32 -luuid -lws2_32 -lmpr -lwinmm -lversion -lodbc32 -lodbccp32 -lcomctl32
    libc=, so=dll, useshrplib=true, libperl=libperl524.a
    gnulibc_version=''
  Dynamic Linking:
    dlsrc=dl_win32.xs, dlext=xs.dll, d_dlsymun=undef, ccdlflags=' '
    cccdlflags=' ', lddlflags='-mdll -s -L"C:\STRAWB~1\perl\lib\CORE" -L"C:\STRAWB~1\c\lib"'


Characteristics of this binary (from libperl): 
  Compile-time options: HAS_TIMES HAVE_INTERP_INTERN MULTIPLICITY
                        PERLIO_LAYERS PERL_COPY_ON_WRITE
                        PERL_DONT_CREATE_GVSV
                        PERL_HASH_FUNC_ONE_AT_A_TIME_HARD
                        PERL_IMPLICIT_CONTEXT PERL_IMPLICIT_SYS
                        PERL_MALLOC_WRAP PERL_PRESERVE_IVUV USE_ITHREADS
                        USE_LARGE_FILES USE_LOCALE USE_LOCALE_COLLATE
                        USE_LOCALE_CTYPE USE_LOCALE_NUMERIC USE_LOCALE_TIME
                        USE_PERLIO USE_PERL_ATOF
  Built under MSWin32
  Compiled at Dec 29 2016 16:55:33
  %ENV:
    PERL5_CPANPLUS_IS_RUNNING="2020"
    PERL5_CPAN_IS_RUNNING="2020"
    PERL5_CPAN_IS_RUNNING_IN_RECURSION="1244,2020"
    PERL_CR_SMOKER_CURRENT="FFI-Platypus-1.10"
    PERL_CR_SMOKER_RUNONCE="1"
    PERL_EXTUTILS_AUTOINSTALL="--defaultdeps"
    PERL_HASH_SEED="0x11111111"
    PERL_MM_USE_DEFAULT="1"
  @INC:
    C:/Strawberry240/perl/site/lib
    C:/Strawberry240/perl/vendor/lib
    C:/Strawberry240/perl/lib
    .