CHI v0.61 Perl 5 v5.30.2 darwin-thread-multi-2level
- Status
- Pass
- From
- Gintautas Grigelionis
- Dist
-
CHI v0.61
- Platform
- Perl 5 v5.30.2 darwin-thread-multi-2level
- Date
- 2021-12-22 19:33:52
- ID
- 184e823a-635e-11ec-946c-b38b4b43a004
This distribution has been tested as part of the CPAN Testers
project, supporting the Perl programming language. See
http://wiki.cpantesters.org/ for more information or email
questions to cpan-testers-discuss@perl.org
--
Dear Alexander Becker,
This is a computer-generated report for CHI-0.61
on perl 5.30.2, created by CPAN-Reporter-1.2018.
Thank you for uploading your work to CPAN. Congratulations!
All tests were successful.
Sections of this report:
* Tester comments
* Program output
* Prerequisites
* Environment and other context
------------------------------
TESTER COMMENTS
------------------------------
Additional comments from tester:
none provided
------------------------------
PROGRAM OUTPUT
------------------------------
Output from '/usr/bin/make test':
PERL_DL_NONLAZY=1 "/usr/bin/perl" "-MExtUtils::Command::MM" "-MTest::Harness" "-e" "undef *Test::Harness::Switches; test_harness(0, 'blib/lib', 'blib/arch')" t/*.t
# Testing CHI 0.61, Perl 5.030002, /usr/bin/perl
t/00-load.t ............................. ok
t/author-03-pod.t ....................... skipped: these tests are for testing by the author
t/author-file-driver.t .................. skipped: these tests are for testing by the author
t/author-no-data-serializer.t ........... skipped: these tests are for testing by the author
t/author-RequiredModules.t .............. skipped: these tests are for testing by the author
t/Bugs.t ................................ ok
t/Config.t .............................. ok
t/Constants.t ........................... ok
t/Driver-Memory.t ....................... ok
t/Driver-RawMemory.t .................... ok
t/GetError.t ............................ ok
t/Initialize.t .......................... ok
t/release-dependent.t ................... skipped: these tests are for release candidate testing
t/Sanity.t .............................. ok
t/SetError.t ............................ ok
t/smoke-Driver-CacheCache.t ............. skipped: these tests are for "smoke bot" testing
t/smoke-Driver-FastMmap.t ............... skipped: these tests are for "smoke bot" testing
t/smoke-Driver-File-DepthZero.t ......... skipped: these tests are for "smoke bot" testing
t/smoke-Driver-File.t ................... skipped: these tests are for "smoke bot" testing
t/smoke-Driver-NonMoose.t ............... skipped: these tests are for "smoke bot" testing
t/smoke-Driver-Subcache-l1_cache.t ...... skipped: these tests are for "smoke bot" testing
t/smoke-Driver-Subcache-mirror_cache.t .. skipped: these tests are for "smoke bot" testing
t/smoke-Null.t .......................... skipped: these tests are for "smoke bot" testing
t/Subcache.t ............................ ok
t/Subclass.t ............................ ok
t/Util.t ................................ ok
All tests successful.
Files=26, Tests=1787, 4 wallclock secs ( 0.21 usr 0.07 sys + 3.33 cusr 0.81 csys = 4.42 CPU)
Result: PASS
------------------------------
PREREQUISITES
------------------------------
Prerequisite modules loaded:
requires:
Module Need Have
------------------------------- -------- --------
Carp::Assert 0.20 0.21
Class::Load 0 0.25
Data::UUID 0 1.226
Digest::JHash 0 0.10
Digest::MD5 0 2.58
File::Spec 0.80 3.78
Hash::MoreUtils 0 0.06
JSON::MaybeXS 1.003003 1.004003
List::MoreUtils 0.13 0.428
Log::Any 0.08 1.710
Moo 1.003 2.005004
MooX::Types::MooseLike 0.23 0.29
MooX::Types::MooseLike::Base 0 0.29
MooX::Types::MooseLike::Numeric 0 1.03
Storable 0 3.25
String::RewritePrefix 0 0.008
Task::Weaken 0 1.06
Time::Duration 1.06 1.21
Time::Duration::Parse 0.03 0.16
Time::HiRes 1.30 1.9760
Try::Tiny 0.05 0.31
build_requires:
Module Need Have
------------------------------- -------- --------
Cache::FileCache 0 0
Date::Parse 0 2.33
ExtUtils::MakeMaker 0 7.64
Module::Mask 0 0.06
Test::Builder 0 1.302188
Test::Class 0 0.52
Test::Deep 0 1.130
Test::Exception 0 0.43
Test::More 0 1.302188
Test::Warn 0 0.36
configure_requires:
Module Need Have
------------------------------- -------- --------
ExtUtils::MakeMaker 0 7.64
------------------------------
ENVIRONMENT AND OTHER CONTEXT
------------------------------
Environment variables:
LC_CTYPE = UTF-8
PATH = /usr/local/bin:/usr/bin:/bin:/usr/sbin:/sbin:/usr/local/MacGPG2/bin:/opt/X11/bin:/Library/Apple/usr/bin
PERL5LIB = /Users/giegri/.cpan/build/IO-Zlib-1.11-1/blib/arch:/Users/giegri/.cpan/build/IO-Zlib-1.11-1/blib/lib:/Users/giegri/.cpan/build/NEXT-0.68-0/blib/arch:/Users/giegri/.cpan/build/NEXT-0.68-0/blib/lib:/Users/giegri/.cpan/build/Pod-Checker-1.74-2/blib/arch:/Users/giegri/.cpan/build/Pod-Checker-1.74-2/blib/lib
PERL5OPT =
PERL5_CPANPLUS_IS_RUNNING = 15381
PERL5_CPAN_IS_RUNNING = 15381
PERL_USE_UNSAFE_INC = 1
SHELL = /bin/bash
TERM = xterm-256color
TMPDIR = /var/folders/c5/867l5h614bs44szg7g2t48fr0000gn/T/
Perl special variables (and OS-specific diagnostics, for MSWin32):
$^X = /usr/bin/perl
$UID/$EUID = 501 / 501
$GID = 20 20 401 12 61 79 80 81 98 402 33 100 204 250 395 398 399 400 701
$EGID = 20 20 401 12 61 79 80 81 98 402 33 100 204 250 395 398 399 400 701
Perl module toolchain versions installed:
Module Have
------------------- --------
CPAN 2.22
CPAN::Meta 2.150010
Cwd 3.78
ExtUtils::CBuilder 0.280236
ExtUtils::Command 7.64
ExtUtils::Install 2.20
ExtUtils::MakeMaker 7.64
ExtUtils::Manifest 1.73
ExtUtils::ParseXS 3.40
File::Spec 3.78
JSON 4.04
JSON::PP 4.07
Module::Build 0.4231
Module::Signature 0.88
Parse::CPAN::Meta 2.150010
Test::Harness 3.42
Test::More 1.302188
YAML 1.30
YAML::Syck 1.32
version 0.9929
--
Summary of my perl5 (revision 5 version 30 subversion 2) configuration:
Platform:
osname=darwin
osvers=20.0
archname=darwin-thread-multi-2level
uname='darwin bb-g8-pdb176.ta10.sd.apple.com 20.0 darwin kernel version 20.1.0: wed apr 28 21:20:19 pdt 2021; root:xnu-7195.41.8.100.6~1development_x86_64 x86_64 '
config_args='-ds -e -Dprefix=/usr -Dccflags=-g -pipe -Dldflags= -Dman3ext=3pm -Duseithreads -Duseshrplib -Dinc_version_list=none -Dcc=cc'
hint=recommended
useposix=true
d_sigaction=define
useithreads=define
usemultiplicity=define
use64bitint=define
use64bitall=define
uselongdouble=undef
usemymalloc=n
default_inc_excludes_dot=define
bincompat5005=undef
Compiler:
cc='cc'
ccflags =' -g -pipe -fno-strict-aliasing -fstack-protector-strong -DPERL_USE_SAFE_PUTENV'
optimize='-Os'
cppflags='-g -pipe -fno-strict-aliasing -fstack-protector-strong'
ccversion=''
gccversion='Apple LLVM 12.0.5 (clang-1205.0.19.59.6) [+internal-os, ptrauth-isa=deployment-target-based]'
gccosandvers=''
intsize=4
longsize=8
ptrsize=8
doublesize=8
byteorder=12345678
doublekind=3
d_longlong=define
longlongsize=8
d_longdbl=define
longdblsize=16
longdblkind=3
ivtype='long'
ivsize=8
nvtype='double'
nvsize=8
Off_t='off_t'
lseeksize=8
alignbytes=8
prototype=define
Linker and Libraries:
ld='cc'
ldflags =' -fstack-protector-strong'
libpth=/System/Volumes/Data/SWE/macOS/BuildRoots/220e8a1b79/Applications/Xcode.app/Contents/Developer/Platforms/MacOSX.platform/Developer/SDKs/MacOSX11.6.Internal.sdk/usr/local/lib /System/Volumes/Data/SWE/macOS/BuildRoots/220e8a1b79/Applications/Xcode.app/Contents/Developer/Toolchains/OSX11.6.xctoolchain/usr/lib/clang/12.0.5/lib /System/Volumes/Data/SWE/macOS/BuildRoots/220e8a1b79/Applications/Xcode.app/Contents/Developer/Platforms/MacOSX.platform/Developer/SDKs/MacOSX11.6.Internal.sdk/usr/lib /System/Volumes/Data/SWE/macOS/BuildRoots/220e8a1b79/Applications/Xcode.app/Contents/Developer/Toolchains/OSX11.6.xctoolchain/usr/lib /System/Volumes/Data/SWE/macOS/BuildRoots/220e8a1b79/Applications/Xcode.app/Contents/Developer/Toolchains/XcodeDefault.xctoolchain/usr/lib /usr/lib /usr/local/lib
libs=
perllibs=
libc=
so=dylib
useshrplib=true
libperl=libperl.dylib
gnulibc_version=''
Dynamic Linking:
dlsrc=dl_dlopen.xs
dlext=bundle
d_dlsymun=undef
ccdlflags=' '
cccdlflags=' '
lddlflags=' -bundle -undefined dynamic_lookup -fstack-protector-strong'
Characteristics of this binary (from libperl):
Compile-time options:
HAS_TIMES
MULTIPLICITY
PERLIO_LAYERS
PERL_COPY_ON_WRITE
PERL_DONT_CREATE_GVSV
PERL_IMPLICIT_CONTEXT
PERL_MALLOC_WRAP
PERL_OP_PARENT
PERL_PRESERVE_IVUV
PERL_USE_SAFE_PUTENV
USE_64_BIT_ALL
USE_64_BIT_INT
USE_ITHREADS
USE_LARGE_FILES
USE_LOCALE
USE_LOCALE_COLLATE
USE_LOCALE_CTYPE
USE_LOCALE_NUMERIC
USE_LOCALE_TIME
USE_PERLIO
USE_PERL_ATOF
USE_REENTRANT_API
USE_THREAD_SAFE_LOCALE
Locally applied patches:
/Library/Perl/Updates/<version> comes before system perl directories
installprivlib and installarchlib points to the Updates directory
Built under darwin
Compiled at Sep 5 2021 22:42:19
%ENV:
PERL5LIB="/Users/giegri/.cpan/build/IO-Zlib-1.11-1/blib/arch:/Users/giegri/.cpan/build/IO-Zlib-1.11-1/blib/lib:/Users/giegri/.cpan/build/NEXT-0.68-0/blib/arch:/Users/giegri/.cpan/build/NEXT-0.68-0/blib/lib:/Users/giegri/.cpan/build/Pod-Checker-1.74-2/blib/arch:/Users/giegri/.cpan/build/Pod-Checker-1.74-2/blib/lib"
PERL5OPT=""
PERL5_CPANPLUS_IS_RUNNING="15381"
PERL5_CPAN_IS_RUNNING="15381"
PERL_USE_UNSAFE_INC="1"
@INC:
/Users/giegri/.cpan/build/IO-Zlib-1.11-1/blib/arch
/Users/giegri/.cpan/build/IO-Zlib-1.11-1/blib/lib
/Users/giegri/.cpan/build/NEXT-0.68-0/blib/arch
/Users/giegri/.cpan/build/NEXT-0.68-0/blib/lib
/Users/giegri/.cpan/build/Pod-Checker-1.74-2/blib/arch
/Users/giegri/.cpan/build/Pod-Checker-1.74-2/blib/lib
/Library/Perl/5.30/darwin-thread-multi-2level
/Library/Perl/5.30
/Network/Library/Perl/5.30/darwin-thread-multi-2level
/Network/Library/Perl/5.30
/Library/Perl/Updates/5.30.2/darwin-thread-multi-2level
/Library/Perl/Updates/5.30.2
/System/Library/Perl/5.30/darwin-thread-multi-2level
/System/Library/Perl/5.30
/System/Library/Perl/Extras/5.30/darwin-thread-multi-2level
/System/Library/Perl/Extras/5.30
.