FunctionalPerl v0.72.66 Perl 5 v5.32.1 OpenBSD.amd64-openbsd-thread-multi

Status
Pass
From
David Cantrell (DCANTRELL)
Dist
FunctionalPerl v0.72.66
Platform
Perl 5 v5.32.1 OpenBSD.amd64-openbsd-thread-multi
Date
2021-05-27 23:34:34
ID
182d61d6-bf44-11eb-ba8a-00a501575b2c
This distribution has been tested as part of the CPAN Testers
project, supporting the Perl programming language.  See
http://wiki.cpantesters.org/ for more information or email
questions to cpan-testers-discuss@perl.org


--
Dear Christian Jaeger,

This is a computer-generated report for FunctionalPerl-0.72.66
on perl 5.32.1, created by CPAN-Reporter-1.2018.

Thank you for uploading your work to CPAN.  Congratulations!
All tests were successful.

Sections of this report:

    * Tester comments
    * Program output
    * Prerequisites
    * Environment and other context

------------------------------
TESTER COMMENTS
------------------------------

Additional comments from tester:

this report is from an automated smoke testing program
and was not reviewed by a human for accuracy

------------------------------
PROGRAM OUTPUT
------------------------------

Output from '/usr/bin/make test':

PERL_DL_NONLAZY=1 "/home/david/cpantesting/perl-5.32.1/bin/perl" "-MExtUtils::Command::MM" "-MTest::Harness" "-e" "undef *Test::Harness::Switches; test_harness(0, 'blib/lib', 'blib/arch')" t/*.t
t/csv_to_xml.t ........................... ok
t/dbi.t .................................. ok
t/examples-csv-to-json.t ................. ok
times for fib: user = 0.830000000000001, system = 0.00999999999999998, cuser = 0, csystem = 0
times for fibonacci: user = 0.71, system = 0, cuser = 0, csystem = 0
t/examples-fibs.t ........................ ok
t/examples-functional-classes.t .......... ok
t/examples-hiring-without-whiteboards.t .. skipped: dependency Term::ReadLine::Gnu not present at lib/FP/Repl/Dependencies.pm line 44.
t/examples-logic.t ....................... skipped: could not use FP::Repl::Dependencies
t/examples-perlweekly-111-1.t ............ skipped: Test requires module 'FP::SortedPureArray' but it's not found
times: user = 0.11, system = 0, cuser = 0, csystem = 0
times: user = 0.26, system = 0.02, cuser = 0, csystem = 0
times: user = 0.3, system = 0.00999999999999995, cuser = 0, csystem = 0
t/examples-perlweekly-113-1.t ............ ok
t/examples-perlweekly-113-2.t ............ ok
t/examples-primes.t ...................... ok
t/functional_XML-t-div.t ................. ok
t/functional_XML-test.t .................. ok
t/htmlgen.t .............................. skipped: Test requires module 'HTML::TreeBuilder' but it's not found
t/intro-basics.t ......................... skipped: could not use FP::Repl::Dependencies
t/perl-goto-leak.t ....................... ok
t/perl-weaken-coderef-correctness.t ...... ok
t/perl-weaken-coderef.t .................. ok
NOTE: can't load FP::SortedPureArray: Can't locate List/BinarySearch.pm in @INC (you may need to install the List::BinarySearch module) (@INC contains: ./.htmlgen ./lib ./meta /home/david/cpantesting/perl-5.32.1/.cpan/build/FunctionalPerl-0.72.66-0/blib/lib /home/david/cpantesting/perl-5.32.1/.cpan/build/FunctionalPerl-0.72.66-0/blib/arch /home/david/cpantesting/perl-5.32.1/lib/site_perl/5.32.1/OpenBSD.amd64-openbsd-thread-multi /home/david/cpantesting/perl-5.32.1/lib/site_perl/5.32.1 /home/david/cpantesting/perl-5.32.1/lib/5.32.1/OpenBSD.amd64-openbsd-thread-multi /home/david/cpantesting/perl-5.32.1/lib/5.32.1) at lib/FP/SortedPureArray.pm line 57. at lib/FunctionalPerl.pm line 310.
t/pod_snippets.t ......................... ok
t/predicates.t ........................... ok
t/repl.t ................................. skipped: dependency Term::ReadLine::Gnu not present at lib/FP/Repl/Dependencies.pm line 44.
not activating since running in test mode at lib/FP/Repl/AutoTrap.pm line 64.
Reference is already weak at lib/FP/Stream.pm line 769.
t/require_and_run_tests.t ................ ok
t/skip-internal.t ........................ ok
t/skip-leak.t ............................ ok
t/skip.t ................................. ok
t/testlazy.t ............................. ok
t/testlazy10.t ........................... ok
times for T: user = 0.89, system = 0, cuser = 0, csystem = 0
times for TC: user = 0.55, system = 0, cuser = 0, csystem = 0
t/trampoline-fix.t ....................... ok
All tests successful.
Files=28, Tests=164, 125 wallclock secs ( 1.03 usr  0.35 sys + 110.43 cusr 11.98 csys = 123.79 CPU)
Result: PASS

------------------------------
PREREQUISITES
------------------------------

Prerequisite modules loaded:

requires:

    Module              Need     Have    
    ------------------- -------- --------
    autobox             0        v3.0.1  
    base                0        2.27    
    Digest              0        1.17_01 
    File::Path          0        2.16    
    Getopt::Long        0        2.51    
    Import::Into        0        1.002005
    Math::BigInt        0        1.999818
    NEXT                0        0.67_01 
    overload            0        1.31    
    perl                5.016004 5.032001
    PerlIO::utf8_strict 0        0.008   
    Safe::Isa           0        1.000010
    Scalar::Util        0        1.56    
    Symbol              0        1.08    
    Test::More          0.96     1.302185
    utf8                0        1.22    
    warnings            0        1.47    

build_requires:

    Module              Need     Have    
    ------------------- -------- --------
    BSD::Resource       0        1.2911  
    Capture::Tiny       0        0.48    
    DBD::CSV            0        0.58    
    DBI                 0        1.643   
    ExtUtils::MakeMaker 0        7.44    
    Sub::Util           0        1.56    
    Test::Pod::Snippets 0        0.07    
    Test::Requires      0        0.11    
    Text::CSV           0        2.00    
    URI                 0        5.09    

configure_requires:

    Module              Need     Have    
    ------------------- -------- --------
    ExtUtils::MakeMaker 0        7.44    


------------------------------
ENVIRONMENT AND OTHER CONTEXT
------------------------------

Environment variables:

    AUTOMATED_TESTING = 1
    NONINTERACTIVE_TESTING = 1
    PATH = /home/david/perl5/perlbrew/bin:/home/david/perl5/perlbrew/perls/perl-5.32.0/bin:/home/david/bin:/bin:/sbin:/usr/bin:/usr/sbin:/usr/X11R6/bin:/usr/local/bin:/usr/local/sbin:/usr/games:/home/david/.fzf/bin
    PERL = 5.32.1
    PERL5LIB = 
    PERL5OPT = 
    PERL5_CPANPLUS_IS_RUNNING = 12783
    PERL5_CPAN_IS_RUNNING = 12783
    PERLBREW_HOME = /home/david/.perlbrew
    PERLBREW_MANPATH = /home/david/perl5/perlbrew/perls/perl-5.32.0/man
    PERLBREW_PATH = /home/david/perl5/perlbrew/bin:/home/david/perl5/perlbrew/perls/perl-5.32.0/bin
    PERLBREW_PERL = perl-5.32.0
    PERLBREW_ROOT = /home/david/perl5/perlbrew
    PERLBREW_SHELLRC_VERSION = 0.92
    PERLBREW_VERSION = 0.92
    PERLVER = 5.32.1
    PERL_INLINE_DIRECTORY = /home/david/.Inline-5.32.1
    PERL_MM_USE_DEFAULT = 1
    PERL_USE_UNSAFE_INC = 0
    SHELL = /usr/local/bin/bash
    TERM = screen

Perl special variables (and OS-specific diagnostics, for MSWin32):

    $^X = /home/david/cpantesting/perl-5.32.1/bin/perl
    $UID/$EUID = 1000 / 1000
    $GID = 1000 1000 0
    $EGID = 1000 1000 0

Perl module toolchain versions installed:

    Module              Have    
    ------------------- --------
    CPAN                2.27    
    CPAN::Meta          2.150010
    Cwd                 3.78    
    ExtUtils::CBuilder  0.280234
    ExtUtils::Command   7.44    
    ExtUtils::Install   2.14    
    ExtUtils::MakeMaker 7.44    
    ExtUtils::Manifest  1.72    
    ExtUtils::ParseXS   3.40    
    File::Spec          3.78    
    JSON                4.03    
    JSON::PP            4.04    
    Module::Build       0.4231  
    Module::Signature   n/a     
    Parse::CPAN::Meta   2.150010
    Test::Harness       3.42    
    Test::More          1.302185
    YAML                n/a     
    YAML::Syck          n/a     
    version             0.9924  


--

Summary of my perl5 (revision 5 version 32 subversion 1) configuration:
   
  Platform:
    osname=openbsd
    osvers=6.9
    archname=OpenBSD.amd64-openbsd-thread-multi
    uname='openbsd cpantesting-openbsd.home 6.9 generic#464 amd64 '
    config_args='-de -Dprefix=/home/david/cpantesting/perl-5.32.1 -Dusethreads'
    hint=recommended
    useposix=true
    d_sigaction=define
    useithreads=define
    usemultiplicity=define
    use64bitint=define
    use64bitall=define
    uselongdouble=undef
    usemymalloc=n
    default_inc_excludes_dot=define
    bincompat5005=undef
  Compiler:
    cc='cc'
    ccflags ='-pthread -fno-strict-aliasing -pipe -fstack-protector-strong -I/usr/local/include'
    optimize='-O2'
    cppflags='-pthread -fno-strict-aliasing -pipe -fstack-protector-strong -I/usr/local/include'
    ccversion=''
    gccversion='OpenBSD Clang 10.0.1 '
    gccosandvers=''
    intsize=4
    longsize=8
    ptrsize=8
    doublesize=8
    byteorder=12345678
    doublekind=3
    d_longlong=define
    longlongsize=8
    d_longdbl=define
    longdblsize=16
    longdblkind=3
    ivtype='long'
    ivsize=8
    nvtype='double'
    nvsize=8
    Off_t='off_t'
    lseeksize=8
    alignbytes=8
    prototype=define
  Linker and Libraries:
    ld='cc'
    ldflags ='-pthread -Wl,-E  -fstack-protector-strong -L/usr/local/lib'
    libpth=/usr/lib /usr/local/lib
    libs=-lpthread -lm -lutil -lc
    perllibs=-lpthread -lm -lutil -lc
    libc=/usr/lib/libc.so.96.0
    so=so
    useshrplib=false
    libperl=libperl.a
    gnulibc_version=''
  Dynamic Linking:
    dlsrc=dl_dlopen.xs
    dlext=so
    d_dlsymun=undef
    ccdlflags=' '
    cccdlflags='-DPIC -fPIC '
    lddlflags='-shared -fPIC  -L/usr/local/lib -fstack-protector-strong'


Characteristics of this binary (from libperl): 
  Compile-time options:
    HAS_TIMES
    MULTIPLICITY
    PERLIO_LAYERS
    PERL_COPY_ON_WRITE
    PERL_DONT_CREATE_GVSV
    PERL_IMPLICIT_CONTEXT
    PERL_MALLOC_WRAP
    PERL_OP_PARENT
    PERL_PRESERVE_IVUV
    USE_64_BIT_ALL
    USE_64_BIT_INT
    USE_ITHREADS
    USE_LARGE_FILES
    USE_LOCALE
    USE_LOCALE_COLLATE
    USE_LOCALE_CTYPE
    USE_LOCALE_NUMERIC
    USE_LOCALE_TIME
    USE_PERLIO
    USE_PERL_ATOF
    USE_REENTRANT_API
  Built under openbsd
  Compiled at May 13 2021 20:20:47
  %ENV:
    PERL="5.32.1"
    PERL5LIB=""
    PERL5OPT=""
    PERL5_CPANPLUS_IS_RUNNING="12783"
    PERL5_CPAN_IS_RUNNING="12783"
    PERLBREW_HOME="/home/david/.perlbrew"
    PERLBREW_MANPATH="/home/david/perl5/perlbrew/perls/perl-5.32.0/man"
    PERLBREW_PATH="/home/david/perl5/perlbrew/bin:/home/david/perl5/perlbrew/perls/perl-5.32.0/bin"
    PERLBREW_PERL="perl-5.32.0"
    PERLBREW_ROOT="/home/david/perl5/perlbrew"
    PERLBREW_SHELLRC_VERSION="0.92"
    PERLBREW_VERSION="0.92"
    PERLVER="5.32.1"
    PERL_INLINE_DIRECTORY="/home/david/.Inline-5.32.1"
    PERL_MM_USE_DEFAULT="1"
    PERL_USE_UNSAFE_INC="0"
  @INC:
    /home/david/cpantesting/perl-5.32.1/lib/site_perl/5.32.1/OpenBSD.amd64-openbsd-thread-multi
    /home/david/cpantesting/perl-5.32.1/lib/site_perl/5.32.1
    /home/david/cpantesting/perl-5.32.1/lib/5.32.1/OpenBSD.amd64-openbsd-thread-multi
    /home/david/cpantesting/perl-5.32.1/lib/5.32.1