Encode v3.17 Perl 5 v5.22.1 x86_64-linux

Status
Pass
From
Slaven Rezić
Dist
Encode v3.17
Platform
Perl 5 v5.22.1 x86_64-linux
Date
2022-04-07 20:19:57
ID
180cb4fe-b6b0-11ec-af63-ca531f24ea8f
This distribution has been tested as part of the CPAN Testers
project, supporting the Perl programming language.  See
http://wiki.cpantesters.org/ for more information or email
questions to cpan-testers-discuss@perl.org


--
Dear Dan Kogai,

This is a computer-generated report for Encode-3.17
on perl 5.22.1, created by CPAN-Reporter-1.2017.

Thank you for uploading your work to CPAN.  Congratulations!
All tests were successful.

Sections of this report:

    * Tester comments
    * Program output
    * Prerequisites
    * Environment and other context

------------------------------
TESTER COMMENTS
------------------------------

Additional comments from tester:

none provided

------------------------------
PROGRAM OUTPUT
------------------------------

Output from 'make test':

make[1]: Entering directory '/home/e/eserte/.cpan/build/2022040721/Encode-3.17-jmDVxN/Byte'
Running Mkbootstrap for Encode::Byte ()
chmod 644 "Byte.bs"
make[1]: Leaving directory '/home/e/eserte/.cpan/build/2022040721/Encode-3.17-jmDVxN/Byte'
make[1]: Entering directory '/home/e/eserte/.cpan/build/2022040721/Encode-3.17-jmDVxN/CN'
Running Mkbootstrap for Encode::CN ()
chmod 644 "CN.bs"
make[1]: Leaving directory '/home/e/eserte/.cpan/build/2022040721/Encode-3.17-jmDVxN/CN'
make[1]: Entering directory '/home/e/eserte/.cpan/build/2022040721/Encode-3.17-jmDVxN/EBCDIC'
Running Mkbootstrap for Encode::EBCDIC ()
chmod 644 "EBCDIC.bs"
make[1]: Leaving directory '/home/e/eserte/.cpan/build/2022040721/Encode-3.17-jmDVxN/EBCDIC'
make[1]: Entering directory '/home/e/eserte/.cpan/build/2022040721/Encode-3.17-jmDVxN/JP'
Running Mkbootstrap for Encode::JP ()
chmod 644 "JP.bs"
make[1]: Leaving directory '/home/e/eserte/.cpan/build/2022040721/Encode-3.17-jmDVxN/JP'
make[1]: Entering directory '/home/e/eserte/.cpan/build/2022040721/Encode-3.17-jmDVxN/KR'
Running Mkbootstrap for Encode::KR ()
chmod 644 "KR.bs"
make[1]: Leaving directory '/home/e/eserte/.cpan/build/2022040721/Encode-3.17-jmDVxN/KR'
make[1]: Entering directory '/home/e/eserte/.cpan/build/2022040721/Encode-3.17-jmDVxN/Symbol'
Running Mkbootstrap for Encode::Symbol ()
chmod 644 "Symbol.bs"
make[1]: Leaving directory '/home/e/eserte/.cpan/build/2022040721/Encode-3.17-jmDVxN/Symbol'
make[1]: Entering directory '/home/e/eserte/.cpan/build/2022040721/Encode-3.17-jmDVxN/TW'
Running Mkbootstrap for Encode::TW ()
chmod 644 "TW.bs"
make[1]: Leaving directory '/home/e/eserte/.cpan/build/2022040721/Encode-3.17-jmDVxN/TW'
make[1]: Entering directory '/home/e/eserte/.cpan/build/2022040721/Encode-3.17-jmDVxN/Unicode'
Running Mkbootstrap for Encode::Unicode ()
chmod 644 "Unicode.bs"
make[1]: Leaving directory '/home/e/eserte/.cpan/build/2022040721/Encode-3.17-jmDVxN/Unicode'
Running Mkbootstrap for Encode ()
chmod 644 "Encode.bs"
PERL_DL_NONLAZY=1 "/opt/perl-5.22.1/bin/perl" "-MExtUtils::Command::MM" "-MTest::Harness" "-e" "undef *Test::Harness::Switches; test_harness(0, 'blib/lib', 'blib/arch')" t/*.t
t/Aliases.t ................ ok
t/at-cn.t .................. ok
t/at-tw.t .................. ok
t/CJKT.t ................... ok
t/cow.t .................... ok
t/decode.t ................. ok
t/enc_data.t ............... ok
t/enc_eucjp.t .............. ok
t/enc_module.t ............. ok
t/enc_utf8.t ............... ok
t/Encode.t ................. ok
t/Encoder.t ................ ok
t/encoding-locale.t ........ ok
t/encoding.t ............... ok
t/fallback.t ............... ok
t/from_to.t ................ ok
t/grow.t ................... ok
t/gsm0338.t ................ ok
t/guess.t .................. ok
t/isa.t .................... ok
t/jis7-fallback.t .......... ok
t/jperl.t .................. ok
t/magic.t .................. ok
t/mime-header.t ............ ok
t/mime-name.t .............. ok
t/mime_header_iso2022jp.t .. ok
t/perlio.t ................. ok
t/piconv.t ................. ok
t/rt113164.t ............... ok
t/rt65541.t ................ ok
t/rt76824.t ................ ok
t/rt85489.t ................ ok
t/rt86327.t ................ ok
t/taint.t .................. ok
t/truncated_utf8.t ......... ok
t/undef.t .................. ok
t/Unicode.t ................ ok
t/Unicode_trailing_nul.t ... ok
t/use-Encode-Alias.t ....... ok
t/utf32warnings.t .......... ok
t/utf8ref.t ................ ok
t/utf8strict.t ............. ok
t/utf8warnings.t ........... ok
t/whatwg-aliases.t ......... skipped: For maintainers only
t/xml.t .................... ok
All tests successful.

Test Summary Report
-------------------
t/truncated_utf8.t       (Wstat: 0 Tests: 9 Failed: 0)
  TODO passed:   9
Files=45, Tests=7816,  5 wallclock secs ( 0.54 usr  0.04 sys +  4.28 cusr  0.18 csys =  5.04 CPU)
Result: PASS
make[1]: Entering directory '/home/e/eserte/.cpan/build/2022040721/Encode-3.17-jmDVxN/Byte'
No tests defined for Encode::Byte extension.
make[1]: Leaving directory '/home/e/eserte/.cpan/build/2022040721/Encode-3.17-jmDVxN/Byte'
make[1]: Entering directory '/home/e/eserte/.cpan/build/2022040721/Encode-3.17-jmDVxN/CN'
No tests defined for Encode::CN extension.
make[1]: Leaving directory '/home/e/eserte/.cpan/build/2022040721/Encode-3.17-jmDVxN/CN'
make[1]: Entering directory '/home/e/eserte/.cpan/build/2022040721/Encode-3.17-jmDVxN/EBCDIC'
No tests defined for Encode::EBCDIC extension.
make[1]: Leaving directory '/home/e/eserte/.cpan/build/2022040721/Encode-3.17-jmDVxN/EBCDIC'
make[1]: Entering directory '/home/e/eserte/.cpan/build/2022040721/Encode-3.17-jmDVxN/JP'
No tests defined for Encode::JP extension.
make[1]: Leaving directory '/home/e/eserte/.cpan/build/2022040721/Encode-3.17-jmDVxN/JP'
make[1]: Entering directory '/home/e/eserte/.cpan/build/2022040721/Encode-3.17-jmDVxN/KR'
No tests defined for Encode::KR extension.
make[1]: Leaving directory '/home/e/eserte/.cpan/build/2022040721/Encode-3.17-jmDVxN/KR'
make[1]: Entering directory '/home/e/eserte/.cpan/build/2022040721/Encode-3.17-jmDVxN/Symbol'
No tests defined for Encode::Symbol extension.
make[1]: Leaving directory '/home/e/eserte/.cpan/build/2022040721/Encode-3.17-jmDVxN/Symbol'
make[1]: Entering directory '/home/e/eserte/.cpan/build/2022040721/Encode-3.17-jmDVxN/TW'
No tests defined for Encode::TW extension.
make[1]: Leaving directory '/home/e/eserte/.cpan/build/2022040721/Encode-3.17-jmDVxN/TW'
make[1]: Entering directory '/home/e/eserte/.cpan/build/2022040721/Encode-3.17-jmDVxN/Unicode'
No tests defined for Encode::Unicode extension.
make[1]: Leaving directory '/home/e/eserte/.cpan/build/2022040721/Encode-3.17-jmDVxN/Unicode'

------------------------------
PREREQUISITES
------------------------------

Prerequisite modules loaded:

requires:

    Module              Need  Have    
    ------------------- ----- --------
    Exporter            5.57  5.72    
    parent              0.221 0.232   
    Storable            0     2.53_01 

build_requires:

    Module              Need  Have    
    ------------------- ----- --------
    ExtUtils::MakeMaker 0     7.04_01 
    Test::More          0.92  1.001014

configure_requires:

    Module              Need  Have    
    ------------------- ----- --------
    ExtUtils::MakeMaker 0     7.04_01 


------------------------------
ENVIRONMENT AND OTHER CONTEXT
------------------------------

Environment variables:

    LANG = en_US.UTF-8
    PATH = /usr/local/bin:/usr/bin:/bin:/usr/local/sbin:/usr/sbin:/sbin:/home/e/eserte/bin/linux-gnu:/home/e/eserte/bin/sh:/home/e/eserte/bin:/home/e/eserte/bin/pistachio-perl/bin:/usr/games:/home/e/eserte/devel:/home/e/eserte/work2/fzf/bin:/home/e/eserte/src/srezic-misc/scripts
    PERL5LIB = /home/e/eserte/.cpan/build/2022040721/IO-HTML-1.004-ZjMQks/blib/arch:/home/e/eserte/.cpan/build/2022040721/IO-HTML-1.004-ZjMQks/blib/lib:/home/e/eserte/.cpan/build/2022040721/HTTP-Date-6.05-wsilz0/blib/arch:/home/e/eserte/.cpan/build/2022040721/HTTP-Date-6.05-wsilz0/blib/lib:/home/e/eserte/.cpan/build/2022040721/Time-Local-1.30-u_8fMi/blib/arch:/home/e/eserte/.cpan/build/2022040721/Time-Local-1.30-u_8fMi/blib/lib:/home/e/eserte/.cpan/build/2022040721/URI-5.10-n1FJEN/blib/arch:/home/e/eserte/.cpan/build/2022040721/URI-5.10-n1FJEN/blib/lib:/home/e/eserte/.cpan/build/2022040721/Test-Needs-0.002009-QKkbMC/blib/arch:/home/e/eserte/.cpan/build/2022040721/Test-Needs-0.002009-QKkbMC/blib/lib:/home/e/eserte/.cpan/build/2022040721/Encode-Locale-1.05-ebvnkV/blib/arch:/home/e/eserte/.cpan/build/2022040721/Encode-Locale-1.05-ebvnkV/blib/lib:/home/e/eserte/.cpan/build/2022040721/LWP-MediaTypes-6.04-GUfZqe/blib/arch:/home/e/eserte/.cpan/build/2022040721/LWP-MediaTypes-6.04-GUfZqe/blib/lib:/home/e/eserte/.cpan/build/2022040721/Memoize-ExpireLRU-0.56-1I9ziV/blib/arch:/home/e/eserte/.cpan/build/2022040721/Memoize-ExpireLRU-0.56-1I9ziV/blib/lib:/home/e/eserte/.cpan/build/2022040721/HTML-Tagset-3.20-nwslg0/blib/arch:/home/e/eserte/.cpan/build/2022040721/HTML-Tagset-3.20-nwslg0/blib/lib:/home/e/eserte/.cpan/build/2022040721/Data-Dump-1.25-WClwVQ/blib/arch:/home/e/eserte/.cpan/build/2022040721/Data-Dump-1.25-WClwVQ/blib/lib
    PERL5OPT = 
    PERL5_CPANPLUS_IS_RUNNING = 21687
    PERL5_CPAN_IS_RUNNING = 21687
    PERL5_CPAN_IS_RUNNING_IN_RECURSION = 10720,21687
    PERLDOC = -MPod::Perldoc::ToTextOverstrike
    PERL_BATCH = yes
    PERL_CANARY_STABILITY_NOPROMPT = 1
    PERL_CPAN_REPORTER_CONFIG = /var/tmp/cpansmoker-1000/2022040721/cpanreporter_001_config.ini
    PERL_EXTUTILS_AUTOINSTALL = --defaultdeps
    SHELL = /bin/zsh
    STDPERL = perl
    TERM = xterm
    TMPDIR = /var/tmp/cpansmoker-1000/2022040721

Perl special variables (and OS-specific diagnostics, for MSWin32):

    $^X = /opt/perl-5.22.1/bin/perl
    $UID/$EUID = 1000 / 1000
    $GID = 1000 4 24 25 27 29 30 33 44 46 108 111 115 128 134 1000 1024
    $EGID = 1000 4 24 25 27 29 30 33 44 46 108 111 115 128 134 1000 1024

Perl module toolchain versions installed:

    Module              Have    
    ------------------- --------
    CPAN                2.11    
    CPAN::Meta          2.150001
    Cwd                 3.56    
    ExtUtils::CBuilder  0.280221
    ExtUtils::Command   1.20    
    ExtUtils::Install   2.04    
    ExtUtils::MakeMaker 7.04_01 
    ExtUtils::Manifest  1.70    
    ExtUtils::ParseXS   3.28    
    File::Spec          3.56    
    JSON                n/a     
    JSON::PP            2.27300 
    Module::Build       0.4218  
    Module::Signature   n/a     
    Parse::CPAN::Meta   1.4414  
    Test::Harness       3.35    
    Test::More          1.001014
    YAML                1.15    
    YAML::Syck          1.29    
    version             0.9909  


--

Summary of my perl5 (revision 5 version 22 subversion 1) configuration:
   
  Platform:
    osname=linux, osvers=3.16.0-4-amd64, archname=x86_64-linux
    uname='linux cabulja 3.16.0-4-amd64 #1 smp debian 3.16.7-ckt25-2 (2016-04-08) x86_64 gnulinux '
    config_args='-ds -e -Dprefix=/opt/perl-5.22.1 -Dcf_email=srezic@cpan.org'
    hint=recommended, useposix=true, d_sigaction=define
    useithreads=undef, usemultiplicity=undef
    use64bitint=define, use64bitall=define, uselongdouble=undef
    usemymalloc=n, bincompat5005=undef
  Compiler:
    cc='cc', ccflags ='-fwrapv -fno-strict-aliasing -pipe -fstack-protector-strong -I/usr/local/include -D_LARGEFILE_SOURCE -D_FILE_OFFSET_BITS=64 -D_FORTIFY_SOURCE=2',
    optimize='-O2',
    cppflags='-fwrapv -fno-strict-aliasing -pipe -fstack-protector-strong -I/usr/local/include'
    ccversion='', gccversion='4.9.2', gccosandvers=''
    intsize=4, longsize=8, ptrsize=8, doublesize=8, byteorder=12345678, doublekind=3
    d_longlong=define, longlongsize=8, d_longdbl=define, longdblsize=16, longdblkind=3
    ivtype='long', ivsize=8, nvtype='double', nvsize=8, Off_t='off_t', lseeksize=8
    alignbytes=8, prototype=define
  Linker and Libraries:
    ld='cc', ldflags =' -fstack-protector-strong -L/usr/local/lib'
    libpth=/usr/local/lib /usr/lib/gcc/x86_64-linux-gnu/4.9/include-fixed /usr/include/x86_64-linux-gnu /usr/lib /lib/x86_64-linux-gnu /lib/../lib /usr/lib/x86_64-linux-gnu /usr/lib/../lib /lib
    libs=-lpthread -lnsl -lgdbm -ldb -ldl -lm -lcrypt -lutil -lc -lgdbm_compat
    perllibs=-lpthread -lnsl -ldl -lm -lcrypt -lutil -lc
    libc=libc-2.19.so, so=so, useshrplib=false, libperl=libperl.a
    gnulibc_version='2.19'
  Dynamic Linking:
    dlsrc=dl_dlopen.xs, dlext=so, d_dlsymun=undef, ccdlflags='-Wl,-E'
    cccdlflags='-fPIC', lddlflags='-shared -O2 -L/usr/local/lib -fstack-protector-strong'


Characteristics of this binary (from libperl): 
  Compile-time options: HAS_TIMES PERLIO_LAYERS PERL_DONT_CREATE_GVSV
                        PERL_HASH_FUNC_ONE_AT_A_TIME_HARD PERL_MALLOC_WRAP
                        PERL_NEW_COPY_ON_WRITE PERL_PRESERVE_IVUV
                        USE_64_BIT_ALL USE_64_BIT_INT USE_LARGE_FILES
                        USE_LOCALE USE_LOCALE_COLLATE USE_LOCALE_CTYPE
                        USE_LOCALE_NUMERIC USE_LOCALE_TIME USE_PERLIO
                        USE_PERL_ATOF
  Built under linux
  Compiled at May 28 2016 08:37:35
  %ENV:
    PERL5LIB="/home/e/eserte/.cpan/build/2022040721/IO-HTML-1.004-ZjMQks/blib/arch:/home/e/eserte/.cpan/build/2022040721/IO-HTML-1.004-ZjMQks/blib/lib:/home/e/eserte/.cpan/build/2022040721/HTTP-Date-6.05-wsilz0/blib/arch:/home/e/eserte/.cpan/build/2022040721/HTTP-Date-6.05-wsilz0/blib/lib:/home/e/eserte/.cpan/build/2022040721/Time-Local-1.30-u_8fMi/blib/arch:/home/e/eserte/.cpan/build/2022040721/Time-Local-1.30-u_8fMi/blib/lib:/home/e/eserte/.cpan/build/2022040721/URI-5.10-n1FJEN/blib/arch:/home/e/eserte/.cpan/build/2022040721/URI-5.10-n1FJEN/blib/lib:/home/e/eserte/.cpan/build/2022040721/Test-Needs-0.002009-QKkbMC/blib/arch:/home/e/eserte/.cpan/build/2022040721/Test-Needs-0.002009-QKkbMC/blib/lib:/home/e/eserte/.cpan/build/2022040721/Encode-Locale-1.05-ebvnkV/blib/arch:/home/e/eserte/.cpan/build/2022040721/Encode-Locale-1.05-ebvnkV/blib/lib:/home/e/eserte/.cpan/build/2022040721/LWP-MediaTypes-6.04-GUfZqe/blib/arch:/home/e/eserte/.cpan/build/2022040721/LWP-MediaTypes-6.04-GUfZqe/blib/lib:/home/e/eserte/.cpan/build/2022040721/Memoize-ExpireLRU-0.56-1I9ziV/blib/arch:/home/e/eserte/.cpan/build/2022040721/Memoize-ExpireLRU-0.56-1I9ziV/blib/lib:/home/e/eserte/.cpan/build/2022040721/HTML-Tagset-3.20-nwslg0/blib/arch:/home/e/eserte/.cpan/build/2022040721/HTML-Tagset-3.20-nwslg0/blib/lib:/home/e/eserte/.cpan/build/2022040721/Data-Dump-1.25-WClwVQ/blib/arch:/home/e/eserte/.cpan/build/2022040721/Data-Dump-1.25-WClwVQ/blib/lib"
    PERL5OPT=""
    PERL5_CPANPLUS_IS_RUNNING="21687"
    PERL5_CPAN_IS_RUNNING="21687"
    PERL5_CPAN_IS_RUNNING_IN_RECURSION="10720,21687"
    PERLDOC="-MPod::Perldoc::ToTextOverstrike"
    PERL_BATCH="yes"
    PERL_CANARY_STABILITY_NOPROMPT="1"
    PERL_CPAN_REPORTER_CONFIG="/var/tmp/cpansmoker-1000/2022040721/cpanreporter_001_config.ini"
    PERL_EXTUTILS_AUTOINSTALL="--defaultdeps"
  @INC:
    /home/e/eserte/.cpan/build/2022040721/IO-HTML-1.004-ZjMQks/blib/arch
    /home/e/eserte/.cpan/build/2022040721/IO-HTML-1.004-ZjMQks/blib/lib
    /home/e/eserte/.cpan/build/2022040721/HTTP-Date-6.05-wsilz0/blib/arch
    /home/e/eserte/.cpan/build/2022040721/HTTP-Date-6.05-wsilz0/blib/lib
    /home/e/eserte/.cpan/build/2022040721/Time-Local-1.30-u_8fMi/blib/arch
    /home/e/eserte/.cpan/build/2022040721/Time-Local-1.30-u_8fMi/blib/lib
    /home/e/eserte/.cpan/build/2022040721/URI-5.10-n1FJEN/blib/arch
    /home/e/eserte/.cpan/build/2022040721/URI-5.10-n1FJEN/blib/lib
    /home/e/eserte/.cpan/build/2022040721/Test-Needs-0.002009-QKkbMC/blib/arch
    /home/e/eserte/.cpan/build/2022040721/Test-Needs-0.002009-QKkbMC/blib/lib
    /home/e/eserte/.cpan/build/2022040721/Encode-Locale-1.05-ebvnkV/blib/arch
    /home/e/eserte/.cpan/build/2022040721/Encode-Locale-1.05-ebvnkV/blib/lib
    /home/e/eserte/.cpan/build/2022040721/LWP-MediaTypes-6.04-GUfZqe/blib/arch
    /home/e/eserte/.cpan/build/2022040721/LWP-MediaTypes-6.04-GUfZqe/blib/lib
    /home/e/eserte/.cpan/build/2022040721/Memoize-ExpireLRU-0.56-1I9ziV/blib/arch
    /home/e/eserte/.cpan/build/2022040721/Memoize-ExpireLRU-0.56-1I9ziV/blib/lib
    /home/e/eserte/.cpan/build/2022040721/HTML-Tagset-3.20-nwslg0/blib/arch
    /home/e/eserte/.cpan/build/2022040721/HTML-Tagset-3.20-nwslg0/blib/lib
    /home/e/eserte/.cpan/build/2022040721/Data-Dump-1.25-WClwVQ/blib/arch
    /home/e/eserte/.cpan/build/2022040721/Data-Dump-1.25-WClwVQ/blib/lib
    /opt/perl-5.22.1/lib/site_perl/5.22.1/x86_64-linux
    /opt/perl-5.22.1/lib/site_perl/5.22.1
    /opt/perl-5.22.1/lib/5.22.1/x86_64-linux
    /opt/perl-5.22.1/lib/5.22.1
    .