Path-Tiny v0.144 Perl 5 v5.8.6 cygwin-thread-multi
- Status
- Pass
- From
- Peter John Acklam (PJACKLAM)
- Dist
-
Path-Tiny v0.144
- Platform
- Perl 5 v5.8.6 cygwin-thread-multi
- Date
- 2023-04-26 18:00:14
- ID
- 16b7dd0d-6c1f-1014-8c9e-aa73ae2eb232
This distribution has been tested as part of the CPAN Testers
project, supporting the Perl programming language. See
http://wiki.cpantesters.org/ for more information or email
questions to cpan-testers-discuss@perl.org
--
Dear David Golden,
This is a computer-generated report for Path-Tiny-0.144
on perl 5.8.6, created by CPAN-Reporter-1.2018.
Thank you for uploading your work to CPAN. Congratulations!
All tests were successful.
Sections of this report:
* Tester comments
* Program output
* Prerequisites
* Environment and other context
------------------------------
TESTER COMMENTS
------------------------------
Additional comments from tester:
this report is from an automated smoke testing program
and was not reviewed by a human for accuracy
------------------------------
PROGRAM OUTPUT
------------------------------
Output from '/usr/bin/make test':
PERL_DL_NONLAZY=1 /cygdrive/c/opt/perl5/cygwin_nt-10.0/3.4.6/x86_64/perl/5.8.6/x86_64-cygwin-thread-multi/bin/perl5.8.6.exe "-MExtUtils::Command::MM" "-e" "test_harness(0, 'blib/lib', 'blib/arch')" t/*.t
#
# Versions for all modules listed in MYMETA.json (including optional ones):
#
# === Configure Requires ===
#
# Module Want Have
# ------------------- ---- ----
# ExtUtils::MakeMaker 6.17 6.68
#
# === Configure Suggests ===
#
# Module Want Have
# -------- ------- ----
# JSON::PP 2.27300 4.16
#
# === Build Requires ===
#
# Module Want Have
# ------------------- ---- ----
# ExtUtils::MakeMaker any 6.68
#
# === Test Requires ===
#
# Module Want Have
# --------------------- ---- --------
# Digest::MD5 any 2.33
# ExtUtils::MakeMaker any 6.68
# File::Basename any 2.73
# File::Spec 0.86 3.75
# File::Spec::Functions any 3.75
# File::Spec::Unix any 3.75
# File::Temp 0.19 0.22
# Test::More 0.96 1.302194
# lib any 0.5565
# open any 1.04
#
# === Test Recommends ===
#
# Module Want Have
# ------------------ -------- --------
# CPAN::Meta 2.120900 2.150010
# Test::FailWarnings any 0.008
# Test::MockRandom any 1.01
#
# === Runtime Requires ===
#
# Module Want Have
# ------------------ ---- ------
# Carp any 1.50
# Cwd any 3.75
# Digest 1.03 1.08
# Digest::SHA 5.45 6.04
# Encode any 2.08
# Exporter 5.57 5.58
# Fcntl any 1.05
# File::Compare any 1.1003
# File::Copy any 2.08
# File::Glob any 1.03
# File::Path 2.07 2.18
# File::Spec 0.86 3.75
# File::Temp 0.19 0.22
# File::stat any 1.00
# constant any 1.33
# overload any 1.02
# strict any 1.03
# warnings any 1.03
# warnings::register any 1.00
#
# === Runtime Recommends ===
#
# Module Want Have
# ------------- ---- -------
# Unicode::UTF8 0.58 missing
#
t/00-report-prereqs.t ............. ok
t/basename.t ...................... ok
t/basic.t ......................... ok
t/children.t ...................... ok
t/chmod.t ......................... ok
t/digest.t ........................ ok
t/exception.t ..................... ok
t/exports.t ....................... ok
t/filesystem.t .................... ok
t/has_same_bytes.t ................ ok
t/input_output.t .................. ok
t/input_output_no_PU_UU.t ......... ok
t/input_output_no_UU.t ............ ok
t/locking.t ....................... ok
t/mkdir.t ......................... ok
t/mkpath.t ........................ ok
t/mutable_tree_while_iterating.t .. ok
t/normalize.t ..................... ok
t/overloading.t ................... ok
t/parent.t ........................ ok
t/recurse.t ....................... ok
t/rel-abs.t ....................... ok
t/sig_die.t ....................... ok
t/size.t .......................... ok
t/subsumes.t ...................... ok
t/symlinks.t ...................... ok
t/temp.t .......................... ok
t/visit.t ......................... ok
t/zz-atomic.t ..................... ok
t/zzz-spec.t ...................... ok
All tests successful.
Files=30, Tests=1767, 26 wallclock secs ( 0.31 usr 0.30 sys + 5.59 cusr 19.22 csys = 25.43 CPU)
Result: PASS
------------------------------
PREREQUISITES
------------------------------
Prerequisite modules loaded:
requires:
Module Need Have
--------------------- -------- --------
Carp 0 1.50
constant 0 1.33
Cwd 0 3.75
Digest 1.03 1.08
Digest::SHA 5.45 6.04
Encode 0 2.08
Exporter 5.57 5.58
Fcntl 0 1.05
File::Compare 0 1.1003
File::Copy 0 2.08
File::Glob 0 1.03
File::Path 2.07 2.18
File::Spec 0.86 3.75
File::stat 0 1.00
File::Temp 0.19 0.22
overload 0 1.02
perl 5.008001 5.008006
strict 0 1.03
warnings 0 1.03
warnings::register 0 1.00
build_requires:
Module Need Have
--------------------- -------- --------
Digest::MD5 0 2.33
ExtUtils::MakeMaker 0 6.68
File::Basename 0 2.73
File::Spec 0.86 3.75
File::Spec::Functions 0 3.75
File::Spec::Unix 0 3.75
File::Temp 0.19 0.22
lib 0 0.5565
open 0 1.04
Test::More 0.96 1.302194
configure_requires:
Module Need Have
--------------------- -------- --------
ExtUtils::MakeMaker 6.17 6.68
perl 5.008001 5.008006
opt_requires:
Module Need Have
--------------------- -------- --------
! Unicode::UTF8 0.58 n/a
opt_build_requires:
Module Need Have
--------------------- -------- --------
CPAN::Meta 2.120900 2.150010
Test::FailWarnings 0 0.008
Test::MockRandom 0 1.01
------------------------------
ENVIRONMENT AND OTHER CONTEXT
------------------------------
Environment variables:
AUTOMATED_TESTING = 1
COMSPEC = C:\WINDOWS\system32\cmd.exe
NUMBER_OF_PROCESSORS = 12
PATH = /opt/perl5/cygwin_nt-10.0/3.4.6/x86_64/perl/5.8.6/x86_64-cygwin-thread-multi/bin:/opt/perl5/cygwin_nt-10.0/3.4.6/x86_64/perl/5.8.6/x86_64-cygwin-thread-multi/local/bin:/usr/local/bin:/usr/bin:/bin
PERL5LIB = /opt/perl5/cygwin_nt-10.0/3.4.6/x86_64/perl/5.8.6/x86_64-cygwin-thread-multi/local/lib/perl5:/opt/perl5/cygwin_nt-10.0/3.4.6/x86_64/perl/5.8.6/x86_64-cygwin-thread-multi/local/lib/site_perl:/opt/perl5/cygwin_nt-10.0/3.4.6/x86_64/perl/5.8.6/x86_64-cygwin-thread-multi/local/lib
PERL5OPT =
PERL5_CPANPLUS_IS_RUNNING = 1475
PERL5_CPAN_IS_RUNNING = 1475
PERL_BASE = /usr/local
PERL_CANARY_STABILITY_NOPROMPT = 1
PERL_CPAN_REPORTER_CONFIG = /cygdrive/c/home/peter/.cpanreporter/config-cygwin-OS-A01-L0123.ini
PERL_EXTUTILS_AUTOINSTALL = 1
PERL_MB_OPT = --install_base /opt/perl5/cygwin_nt-10.0/3.4.6/x86_64/perl/5.8.6/x86_64-cygwin-thread-multi/local
PERL_MM_OPT = INSTALL_BASE=/opt/perl5/cygwin_nt-10.0/3.4.6/x86_64/perl/5.8.6/x86_64-cygwin-thread-multi/local
PERL_MM_USE_DEFAULT = 1
PERL_TEST_CRITIC = 1
PERL_TEST_CRITIC = 1
PERL_TEST_POD = 1
PERL_TEST_POD = 1
PERL_USE_UNSAFE_INC = 1
POD_TESTING = 1
POD_TESTS = 1
PROCESSOR_IDENTIFIER = Intel64 Family 6 Model 158 Stepping 10, GenuineIntel
SHELL = /bin/bash
TEMP = /tmp
TERM = xterm
Perl special variables (and OS-specific diagnostics, for MSWin32):
$^X = /cygdrive/c/opt/perl5/cygwin_nt-10.0/3.4.6/x86_64/perl/5.8.6/x86_64-cygwin-thread-multi/bin/perl5.8.6
$UID/$EUID = 1061331 / 1061331
$GID = 1049089 401408 266241 1083352 1049147 1136189 70149 70148 70145 1141978 1081620 1154614 1069144 1111057 1146142 1139332 1144155 1075170 1095782 1081637 1157946 1068897 1155459 1090492 1090104 1059531 1069945 1139179 1152552 1125495 1152548 1049649 1135663 1150082 1155862 1105777 1087957 1152821 1138328 1089865 1059243 1104220 1051354 1100278 1089132 1057337 1056539 1138202 1137881 1152922 1154883 1068783 1141985 1057394 1051228 1122107 1093944 1090906 1151869 1138331 1143577 1088201 1137546 1137338 1125494 1122108 1081942 1058653 1061909 1090413 1081310 1141767 1090502 1157091 1139839 1089123 1156262 1113266 1051245 1098011 1150627 1104222 66048 4095 15 11 66049 4 545 578 1049089
$EGID = 1049089 401408 266241 1083352 1049147 1136189 70149 70148 70145 1141978 1081620 1154614 1069144 1111057 1146142 1139332 1144155 1075170 1095782 1081637 1157946 1068897 1155459 1090492 1090104 1059531 1069945 1139179 1152552 1125495 1152548 1049649 1135663 1150082 1155862 1105777 1087957 1152821 1138328 1089865 1059243 1104220 1051354 1100278 1089132 1057337 1056539 1138202 1137881 1152922 1154883 1068783 1141985 1057394 1051228 1122107 1093944 1090906 1151869 1138331 1143577 1088201 1137546 1137338 1125494 1122108 1081942 1058653 1061909 1090413 1081310 1141767 1090502 1157091 1139839 1089123 1156262 1113266 1051245 1098011 1150627 1104222 66048 4095 15 11 66049 4 545 578 1049089
Perl module toolchain versions installed:
Module Have
------------------- --------
CPAN 2.34
CPAN::Meta 2.150010
Cwd 3.75
ExtUtils::CBuilder 0.280236
ExtUtils::Command 1.16
ExtUtils::Install 1.54
ExtUtils::MakeMaker 6.68
ExtUtils::Manifest 1.60
ExtUtils::ParseXS 3.44
File::Spec 3.75
JSON n/a
JSON::PP 4.16
Module::Build 0.4232
Module::Signature n/a
Parse::CPAN::Meta 2.150010
Test::Harness 3.44
Test::More 1.302194
YAML 1.30
YAML::Syck n/a
version 0.88
--
Summary of my perl5 (revision 5 version 8 subversion 6) configuration:
Platform:
osname=cygwin, osvers=3.4.6-1.x86_64, archname=cygwin-thread-multi
uname='cygwin_nt-10.0-19044 os-a01-l0123 3.4.6-1.x86_64 2023-02-14 13:23 utc x86_64 cygwin '
config_args='-de -Dmksymlinks -Uinc_version_list -Uinstallusrbinperl -Dusethreads -Dusemultiplicity -Dusequadmath -Uloclibpth -Dlibpth=/usr/lib /usr/lib/gcc/x86_64-pc-cygwin/11 -Dprefix=/opt/perl5/cygwin_nt-10.0/3.4.6/x86_64/perl/5.8.6/x86_64-cygwin-thread-multi -Darchname=x86_64-cygwin-thread-multi'
hint=recommended, useposix=true, d_sigaction=define
usethreads=define use5005threads=undef useithreads=define usemultiplicity=define
useperlio=define d_sfio=undef uselargefiles=define usesocks=undef
use64bitint=define use64bitall=define uselongdouble=undef
usemymalloc=n, bincompat5005=undef
Compiler:
cc='gcc', ccflags ='-DPERL_USE_SAFE_PUTENV -fpcc-struct-return -pipe -I/usr/local/include',
optimize='-O2',
cppflags='-DPERL_USE_SAFE_PUTENV -fpcc-struct-return -pipe -I/usr/local/include -D__GNUC__'
ccversion='', gccversion='11.3.0', gccosandvers=''
intsize=4, longsize=8, ptrsize=8, doublesize=8, byteorder=12345678
d_longlong=define, longlongsize=8, d_longdbl=define, longdblsize=16
ivtype='long', ivsize=8, nvtype='double', nvsize=8, Off_t='off_t', lseeksize=8
alignbytes=8, prototype=define
Linker and Libraries:
ld='ld2', ldflags =''
libpth=/usr/lib /usr/lib/gcc/x86_64-pc-cygwin/11
libs=-ldl
perllibs=-ldl
libc=/usr/lib/libc.a, so=dll, useshrplib=true, libperl=libperl.a
gnulibc_version=''
Dynamic Linking:
dlsrc=dl_dlopen.xs, dlext=dll, d_dlsymun=undef, ccdlflags=' '
cccdlflags=' ', lddlflags=' '
Characteristics of this binary (from libperl):
Compile-time options: MULTIPLICITY USE_ITHREADS USE_64_BIT_INT USE_64_BIT_ALL USE_LARGE_FILES PERL_IMPLICIT_CONTEXT
Built under cygwin
Compiled at Apr 16 2023 01:29:07
%ENV:
PERL="/cygdrive/c/opt/perl5/cygwin_nt-10.0/3.4.6/x86_64/perl/5.8.6/x86_64-cygwin-thread-multi/bin/perl5.8.6"
PERL5LIB="/opt/perl5/cygwin_nt-10.0/3.4.6/x86_64/perl/5.8.6/x86_64-cygwin-thread-multi/local/lib/perl5:/opt/perl5/cygwin_nt-10.0/3.4.6/x86_64/perl/5.8.6/x86_64-cygwin-thread-multi/local/lib/site_perl:/opt/perl5/cygwin_nt-10.0/3.4.6/x86_64/perl/5.8.6/x86_64-cygwin-thread-multi/local/lib"
PERL5OPT=""
PERL5_CPANPLUS_IS_RUNNING="1475"
PERL5_CPAN_IS_EXECUTING="/opt/perl5/cygwin_nt-10.0/3.4.6/x86_64/cpan/5.8.6/x86_64-cygwin-thread-multi/build/Path-Tiny-0.144-0/Makefile.PL"
PERL5_CPAN_IS_RUNNING="1475"
PERL_AUTOINSTALL="--defaultdeps"
PERL_BASE="/usr/local"
PERL_CANARY_STABILITY_NOPROMPT="1"
PERL_CPAN_REPORTER_CONFIG="/cygdrive/c/home/peter/.cpanreporter/config-cygwin-OS-A01-L0123.ini"
PERL_EXTUTILS_AUTOINSTALL="1"
PERL_MB_OPT="--install_base /opt/perl5/cygwin_nt-10.0/3.4.6/x86_64/perl/5.8.6/x86_64-cygwin-thread-multi/local"
PERL_MM_OPT="INSTALL_BASE=/opt/perl5/cygwin_nt-10.0/3.4.6/x86_64/perl/5.8.6/x86_64-cygwin-thread-multi/local"
PERL_MM_USE_DEFAULT="1"
PERL_TEST_CRITIC="1"
PERL_TEST_POD="1"
PERL_USE_UNSAFE_INC="1"
CYGWIN=""
@INC:
/opt/perl5/cygwin_nt-10.0/3.4.6/x86_64/perl/5.8.6/x86_64-cygwin-thread-multi/local/lib/perl5/cygwin-thread-multi
/opt/perl5/cygwin_nt-10.0/3.4.6/x86_64/perl/5.8.6/x86_64-cygwin-thread-multi/local/lib/perl5
/opt/perl5/cygwin_nt-10.0/3.4.6/x86_64/perl/5.8.6/x86_64-cygwin-thread-multi/local/lib/site_perl/5.8.6
/opt/perl5/cygwin_nt-10.0/3.4.6/x86_64/perl/5.8.6/x86_64-cygwin-thread-multi/local/lib/site_perl
/opt/perl5/cygwin_nt-10.0/3.4.6/x86_64/perl/5.8.6/x86_64-cygwin-thread-multi/local/lib
/opt/perl5/cygwin_nt-10.0/3.4.6/x86_64/perl/5.8.6/x86_64-cygwin-thread-multi/lib/5.8.6/cygwin-thread-multi
/opt/perl5/cygwin_nt-10.0/3.4.6/x86_64/perl/5.8.6/x86_64-cygwin-thread-multi/lib/5.8.6
/opt/perl5/cygwin_nt-10.0/3.4.6/x86_64/perl/5.8.6/x86_64-cygwin-thread-multi/lib/site_perl/5.8.6/cygwin-thread-multi
/opt/perl5/cygwin_nt-10.0/3.4.6/x86_64/perl/5.8.6/x86_64-cygwin-thread-multi/lib/site_perl/5.8.6
/opt/perl5/cygwin_nt-10.0/3.4.6/x86_64/perl/5.8.6/x86_64-cygwin-thread-multi/lib/site_perl
.