Import-Base v1.004 Perl 5 v5.28.2 x86_64-linux
- Status
- Pass
- From
- Dist
-
Import-Base v1.004
- Platform
- Perl 5 v5.28.2 x86_64-linux
- Date
- 2020-11-07 19:04:40
- ID
- 16a4ac36-212c-11eb-a22b-e5748efe6497
This distribution has been tested as part of the CPAN Testers
project, supporting the Perl programming language. See
http://wiki.cpantesters.org/ for more information or email
questions to cpan-testers-discuss@perl.org
--
Dear PREACTION,
This is a computer-generated report for Import-Base-1.004
on perl 5.28.2, created by App::cpanminus::reporter 0.17 (1.7044).
Thank you for uploading your work to CPAN. Congratulations!
All tests were successful.
Sections of this report:
* Tester comments
* Program output
* Prerequisites
* Environment and other context
------------------------------
TESTER COMMENTS
------------------------------
Additional comments from tester:
none provided
------------------------------
PROGRAM OUTPUT
------------------------------
Output from '':
Building and testing Import-Base-1.004
cp lib/Import/Base.pm blib/lib/Import/Base.pm
Manifying 1 pod document
PERL_DL_NONLAZY=1 "/home/berov/perl5/perlbrew/perls/perl-5.28.2/bin/perl" "-MExtUtils::Command::MM" "-MTest::Harness" "-e" "undef *Test::Harness::Switches; test_harness(0, 'blib/lib', 'blib/arch')" t/*.t t/use-case/*.t
t/00-compile.t ......... ok
#
# Versions for all modules listed in MYMETA.json (including optional ones):
#
# === Configure Requires ===
#
# Module Want Have
# ------------------- ---- ----
# ExtUtils::MakeMaker any 7.34
#
# === Build Requires ===
#
# Module Want Have
# ------------------- ---- ----
# ExtUtils::MakeMaker any 7.34
#
# === Test Requires ===
#
# Module Want Have
# ------------------- ---- --------
# Carp any 1.50
# ExtUtils::MakeMaker any 7.34
# File::Spec any 3.74
# IO::Handle any 1.39
# IPC::Open3 any 1.20
# Test::More any 1.302183
#
# === Test Recommends ===
#
# Module Want Have
# ---------- -------- --------
# CPAN::Meta 2.120900 2.150010
#
# === Runtime Requires ===
#
# Module Want Have
# --------------- -------- --------
# Import::Into 1.002005 1.002005
# Module::Runtime any 0.016
# mro any 1.22
# strict any 1.11
# warnings any 1.42
#
t/00-report-prereqs.t .. ok
t/base.t ............... ok
t/exclude.t ............ ok
t/export.t ............. ok
t/order.t .............. ok
t/runtime.t ............ ok
t/subrefs.t ............ ok
t/use-case/dancer2.t ... skipped: Test requires Dancer2 >= 0.166001_01
t/use-case/moo.t ....... ok
t/version.t ............ ok
All tests successful.
Files=11, Tests=17, 1 wallclock secs ( 0.06 usr 0.01 sys + 0.65 cusr 0.05 csys = 0.77 CPU)
Result: PASS
------------------------------
PREREQUISITES
------------------------------
Prerequisite modules loaded:
No requirements found
------------------------------
ENVIRONMENT AND OTHER CONTEXT
------------------------------
Environment variables:
LANG = bg_BG.UTF-8
LANGUAGE = bg
LD_LIBRARY_PATH = /home/berov/.gvm/pkgsets/go1.15.3/global/overlay/lib:
PATH = /home/berov/.gvm/pkgsets/go1.15.3/global/bin:/home/berov/.gvm/gos/go1.15.3/bin:/home/berov/.gvm/pkgsets/go1.15.3/global/overlay/bin:/home/berov/.gvm/bin:/home/berov/.gvm/bin:/home/berov/perl5/perlbrew/bin:/home/berov/perl5/perlbrew/perls/perl-5.28.2/bin:/home/berov/.deno/bin:/home/berov/opt/tesseract/bin:/home/berov/.cargo/bin:/home/berov/.sdkman/candidates/kscript/current/bin:/home/berov/.sdkman/candidates/kotlin/current/bin:/home/berov/.sdkman/candidates/java/current/bin:/home/berov/.sdkman/candidates/gradle/current/bin:/home/berov/.sdkman/candidates/ant/current/bin:/home/berov/bin:/usr/local/sbin:/usr/local/bin:/usr/sbin:/usr/bin:/sbin:/bin:/usr/games:/usr/local/games:/snap/bin
PERLBREW_CONFIGURE_FLAGS = -de -Dcccdlflags=-fPIC -Doptimize=-O2
PERLBREW_HOME = /home/berov/.perlbrew
PERLBREW_MANPATH = /home/berov/perl5/perlbrew/perls/perl-5.28.2/man
PERLBREW_PATH = /home/berov/perl5/perlbrew/bin:/home/berov/perl5/perlbrew/perls/perl-5.28.2/bin
PERLBREW_PERL = perl-5.28.2
PERLBREW_ROOT = /home/berov/perl5/perlbrew
PERLBREW_SHELLRC_VERSION = 0.88
PERLBREW_VERSION = 0.88
SHELL = /bin/bash
TERM = xterm-256color
Perl special variables (and OS-specific diagnostics, for MSWin32):
EGID = 1000 4 24 27 30 46 121 125 131 132 1000
EUID = 1000
EXECUTABLE_NAME = /home/berov/perl5/perlbrew/perls/perl-5.28.2/bin/perl
GID = 1000 4 24 27 30 46 121 125 131 132 1000
UID = 1000
Perl module toolchain versions installed:
Module Have
------------------- --------
CPAN 2.20
CPAN::Meta 2.150010
Cwd 3.74
ExtUtils::CBuilder 0.280230
ExtUtils::Command 7.34
ExtUtils::Install 2.14
ExtUtils::MakeMaker 7.34
ExtUtils::Manifest 1.70
ExtUtils::ParseXS 3.39
File::Spec 3.74
JSON n/a
JSON::PP 2.97001
Module::Build 0.4231
Module::Signature n/a
Parse::CPAN::Meta 2.150010
Test::Harness 3.42
Test::More 1.302183
YAML 1.30
YAML::Syck n/a
version 0.9923
--
Summary of my perl5 (revision 5 version 28 subversion 2) configuration:
Platform:
osname=linux
osvers=5.4.0-28-generic
archname=x86_64-linux
uname='linux kb-s340 5.4.0-28-generic #32-ubuntu smp wed apr 22 17:40:10 utc 2020 x86_64 x86_64 x86_64 gnulinux '
config_args='-de -Dcccdlflags=-fPIC -Doptimize=-O2 -Dprefix=/home/berov/perl5/perlbrew/perls/perl-5.28.2 -Aeval:scriptdir=/home/berov/perl5/perlbrew/perls/perl-5.28.2/bin'
hint=recommended
useposix=true
d_sigaction=define
useithreads=undef
usemultiplicity=undef
use64bitint=define
use64bitall=define
uselongdouble=undef
usemymalloc=n
default_inc_excludes_dot=define
bincompat5005=undef
Compiler:
cc='cc'
ccflags ='-fwrapv -fno-strict-aliasing -pipe -fstack-protector-strong -I/usr/local/include -D_LARGEFILE_SOURCE -D_FILE_OFFSET_BITS=64'
optimize='-O2'
cppflags='-fwrapv -fno-strict-aliasing -pipe -fstack-protector-strong -I/usr/local/include'
ccversion=''
gccversion='9.3.0'
gccosandvers=''
intsize=4
longsize=8
ptrsize=8
doublesize=8
byteorder=12345678
doublekind=3
d_longlong=define
longlongsize=8
d_longdbl=define
longdblsize=16
longdblkind=3
ivtype='long'
ivsize=8
nvtype='double'
nvsize=8
Off_t='off_t'
lseeksize=8
alignbytes=8
prototype=define
Linker and Libraries:
ld='cc'
ldflags =' -fstack-protector-strong -L/usr/local/lib'
libpth=/usr/local/lib /usr/include/x86_64-linux-gnu /usr/lib /lib/x86_64-linux-gnu /lib/../lib /usr/lib/x86_64-linux-gnu /usr/lib/../lib /lib /lib64 /usr/lib64
libs=-lpthread -lnsl -ldl -lm -lcrypt -lutil -lc
perllibs=-lpthread -lnsl -ldl -lm -lcrypt -lutil -lc
libc=libc-2.31.so
so=so
useshrplib=false
libperl=libperl.a
gnulibc_version='2.31'
Dynamic Linking:
dlsrc=dl_dlopen.xs
dlext=so
d_dlsymun=undef
ccdlflags='-Wl,-E'
cccdlflags='-fPIC'
lddlflags='-shared -O2 -L/usr/local/lib -fstack-protector-strong'
Characteristics of this binary (from libperl):
Compile-time options:
HAS_TIMES
PERLIO_LAYERS
PERL_COPY_ON_WRITE
PERL_DONT_CREATE_GVSV
PERL_MALLOC_WRAP
PERL_OP_PARENT
PERL_PRESERVE_IVUV
USE_64_BIT_ALL
USE_64_BIT_INT
USE_LARGE_FILES
USE_LOCALE
USE_LOCALE_COLLATE
USE_LOCALE_CTYPE
USE_LOCALE_NUMERIC
USE_LOCALE_TIME
USE_PERLIO
USE_PERL_ATOF
Locally applied patches:
Devel::PatchPerl 1.92
Built under linux
Compiled at Apr 29 2020 22:04:44
%ENV:
PERLBREW_CONFIGURE_FLAGS="-de -Dcccdlflags=-fPIC -Doptimize=-O2"
PERLBREW_HOME="/home/berov/.perlbrew"
PERLBREW_MANPATH="/home/berov/perl5/perlbrew/perls/perl-5.28.2/man"
PERLBREW_PATH="/home/berov/perl5/perlbrew/bin:/home/berov/perl5/perlbrew/perls/perl-5.28.2/bin"
PERLBREW_PERL="perl-5.28.2"
PERLBREW_ROOT="/home/berov/perl5/perlbrew"
PERLBREW_SHELLRC_VERSION="0.88"
PERLBREW_VERSION="0.88"
@INC:
/home/berov/perl5/perlbrew/perls/perl-5.28.2/lib/site_perl/5.28.2/x86_64-linux
/home/berov/perl5/perlbrew/perls/perl-5.28.2/lib/site_perl/5.28.2
/home/berov/perl5/perlbrew/perls/perl-5.28.2/lib/5.28.2/x86_64-linux
/home/berov/perl5/perlbrew/perls/perl-5.28.2/lib/5.28.2