Encode v3.20 Perl 5 v5.36.1 x86_64-cygwin-threads-multi
- Status
- Pass
- From
- tzccinct
- Dist
-
Encode v3.20
- Platform
- Perl 5 v5.36.1 x86_64-cygwin-threads-multi
- Date
- 2023-11-11 23:56:07
- ID
- 15fe565c-6f23-1014-8205-91b11457b514
This distribution has been tested as part of the CPAN Testers
project, supporting the Perl programming language. See
http://wiki.cpantesters.org/ for more information or email
questions to cpan-testers-discuss@perl.org
--
Dear Dan Kogai,
This is a computer-generated report for Encode-3.20
on perl 5.36.1, created by CPAN-Reporter-1.2019.
Thank you for uploading your work to CPAN. Congratulations!
All tests were successful.
Sections of this report:
* Tester comments
* Program output
* Prerequisites
* Environment and other context
------------------------------
TESTER COMMENTS
------------------------------
Additional comments from tester:
none provided
------------------------------
PROGRAM OUTPUT
------------------------------
Output from '/usr/bin/make test':
"/usr/bin/perl.exe" -MExtUtils::Command::MM -e 'cp_nonempty' -- Encode.bs blib/arch/auto/Encode/Encode.bs 644
make[1]: ãÂÂã£ã‹¯ãÂÂ㪠'/home/tzccinct/.cpan/build/Encode-3.20-0/Byte' ã«åÂ
¥ãÂÂã¾ãÂÂ
"/usr/bin/perl.exe" -MExtUtils::Command::MM -e 'cp_nonempty' -- Byte.bs ../blib/arch/auto/Encode/Byte/Byte.bs 644
make[1]: ãÂÂã£ã‹¯ãÂÂ㪠'/home/tzccinct/.cpan/build/Encode-3.20-0/Byte' ãÂÂãÂÂåºã¾ãÂÂ
make[1]: ãÂÂã£ã‹¯ãÂÂ㪠'/home/tzccinct/.cpan/build/Encode-3.20-0/CN' ã«åÂ
¥ãÂÂã¾ãÂÂ
"/usr/bin/perl.exe" -MExtUtils::Command::MM -e 'cp_nonempty' -- CN.bs ../blib/arch/auto/Encode/CN/CN.bs 644
make[1]: ãÂÂã£ã‹¯ãÂÂ㪠'/home/tzccinct/.cpan/build/Encode-3.20-0/CN' ãÂÂãÂÂåºã¾ãÂÂ
make[1]: ãÂÂã£ã‹¯ãÂÂ㪠'/home/tzccinct/.cpan/build/Encode-3.20-0/EBCDIC' ã«åÂ
¥ãÂÂã¾ãÂÂ
"/usr/bin/perl.exe" -MExtUtils::Command::MM -e 'cp_nonempty' -- EBCDIC.bs ../blib/arch/auto/Encode/EBCDIC/EBCDIC.bs 644
make[1]: ãÂÂã£ã‹¯ãÂÂ㪠'/home/tzccinct/.cpan/build/Encode-3.20-0/EBCDIC' ãÂÂãÂÂåºã¾ãÂÂ
make[1]: ãÂÂã£ã‹¯ãÂÂ㪠'/home/tzccinct/.cpan/build/Encode-3.20-0/JP' ã«åÂ
¥ãÂÂã¾ãÂÂ
"/usr/bin/perl.exe" -MExtUtils::Command::MM -e 'cp_nonempty' -- JP.bs ../blib/arch/auto/Encode/JP/JP.bs 644
make[1]: ãÂÂã£ã‹¯ãÂÂ㪠'/home/tzccinct/.cpan/build/Encode-3.20-0/JP' ãÂÂãÂÂåºã¾ãÂÂ
make[1]: ãÂÂã£ã‹¯ãÂÂ㪠'/home/tzccinct/.cpan/build/Encode-3.20-0/KR' ã«åÂ
¥ãÂÂã¾ãÂÂ
"/usr/bin/perl.exe" -MExtUtils::Command::MM -e 'cp_nonempty' -- KR.bs ../blib/arch/auto/Encode/KR/KR.bs 644
make[1]: ãÂÂã£ã‹¯ãÂÂ㪠'/home/tzccinct/.cpan/build/Encode-3.20-0/KR' ãÂÂãÂÂåºã¾ãÂÂ
make[1]: ãÂÂã£ã‹¯ãÂÂ㪠'/home/tzccinct/.cpan/build/Encode-3.20-0/Symbol' ã«åÂ
¥ãÂÂã¾ãÂÂ
"/usr/bin/perl.exe" -MExtUtils::Command::MM -e 'cp_nonempty' -- Symbol.bs ../blib/arch/auto/Encode/Symbol/Symbol.bs 644
make[1]: ãÂÂã£ã‹¯ãÂÂ㪠'/home/tzccinct/.cpan/build/Encode-3.20-0/Symbol' ãÂÂãÂÂåºã¾ãÂÂ
make[1]: ãÂÂã£ã‹¯ãÂÂ㪠'/home/tzccinct/.cpan/build/Encode-3.20-0/TW' ã«åÂ
¥ãÂÂã¾ãÂÂ
"/usr/bin/perl.exe" -MExtUtils::Command::MM -e 'cp_nonempty' -- TW.bs ../blib/arch/auto/Encode/TW/TW.bs 644
make[1]: ãÂÂã£ã‹¯ãÂÂ㪠'/home/tzccinct/.cpan/build/Encode-3.20-0/TW' ãÂÂãÂÂåºã¾ãÂÂ
make[1]: ãÂÂã£ã‹¯ãÂÂ㪠'/home/tzccinct/.cpan/build/Encode-3.20-0/Unicode' ã«åÂ
¥ãÂÂã¾ãÂÂ
"/usr/bin/perl.exe" -MExtUtils::Command::MM -e 'cp_nonempty' -- Unicode.bs ../blib/arch/auto/Encode/Unicode/Unicode.bs 644
make[1]: ãÂÂã£ã‹¯ãÂÂ㪠'/home/tzccinct/.cpan/build/Encode-3.20-0/Unicode' ãÂÂãÂÂåºã¾ãÂÂ
make[1]: ãÂÂã£ã‹¯ãÂÂ㪠'/home/tzccinct/.cpan/build/Encode-3.20-0/Byte' ã«åÂ
¥ãÂÂã¾ãÂÂ
"/usr/bin/perl.exe" -MExtUtils::Command::MM -e 'cp_nonempty' -- Byte.bs ../blib/arch/auto/Encode/Byte/Byte.bs 644
No tests defined for Encode::Byte extension.
make[1]: ãÂÂã£ã‹¯ãÂÂ㪠'/home/tzccinct/.cpan/build/Encode-3.20-0/Byte' ãÂÂãÂÂåºã¾ãÂÂ
make[1]: ãÂÂã£ã‹¯ãÂÂ㪠'/home/tzccinct/.cpan/build/Encode-3.20-0/CN' ã«åÂ
¥ãÂÂã¾ãÂÂ
"/usr/bin/perl.exe" -MExtUtils::Command::MM -e 'cp_nonempty' -- CN.bs ../blib/arch/auto/Encode/CN/CN.bs 644
No tests defined for Encode::CN extension.
make[1]: ãÂÂã£ã‹¯ãÂÂ㪠'/home/tzccinct/.cpan/build/Encode-3.20-0/CN' ãÂÂãÂÂåºã¾ãÂÂ
make[1]: ãÂÂã£ã‹¯ãÂÂ㪠'/home/tzccinct/.cpan/build/Encode-3.20-0/EBCDIC' ã«åÂ
¥ãÂÂã¾ãÂÂ
"/usr/bin/perl.exe" -MExtUtils::Command::MM -e 'cp_nonempty' -- EBCDIC.bs ../blib/arch/auto/Encode/EBCDIC/EBCDIC.bs 644
No tests defined for Encode::EBCDIC extension.
make[1]: ãÂÂã£ã‹¯ãÂÂ㪠'/home/tzccinct/.cpan/build/Encode-3.20-0/EBCDIC' ãÂÂãÂÂåºã¾ãÂÂ
make[1]: ãÂÂã£ã‹¯ãÂÂ㪠'/home/tzccinct/.cpan/build/Encode-3.20-0/JP' ã«åÂ
¥ãÂÂã¾ãÂÂ
"/usr/bin/perl.exe" -MExtUtils::Command::MM -e 'cp_nonempty' -- JP.bs ../blib/arch/auto/Encode/JP/JP.bs 644
No tests defined for Encode::JP extension.
make[1]: ãÂÂã£ã‹¯ãÂÂ㪠'/home/tzccinct/.cpan/build/Encode-3.20-0/JP' ãÂÂãÂÂåºã¾ãÂÂ
make[1]: ãÂÂã£ã‹¯ãÂÂ㪠'/home/tzccinct/.cpan/build/Encode-3.20-0/KR' ã«åÂ
¥ãÂÂã¾ãÂÂ
"/usr/bin/perl.exe" -MExtUtils::Command::MM -e 'cp_nonempty' -- KR.bs ../blib/arch/auto/Encode/KR/KR.bs 644
No tests defined for Encode::KR extension.
make[1]: ãÂÂã£ã‹¯ãÂÂ㪠'/home/tzccinct/.cpan/build/Encode-3.20-0/KR' ãÂÂãÂÂåºã¾ãÂÂ
make[1]: ãÂÂã£ã‹¯ãÂÂ㪠'/home/tzccinct/.cpan/build/Encode-3.20-0/Symbol' ã«åÂ
¥ãÂÂã¾ãÂÂ
"/usr/bin/perl.exe" -MExtUtils::Command::MM -e 'cp_nonempty' -- Symbol.bs ../blib/arch/auto/Encode/Symbol/Symbol.bs 644
No tests defined for Encode::Symbol extension.
make[1]: ãÂÂã£ã‹¯ãÂÂ㪠'/home/tzccinct/.cpan/build/Encode-3.20-0/Symbol' ãÂÂãÂÂåºã¾ãÂÂ
make[1]: ãÂÂã£ã‹¯ãÂÂ㪠'/home/tzccinct/.cpan/build/Encode-3.20-0/TW' ã«åÂ
¥ãÂÂã¾ãÂÂ
"/usr/bin/perl.exe" -MExtUtils::Command::MM -e 'cp_nonempty' -- TW.bs ../blib/arch/auto/Encode/TW/TW.bs 644
No tests defined for Encode::TW extension.
make[1]: ãÂÂã£ã‹¯ãÂÂ㪠'/home/tzccinct/.cpan/build/Encode-3.20-0/TW' ãÂÂãÂÂåºã¾ãÂÂ
make[1]: ãÂÂã£ã‹¯ãÂÂ㪠'/home/tzccinct/.cpan/build/Encode-3.20-0/Unicode' ã«åÂ
¥ãÂÂã¾ãÂÂ
"/usr/bin/perl.exe" -MExtUtils::Command::MM -e 'cp_nonempty' -- Unicode.bs ../blib/arch/auto/Encode/Unicode/Unicode.bs 644
No tests defined for Encode::Unicode extension.
make[1]: ãÂÂã£ã‹¯ãÂÂ㪠'/home/tzccinct/.cpan/build/Encode-3.20-0/Unicode' ãÂÂãÂÂåºã¾ãÂÂ
PERL_DL_NONLAZY=1 "/usr/bin/perl.exe" "-MExtUtils::Command::MM" "-MTest::Harness" "-e" "undef *Test::Harness::Switches; test_harness(0, 'blib/lib', 'blib/arch')" t/*.t
t/Aliases.t ................ ok
t/at-cn.t .................. ok
t/at-tw.t .................. ok
t/CJKT.t ................... ok
t/cow.t .................... ok
t/decode.t ................. ok
t/enc_data.t ............... skipped: encoding pragma not supported in Perl 5.25 or later
t/enc_eucjp.t .............. skipped: Perl <=5.25.2 or cperl required
t/enc_module.t ............. skipped: encoding pragma not supported in Perl 5.25 or later
t/enc_utf8.t ............... skipped: Perl <=5.25.2 or cperl required
t/Encode.t ................. ok
t/Encoder.t ................ ok
t/encoding-locale.t ........ ok
t/encoding.t ............... skipped: encoding pragma not supported in Perl 5.25 or later
t/fallback.t ............... ok
t/from_to.t ................ ok
t/grow.t ................... ok
t/gsm0338.t ................ ok
t/guess.t .................. ok
t/isa.t .................... ok
t/jis7-fallback.t .......... ok
t/jperl.t .................. skipped: encoding pragma not supported in Perl 5.25 or later
t/magic.t .................. ok
t/mime-header.t ............ ok
t/mime-name.t .............. ok
t/mime_header_iso2022jp.t .. ok
t/perlio.t ................. ok
t/piconv.t ................. ok
t/rt113164.t ............... ok
t/rt65541.t ................ ok
t/rt76824.t ................ ok
t/rt85489.t ................ ok
t/rt86327.t ................ ok
t/taint.t .................. ok
t/truncated_utf8.t ......... ok
t/undef.t .................. ok
t/Unicode.t ................ ok
t/Unicode_trailing_nul.t ... ok
t/use-Encode-Alias.t ....... ok
t/utf32warnings.t .......... ok
t/utf8ref.t ................ ok
t/utf8strict.t ............. ok
t/utf8warnings.t ........... ok
t/whatwg-aliases.t ......... skipped: For maintainers only
t/xml.t .................... ok
All tests successful.
Files=45, Tests=7769, 8 wallclock secs ( 0.01 usr 0.02 sys + 3.22 cusr 1.84 csys = 5.09 CPU)
Result: PASS
------------------------------
PREREQUISITES
------------------------------
Prerequisite modules loaded:
requires:
Module Need Have
------------------- ----- --------
Exporter 5.57 5.77
parent 0.221 0.241
Storable 0 3.26
build_requires:
Module Need Have
------------------- ----- --------
ExtUtils::MakeMaker 0 7.70
Test::More 0.92 1.302196
configure_requires:
Module Need Have
------------------- ----- --------
ExtUtils::MakeMaker 0 7.70
------------------------------
ENVIRONMENT AND OTHER CONTEXT
------------------------------
Environment variables:
COMSPEC = C:\Windows\system32\cmd.exe
LANG = ja_JP.UTF-8
NUMBER_OF_PROCESSORS = 16
PATH = /usr/local/bin:/usr/bin:/usr/bin:/cygdrive/c/Windows/system32:/cygdrive/c/Windows:/cygdrive/c/Windows/System32/Wbem:/cygdrive/c/Windows/System32/WindowsPowerShell/v1.0:/cygdrive/c/Windows/System32/OpenSSH:/cygdrive/c/Program Files/Microsoft VS Code/bin:/cygdrive/c/Strawberry/c/bin:/cygdrive/c/Strawberry/perl/site/bin:/cygdrive/c/Strawberry/perl/bin:/cygdrive/c/Users/tzccinct/AppData/Local/Microsoft/WindowsApps
PERL5LIB =
PERL5OPT =
PERL5_CPANPLUS_IS_RUNNING = 2219
PERL5_CPAN_IS_RUNNING = 2219
PERL_USE_UNSAFE_INC = 1
PROCESSOR_IDENTIFIER = Intel64 Family 6 Model 154 Stepping 3, GenuineIntel
SHELL = /bin/bash
TEMP = /tmp
TERM = screen
Perl special variables (and OS-specific diagnostics, for MSWin32):
$^X = /usr/bin/perl
$UID/$EUID = 197610 / 197610
$GID = 197121 197121 545 4 66049 11 15 113 4095 66048 262154 401408
$EGID = 197121 197121 545 4 66049 11 15 113 4095 66048 262154 401408
Perl module toolchain versions installed:
Module Have
------------------- --------
CPAN 2.35
CPAN::Meta 2.150010
Cwd 3.84
ExtUtils::CBuilder 0.280236
ExtUtils::Command 7.70
ExtUtils::Install 2.22
ExtUtils::MakeMaker 7.70
ExtUtils::Manifest 1.75
ExtUtils::ParseXS 3.51
File::Spec 3.84
JSON 4.10
JSON::PP 4.16
Module::Build 0.4234
Module::Signature n/a
Parse::CPAN::Meta 2.150010
Test2 1.302196
Test::Harness 3.48
Test::More 1.302196
YAML 1.30
YAML::Syck n/a
version 0.9930
--
Summary of my perl5 (revision 5 version 36 subversion 1) configuration:
Platform:
osname=cygwin
osvers=3.4.6-1.x86_64
archname=x86_64-cygwin-threads-multi
uname='cygwin_nt-10.0-22621 walter 3.4.6-1.x86_64 2023-02-14 13:23 utc x86_64 cygwin '
config_args='-des -Dprefix=/usr -Dmksymlinks -Darchname=x86_64-cygwin-threads -Dlibperl=cygperl5_36.dll -Dcc=gcc -Dld=g++ -Accflags=-ggdb -O2 -pipe -Wall -Werror=format-security -D_FORTIFY_SOURCE=2 -fstack-protector-strong --param=ssp-buffer-size=4 -fdebug-prefix-map=/mnt/share/cygpkgs/perl/perl.x86_64/build=/usr/src/debug/perl-5.36.1-1 -fdebug-prefix-map=/mnt/share/cygpkgs/perl/perl.x86_64/src/perl-5.36.1=/usr/src/debug/perl-5.36.1-1 -fwrapv'
hint=recommended
useposix=true
d_sigaction=define
useithreads=define
usemultiplicity=define
use64bitint=define
use64bitall=define
uselongdouble=undef
usemymalloc=n
default_inc_excludes_dot=define
Compiler:
cc='gcc'
ccflags ='-DPERL_USE_SAFE_PUTENV -U__STRICT_ANSI__ -D_GNU_SOURCE -ggdb -O2 -pipe -Wall -Werror=format-security -D_FORTIFY_SOURCE=2 -fstack-protector-strong --param=ssp-buffer-size=4 -fdebug-prefix-map=/mnt/share/cygpkgs/perl/perl.x86_64/build=/usr/src/debug/perl-5.36.1-1 -fdebug-prefix-map=/mnt/share/cygpkgs/perl/perl.x86_64/src/perl-5.36.1=/usr/src/debug/perl-5.36.1-1 -fwrapv -fno-strict-aliasing'
optimize='-O3'
cppflags='-DPERL_USE_SAFE_PUTENV -U__STRICT_ANSI__ -D_GNU_SOURCE -ggdb -O2 -pipe -Wall -Werror=format-security -D_FORTIFY_SOURCE=2 -fstack-protector-strong --param=ssp-buffer-size=4 -fdebug-prefix-map=/mnt/share/cygpkgs/perl/perl.x86_64/build=/usr/src/debug/perl-5.36.1-1 -fdebug-prefix-map=/mnt/share/cygpkgs/perl/perl.x86_64/src/perl-5.36.1=/usr/src/debug/perl-5.36.1-1 -fwrapv -fno-strict-aliasing'
ccversion=''
gccversion='11.3.1 20230310'
gccosandvers=''
intsize=4
longsize=8
ptrsize=8
doublesize=8
byteorder=12345678
doublekind=3
d_longlong=define
longlongsize=8
d_longdbl=define
longdblsize=16
longdblkind=3
ivtype='long'
ivsize=8
nvtype='double'
nvsize=8
Off_t='off_t'
lseeksize=8
alignbytes=8
prototype=define
Linker and Libraries:
ld='g++'
ldflags =' -Wl,--enable-auto-import -Wl,--export-all-symbols -Wl,--enable-auto-image-base -fstack-protector-strong'
libpth=/usr/lib
libs=-lpthread -lnsl -lgdbm -ldb -ldl -lcrypt -lgdbm_compat
perllibs=-lpthread -lnsl -ldl -lcrypt
libc=/usr/lib/libcygwin.a
so=dll
useshrplib=true
libperl=cygperl5_36.dll
gnulibc_version=''
Dynamic Linking:
dlsrc=dl_dlopen.xs
dlext=dll
d_dlsymun=undef
ccdlflags=' '
cccdlflags=' '
lddlflags=' --shared -Wl,--enable-auto-import -Wl,--export-all-symbols -Wl,--enable-auto-image-base -fstack-protector-strong'
Characteristics of this binary (from libperl):
Compile-time options:
HAS_TIMES
MULTIPLICITY
PERLIO_LAYERS
PERL_COPY_ON_WRITE
PERL_DONT_CREATE_GVSV
PERL_OP_PARENT
PERL_PRESERVE_IVUV
PERL_USE_SAFE_PUTENV
USE_64_BIT_ALL
USE_64_BIT_INT
USE_ITHREADS
USE_LARGE_FILES
USE_LOCALE
USE_LOCALE_COLLATE
USE_LOCALE_CTYPE
USE_LOCALE_NUMERIC
USE_LOCALE_TIME
USE_PERLIO
USE_PERL_ATOF
USE_REENTRANT_API
USE_THREAD_SAFE_LOCALE
Locally applied patches:
Cygwin: README
Cygwin: use auto-image-base instead of fixed DLL base address
Cygwin: modify hints
Cygwin: Configure correct libsearch
Cygwin: Configure correct libpth
Cygwin: Win32 correct UTF8 handling
Built under cygwin
Compiled at May 2 2023 20:12:20
%ENV:
PERL5LIB=""
PERL5OPT=""
PERL5_CPANPLUS_IS_RUNNING="2219"
PERL5_CPAN_IS_RUNNING="2219"
PERL_USE_UNSAFE_INC="1"
@INC:
/usr/local/lib/perl5/site_perl/5.36/x86_64-cygwin-threads
/usr/local/share/perl5/site_perl/5.36
/usr/lib/perl5/vendor_perl/5.36/x86_64-cygwin-threads
/usr/share/perl5/vendor_perl/5.36
/usr/lib/perl5/5.36/x86_64-cygwin-threads
/usr/share/perl5/5.36
.