Org-Parser v0.555 Perl 5 v5.14.4 x86_64-linux-thread-multi

Status
Pass
From
David Cantrell (DCANTRELL)
Dist
Org-Parser v0.555
Platform
Perl 5 v5.14.4 x86_64-linux-thread-multi
Date
2022-02-09 17:02:33
ID
132ab750-89ca-11ec-81bb-75e64c9d353e
This distribution has been tested as part of the CPAN Testers
project, supporting the Perl programming language.  See
http://wiki.cpantesters.org/ for more information or email
questions to cpan-testers-discuss@perl.org


--
Dear perlancar,

This is a computer-generated report for Org-Parser-0.555
on perl 5.14.4, created by CPAN-Reporter-1.2018.

Thank you for uploading your work to CPAN.  Congratulations!
All tests were successful.

Sections of this report:

    * Tester comments
    * Program output
    * Prerequisites
    * Environment and other context

------------------------------
TESTER COMMENTS
------------------------------

Additional comments from tester:

this report is from an automated smoke testing program
and was not reviewed by a human for accuracy

------------------------------
PROGRAM OUTPUT
------------------------------

Output from '/usr/bin/make test':

PERL_DL_NONLAZY=1 "/home/david/cpantesting/perl-5.14.4/bin/perl" "-MExtUtils::Command::MM" "-MTest::Harness" "-e" "undef *Test::Harness::Switches; test_harness(0, 'blib/lib', 'blib/arch')" t/*.t
t/00-compile.t ............... ok
t/01-basics.t ................ ok
t/author-critic.t ............ skipped: these tests are for testing by the author
t/author-pod-coverage.t ...... skipped: these tests are for testing by the author
t/author-pod-syntax.t ........ skipped: these tests are for testing by the author
t/base_element-field_name.t .. ok
t/base_element.t ............. ok
t/block.t .................... ok
t/comment.t .................. ok
t/document.t ................. ok
t/drawer.t ................... ok
t/fixed_width_section.t ...... ok
t/footnote.t ................. ok
t/headline-get_property.t .... ok
t/headline.t ................. ok
t/link_and_target.t .......... ok
t/list.t ..................... ok
t/radio_target.t ............. ok
t/regression-rt68443.t ....... ok
t/rt98375.t .................. ok
t/setting-todo.t ............. ok
t/setting.t .................. ok
t/table.t .................... ok
t/text.t ..................... ok
t/timerange.t ................ ok
t/timestamp.t ................ ok
t/unicode.t .................. ok
t/various.t .................. ok
All tests successful.
Files=28, Tests=120, 35 wallclock secs ( 0.24 usr  0.10 sys + 10.75 cusr  1.33 csys = 12.42 CPU)
Result: PASS

------------------------------
PREREQUISITES
------------------------------

Prerequisite modules loaded:

requires:

    Module                      Need     Have     
    --------------------------- -------- ---------
    Cwd                         0        3.36     
    DateTime                    0        1.55     
    DateTime::Event::Recurrence 0        0.19     
    Digest::MD5                 0        2.51     
    experimental                0        0.027    
    File::Slurper               0        0.013    
    if                          0        0.0601   
    List::MoreUtils             0        0.430    
    locale                      0        1.00     
    Log::ger                    0.038    0.038    
    Module::List                0        0.004    
    Module::Load                0        0.36     
    Moo                         0        2.005004 
    Moo::Role                   0        2.005004 
    perl                        5.010001 5.014004 
    Scalar::Util                0        1.60     
    Storable                    3.08     3.25     
    Time::HiRes                 0        1.9721_01
    utf8                        0        1.09     
    warnings                    0        1.12     

build_requires:

    Module                      Need     Have     
    --------------------------- -------- ---------
    ExtUtils::MakeMaker         0        7.64     
    File::Spec                  0        3.33     
    File::Temp                  0.2307   0.2311   
    FindBin                     0        1.50     
    IO::Handle                  0        1.31     
    IPC::Open3                  0        1.0901   
    lib                         0        0.63     
    Module::Loaded              0        0.06     
    Org::Dump                   0.551    0.552    
    strict                      0        1.04     
    Test::Exception             0        0.43     
    Test::More                  0.98     1.302188 

configure_requires:

    Module                      Need     Have     
    --------------------------- -------- ---------
    ExtUtils::MakeMaker         0        7.64     


------------------------------
ENVIRONMENT AND OTHER CONTEXT
------------------------------

Environment variables:

    AUTOMATED_TESTING = 1
    LANG = en_GB.UTF-8
    LANGUAGE = en_GB:en
    LC_TERMINAL = iTerm2
    LC_TERMINAL_VERSION = 3.4.14
    NONINTERACTIVE_TESTING = 1
    PATH = /home/david/perl5/perlbrew/bin:/home/david/perl5/perlbrew/perls/perl-5.30.2/bin:/home/david/bin:/usr/local/bin:/usr/bin:/bin:/usr/local/games:/usr/games
    PERL = 5.14.4
    PERL5LIB = 
    PERL5OPT = 
    PERL5_CPANPLUS_IS_RUNNING = 1088976
    PERL5_CPAN_IS_RUNNING = 1088976
    PERLBREW_HOME = /home/david/.perlbrew
    PERLBREW_MANPATH = /home/david/perl5/perlbrew/perls/perl-5.30.2/man
    PERLBREW_PATH = /home/david/perl5/perlbrew/bin:/home/david/perl5/perlbrew/perls/perl-5.30.2/bin
    PERLBREW_PERL = perl-5.30.2
    PERLBREW_ROOT = /home/david/perl5/perlbrew
    PERLBREW_SHELLRC_VERSION = 0.89
    PERLBREW_VERSION = 0.89
    PERLVER = 5.14.4
    PERL_INLINE_DIRECTORY = /home/david/.Inline-5.14.4
    PERL_MM_USE_DEFAULT = 1
    PERL_USE_UNSAFE_INC = 0
    SHELL = /bin/bash
    TERM = screen

Perl special variables (and OS-specific diagnostics, for MSWin32):

    $^X = /home/david/cpantesting/perl-5.14.4/bin/perl
    $UID/$EUID = 1000 / 1000
    $GID = 1000 24 25 27 29 30 44 46 109 1000
    $EGID = 1000 24 25 27 29 30 44 46 109 1000

Perl module toolchain versions installed:

    Module              Have    
    ------------------- --------
    CPAN                1.94    
    CPAN::Meta          2.143240
    Cwd                 3.36    
    ExtUtils::CBuilder  0.280203
    ExtUtils::Command   7.64    
    ExtUtils::Install   2.06    
    ExtUtils::MakeMaker 7.64    
    ExtUtils::Manifest  1.70    
    ExtUtils::ParseXS   3.44    
    File::Spec          3.33    
    JSON                4.05    
    JSON::PP            4.07    
    Module::Build       0.4231  
    Module::Signature   n/a     
    Parse::CPAN::Meta   1.4414  
    Test::Harness       3.42    
    Test::More          1.302188
    YAML                1.30    
    YAML::Syck          n/a     
    version             0.88    


--

Summary of my perl5 (revision 5 version 14 subversion 4) configuration:
   
  Platform:
    osname=linux, osvers=5.10.0-11-amd64, archname=x86_64-linux-thread-multi
    uname='linux cpantesting-linux-utm 5.10.0-11-amd64 #1 smp debian 5.10.92-1 (2022-01-18) x86_64 gnulinux '
    config_args='-de -Dusethreads -Dprefix=/home/david/cpantesting/perl-5.14.4 -A ccflags=-fwrapv'
    hint=recommended, useposix=true, d_sigaction=define
    useithreads=define, usemultiplicity=define
    useperlio=define, d_sfio=undef, uselargefiles=define, usesocks=undef
    use64bitint=define, use64bitall=define, uselongdouble=undef
    usemymalloc=n, bincompat5005=undef
  Compiler:
    cc='cc', ccflags ='-D_REENTRANT -D_GNU_SOURCE -fwrapv -fno-strict-aliasing -pipe -fstack-protector -I/usr/local/include -D_LARGEFILE_SOURCE -D_FILE_OFFSET_BITS=64',
    optimize='-O2',
    cppflags='-D_REENTRANT -D_GNU_SOURCE -fwrapv -fno-strict-aliasing -pipe -fstack-protector -I/usr/local/include'
    ccversion='', gccversion='10.2.1 20210110', gccosandvers=''
    intsize=4, longsize=8, ptrsize=8, doublesize=8, byteorder=12345678
    d_longlong=define, longlongsize=8, d_longdbl=define, longdblsize=16
    ivtype='long', ivsize=8, nvtype='double', nvsize=8, Off_t='off_t', lseeksize=8
    alignbytes=8, prototype=define
  Linker and Libraries:
    ld='cc', ldflags =' -fstack-protector -L/usr/local/lib'
    libpth=/usr/local/lib /lib/x86_64-linux-gnu /lib/../lib /usr/lib/x86_64-linux-gnu /usr/lib/../lib /lib /usr/lib /lib64 /usr/lib64
    libs=-lnsl -ldl -lm -lcrypt -lutil -lpthread -lc
    perllibs=-lnsl -ldl -lm -lcrypt -lutil -lpthread -lc
    libc=libc-2.31.so, so=so, useshrplib=false, libperl=libperl.a
    gnulibc_version='2.31'
  Dynamic Linking:
    dlsrc=dl_dlopen.xs, dlext=so, d_dlsymun=undef, ccdlflags='-Wl,-E'
    cccdlflags='-fPIC', lddlflags='-shared -O2 -L/usr/local/lib -fstack-protector'


Characteristics of this binary (from libperl): 
  Compile-time options: MULTIPLICITY PERL_DONT_CREATE_GVSV
                        PERL_IMPLICIT_CONTEXT PERL_MALLOC_WRAP
                        PERL_PRESERVE_IVUV USE_64_BIT_ALL USE_64_BIT_INT
                        USE_ITHREADS USE_LARGE_FILES USE_PERLIO USE_PERL_ATOF
                        USE_REENTRANT_API
  Locally applied patches:
	Devel::PatchPerl 2.08
  Built under linux
  Compiled at Feb  5 2022 21:04:36
  %ENV:
    PERL="5.14.4"
    PERL5LIB=""
    PERL5OPT=""
    PERL5_CPANPLUS_IS_RUNNING="1088976"
    PERL5_CPAN_IS_RUNNING="1088976"
    PERLBREW_HOME="/home/david/.perlbrew"
    PERLBREW_MANPATH="/home/david/perl5/perlbrew/perls/perl-5.30.2/man"
    PERLBREW_PATH="/home/david/perl5/perlbrew/bin:/home/david/perl5/perlbrew/perls/perl-5.30.2/bin"
    PERLBREW_PERL="perl-5.30.2"
    PERLBREW_ROOT="/home/david/perl5/perlbrew"
    PERLBREW_SHELLRC_VERSION="0.89"
    PERLBREW_VERSION="0.89"
    PERLVER="5.14.4"
    PERL_INLINE_DIRECTORY="/home/david/.Inline-5.14.4"
    PERL_MM_USE_DEFAULT="1"
    PERL_USE_UNSAFE_INC="0"
  @INC:
    /home/david/cpantesting/perl-5.14.4/lib/site_perl/5.14.4/x86_64-linux-thread-multi
    /home/david/cpantesting/perl-5.14.4/lib/site_perl/5.14.4
    /home/david/cpantesting/perl-5.14.4/lib/5.14.4/x86_64-linux-thread-multi
    /home/david/cpantesting/perl-5.14.4/lib/5.14.4
    .