DBIx-Class-MoreHelpers v1.0001 Perl 5 v5.38.3 RC1 x86_64-linux

Status
Pass
From
Andreas J. König (ANDK)
Dist
DBIx-Class-MoreHelpers v1.0001
Platform
Perl 5 v5.38.3 RC1 x86_64-linux
Date
2025-01-13 10:42:23
ID
12f56566-d19b-11ef-9cdb-f024eee24cba
This distribution has been tested as part of the CPAN Testers
project, supporting the Perl programming language.  See
http://wiki.cpantesters.org/ for more information or email
questions to cpan-testers-discuss@perl.org


--
Dear D Ruth Holloway,

This is a computer-generated report for DBIx-Class-MoreHelpers-1.0001
on perl 5.38.3, created by CPAN-Reporter-1.2020.

Thank you for uploading your work to CPAN.  Congratulations!
All tests were successful.

Sections of this report:

    * Tester comments
    * Program output
    * Prerequisites
    * Environment and other context

------------------------------
TESTER COMMENTS
------------------------------

Additional comments from tester:

this report is from an automated smoke testing program
and was not reviewed by a human for accuracy

------------------------------
PROGRAM OUTPUT
------------------------------

Output from '/usr/bin/make test':

PERL_DL_NONLAZY=1 "/tmp/basesmoker-reloperl-99vp/bin/perl" "-MExtUtils::Command::MM" "-MTest::Harness" "-e" "undef *Test::Harness::Switches; test_harness(0, 'blib/lib', 'blib/arch')" t/*.t
t/00-compile.t ......... ok
# 
# Versions for all modules listed in MYMETA.json (including optional ones):
# 
# === Configure Requires ===
# 
#     Module               Want     Have
#     ------------------- ----- --------
#     ExtUtils::MakeMaker   any     7.70
#     perl                5.006 5.038003
# 
# === Build Requires ===
# 
#     Module              Want Have
#     ------------------- ---- ----
#     ExtUtils::MakeMaker  any 7.70
# 
# === Test Requires ===
# 
#     Module                      Want       Have
#     -------------------------- ----- ----------
#     DBIx::Class::Core            any      undef
#     DBIx::Class::ResultSet       any      undef
#     DBIx::Class::Schema          any      undef
#     ExtUtils::MakeMaker          any       7.70
#     File::Spec                   any       3.88
#     FindBin                      any       1.53
#     IO::Handle                   any       1.52
#     IPC::Open3                   any       1.22
#     Modern::Perl                 any 1.20241001
#     Test2::Plugin::ExitSummary   any   1.302207
#     Test2::Plugin::NoWarnings    any       0.10
#     Test2::Plugin::Times         any   1.302207
#     Test2::V0                    any   1.302207
#     Test::DBIx::Class            any       0.52
#     Test::More                   any   1.302207
#     base                         any       2.27
#     lib                          any       0.65
#     perl                       5.006   5.038003
# 
# === Test Recommends ===
# 
#     Module         Want     Have
#     ---------- -------- --------
#     CPAN::Meta 2.120900 2.150010
# 
# === Runtime Requires ===
# 
#     Module                                                  Want     Have
#     ------------------------------------------------------ ----- --------
#     DBIx::Class::Helper::ResultSet::SetOperations            any 2.037000
#     DBIx::Class::Helper::ResultSet::Shortcut::Search::Base   any 2.037000
#     parent                                                   any    0.244
#     perl                                                   5.006 5.038003
#     strict                                                   any     1.12
#     warnings                                                 any     1.65
# 
t/00-report-prereqs.t .. ok
t/001_blank.t .......... ok
t/002_is.t ............. ok
t/003_numerics.t ....... ok
All tests successful.
Files=5, Tests=42,  3 wallclock secs ( 0.03 usr  0.01 sys +  3.35 cusr  0.44 csys =  3.83 CPU)
Result: PASS

------------------------------
PREREQUISITES
------------------------------

Prerequisite modules loaded:

requires:

    Module                                                 Need  Have      
    ------------------------------------------------------ ----- ----------
    DBIx::Class::Helper::ResultSet::SetOperations          0     2.037000  
    DBIx::Class::Helper::ResultSet::Shortcut::Search::Base 0     2.037000  
    parent                                                 0     0.244     
    perl                                                   5.006 5.038003  
    strict                                                 0     1.12      
    warnings                                               0     1.65      

build_requires:

    Module                                                 Need  Have      
    ------------------------------------------------------ ----- ----------
    base                                                   0     2.27      
    DBIx::Class::Core                                      0     0         
    DBIx::Class::ResultSet                                 0     0         
    DBIx::Class::Schema                                    0     0         
    ExtUtils::MakeMaker                                    0     7.70      
    File::Spec                                             0     3.88      
    FindBin                                                0     1.53      
    IO::Handle                                             0     1.52      
    IPC::Open3                                             0     1.22      
    lib                                                    0     0.65      
    Modern::Perl                                           0     1.20241001
    Test2::Plugin::ExitSummary                             0     1.302207  
    Test2::Plugin::NoWarnings                              0     0.10      
    Test2::Plugin::Times                                   0     1.302207  
    Test2::V0                                              0     1.302207  
    Test::DBIx::Class                                      0     0.52      
    Test::More                                             0     1.302207  

configure_requires:

    Module                                                 Need  Have      
    ------------------------------------------------------ ----- ----------
    ExtUtils::MakeMaker                                    0     7.70      
    perl                                                   5.006 5.038003  


------------------------------
ENVIRONMENT AND OTHER CONTEXT
------------------------------

Environment variables:

    AUTOMATED_TESTING = 1
    LANG = en_US.UTF-8
    PATH = /home/sand/bin:/usr/local/bin:/usr/local/sbin:/usr/sbin:/usr/bin:/sbin:/bin:/usr/games:/usr/local/games:/snap/bin:/usr/local/perl/bin:/usr/X11/bin
    PERL = /tmp/basesmoker-reloperl-99vp/bin/perl
    PERL5LIB = /tmp/loop_over_bdir-1878492-fRn8Bj/MP3-PodcastFetch-1.05-0/blib/arch:/tmp/loop_over_bdir-1878492-fRn8Bj/MP3-PodcastFetch-1.05-0/blib/lib:/tmp/loop_over_bdir-1878492-fRn8Bj/DBIx-Migration-Directories-0.12-0/blib/arch:/tmp/loop_over_bdir-1878492-fRn8Bj/DBIx-Migration-Directories-0.12-0/blib/lib:/tmp/loop_over_bdir-1878492-fRn8Bj/AllKnowingDNS-1.7-0/blib/arch:/tmp/loop_over_bdir-1878492-fRn8Bj/AllKnowingDNS-1.7-0/blib/lib:/tmp/loop_over_bdir-1878492-fRn8Bj/Net-ISP-Balance-1.31-0/blib/arch:/tmp/loop_over_bdir-1878492-fRn8Bj/Net-ISP-Balance-1.31-0/blib/lib:/tmp/loop_over_bdir-1878492-fRn8Bj/Devel-Required-0.16-0/blib/arch:/tmp/loop_over_bdir-1878492-fRn8Bj/Devel-Required-0.16-0/blib/lib:/tmp/loop_over_bdir-1878492-fRn8Bj/CGI-Application-NetNewsIface-0.0204-0/blib/arch:/tmp/loop_over_bdir-1878492-fRn8Bj/CGI-Application-NetNewsIface-0.0204-0/blib/lib:/tmp/loop_over_bdir-1878492-fRn8Bj/Sysync-0.38-0/blib/arch:/tmp/loop_over_bdir-1878492-fRn8Bj/Sysync-0.38-0/blib/lib
    PERL5OPT = 
    PERL5_CPANPLUS_IS_RUNNING = 1878500
    PERL5_CPAN_IS_RUNNING = 1878500
    PERL_CANARY_STABILITY_NOPROMPT = 1
    PERL_MM_USE_DEFAULT = 1
    PERL_USE_UNSAFE_INC = 1
    SHELL = /usr/bin/zsh
    TERM = screen

Perl special variables (and OS-specific diagnostics, for MSWin32):

    $^X = /tmp/basesmoker-reloperl-99vp/bin/perl
    $UID/$EUID = 1005 / 1005
    $GID = 1005 1005
    $EGID = 1005 1005

Perl module toolchain versions installed:

    Module              Have    
    ------------------- --------
    CPAN                2.38    
    CPAN::Meta          2.150010
    Cwd                 3.89    
    ExtUtils::CBuilder  0.280238
    ExtUtils::Command   7.70    
    ExtUtils::Install   2.22    
    ExtUtils::MakeMaker 7.70    
    ExtUtils::Manifest  1.75    
    ExtUtils::ParseXS   3.51    
    File::Spec          3.88    
    JSON                4.10    
    JSON::PP            4.16    
    Module::Build       0.4234  
    Module::Signature   0.89    
    Parse::CPAN::Meta   2.150010
    Test2               1.302207
    Test::Harness       3.50    
    Test::More          1.302207
    YAML                1.31    
    YAML::Syck          1.34    
    version             0.9933  


--

Summary of my perl5 (revision 5 version 38 subversion 3) configuration:
  Commit id: 2c3e8560a4af10dded8e7f9421ab099ed504e68e
  Platform:
    osname=linux
    osvers=5.4.0-204-generic
    archname=x86_64-linux
    uname='linux k93focal 5.4.0-204-generic #224-ubuntu smp thu dec 5 13:38:28 utc 2024 x86_64 x86_64 x86_64 gnulinux '
    config_args='-Dprefix=/home/sand/src/perl/repoperls/installed-perls/host/k93focal/v5.38.3-RC1/b254 -Dmyhostname=k93focal -Dinstallusrbinperl=n -Uversiononly -Dusedevel -des -Ui_db -Dlibswanted=cl pthread socket inet nsl gdbm dbm malloc dl ld sun m crypt sec util c cposix posix ucb BSD gdbm_compat -Uuseithreads -Uuselongdouble -DEBUGGING=both'
    hint=recommended
    useposix=true
    d_sigaction=define
    useithreads=undef
    usemultiplicity=undef
    use64bitint=define
    use64bitall=define
    uselongdouble=undef
    usemymalloc=n
    default_inc_excludes_dot=define
  Compiler:
    cc='cc'
    ccflags ='-fwrapv -DDEBUGGING -fno-strict-aliasing -pipe -fstack-protector-strong -I/usr/local/include -D_LARGEFILE_SOURCE -D_FILE_OFFSET_BITS=64'
    optimize='-O2 -g'
    cppflags='-fwrapv -DDEBUGGING -fno-strict-aliasing -pipe -fstack-protector-strong -I/usr/local/include'
    ccversion=''
    gccversion='9.4.0'
    gccosandvers=''
    intsize=4
    longsize=8
    ptrsize=8
    doublesize=8
    byteorder=12345678
    doublekind=3
    d_longlong=define
    longlongsize=8
    d_longdbl=define
    longdblsize=16
    longdblkind=3
    ivtype='long'
    ivsize=8
    nvtype='double'
    nvsize=8
    Off_t='off_t'
    lseeksize=8
    alignbytes=8
    prototype=define
  Linker and Libraries:
    ld='cc'
    ldflags =' -fstack-protector-strong -L/usr/local/lib'
    libpth=/usr/local/lib /usr/lib/x86_64-linux-gnu /usr/lib /usr/lib64
    libs=-lpthread -lnsl -ldl -lm -lcrypt -lutil -lc
    perllibs=-lpthread -lnsl -ldl -lm -lcrypt -lutil -lc
    libc=libc-2.31.so
    so=so
    useshrplib=false
    libperl=libperl.a
    gnulibc_version='2.31'
  Dynamic Linking:
    dlsrc=dl_dlopen.xs
    dlext=so
    d_dlsymun=undef
    ccdlflags='-Wl,-E'
    cccdlflags='-fPIC'
    lddlflags='-shared -O2 -g -L/usr/local/lib -fstack-protector-strong'


Characteristics of this binary (from libperl): 
  Compile-time options:
    DEBUGGING
    HAS_LONG_DOUBLE
    HAS_STRTOLD
    HAS_TIMES
    PERLIO_LAYERS
    PERL_COPY_ON_WRITE
    PERL_DONT_CREATE_GVSV
    PERL_HASH_FUNC_SIPHASH13
    PERL_HASH_USE_SBOX32
    PERL_MALLOC_WRAP
    PERL_OP_PARENT
    PERL_PRESERVE_IVUV
    PERL_USE_DEVEL
    PERL_USE_SAFE_PUTENV
    USE_64_BIT_ALL
    USE_64_BIT_INT
    USE_LARGE_FILES
    USE_LOCALE
    USE_LOCALE_COLLATE
    USE_LOCALE_CTYPE
    USE_LOCALE_NUMERIC
    USE_LOCALE_TIME
    USE_PERLIO
    USE_PERL_ATOF
  Locally applied patches:
    RC1
  Built under linux
  Compiled at Jan  8 2025 09:35:10
  %ENV:
    PERL="/tmp/basesmoker-reloperl-99vp/bin/perl"
    PERL5LIB="/tmp/loop_over_bdir-1878492-fRn8Bj/MP3-PodcastFetch-1.05-0/blib/arch:/tmp/loop_over_bdir-1878492-fRn8Bj/MP3-PodcastFetch-1.05-0/blib/lib:/tmp/loop_over_bdir-1878492-fRn8Bj/DBIx-Migration-Directories-0.12-0/blib/arch:/tmp/loop_over_bdir-1878492-fRn8Bj/DBIx-Migration-Directories-0.12-0/blib/lib:/tmp/loop_over_bdir-1878492-fRn8Bj/AllKnowingDNS-1.7-0/blib/arch:/tmp/loop_over_bdir-1878492-fRn8Bj/AllKnowingDNS-1.7-0/blib/lib:/tmp/loop_over_bdir-1878492-fRn8Bj/Net-ISP-Balance-1.31-0/blib/arch:/tmp/loop_over_bdir-1878492-fRn8Bj/Net-ISP-Balance-1.31-0/blib/lib:/tmp/loop_over_bdir-1878492-fRn8Bj/Devel-Required-0.16-0/blib/arch:/tmp/loop_over_bdir-1878492-fRn8Bj/Devel-Required-0.16-0/blib/lib:/tmp/loop_over_bdir-1878492-fRn8Bj/CGI-Application-NetNewsIface-0.0204-0/blib/arch:/tmp/loop_over_bdir-1878492-fRn8Bj/CGI-Application-NetNewsIface-0.0204-0/blib/lib:/tmp/loop_over_bdir-1878492-fRn8Bj/Sysync-0.38-0/blib/arch:/tmp/loop_over_bdir-1878492-fRn8Bj/Sysync-0.38-0/blib/lib"
    PERL5OPT=""
    PERL5_CPANPLUS_IS_RUNNING="1878500"
    PERL5_CPAN_IS_RUNNING="1878500"
    PERL_CANARY_STABILITY_NOPROMPT="1"
    PERL_MM_USE_DEFAULT="1"
    PERL_USE_UNSAFE_INC="1"
  @INC:
    /tmp/loop_over_bdir-1878492-fRn8Bj/MP3-PodcastFetch-1.05-0/blib/arch
    /tmp/loop_over_bdir-1878492-fRn8Bj/MP3-PodcastFetch-1.05-0/blib/lib
    /tmp/loop_over_bdir-1878492-fRn8Bj/DBIx-Migration-Directories-0.12-0/blib/arch
    /tmp/loop_over_bdir-1878492-fRn8Bj/DBIx-Migration-Directories-0.12-0/blib/lib
    /tmp/loop_over_bdir-1878492-fRn8Bj/AllKnowingDNS-1.7-0/blib/arch
    /tmp/loop_over_bdir-1878492-fRn8Bj/AllKnowingDNS-1.7-0/blib/lib
    /tmp/loop_over_bdir-1878492-fRn8Bj/Net-ISP-Balance-1.31-0/blib/arch
    /tmp/loop_over_bdir-1878492-fRn8Bj/Net-ISP-Balance-1.31-0/blib/lib
    /tmp/loop_over_bdir-1878492-fRn8Bj/Devel-Required-0.16-0/blib/arch
    /tmp/loop_over_bdir-1878492-fRn8Bj/Devel-Required-0.16-0/blib/lib
    /tmp/loop_over_bdir-1878492-fRn8Bj/CGI-Application-NetNewsIface-0.0204-0/blib/arch
    /tmp/loop_over_bdir-1878492-fRn8Bj/CGI-Application-NetNewsIface-0.0204-0/blib/lib
    /tmp/loop_over_bdir-1878492-fRn8Bj/Sysync-0.38-0/blib/arch
    /tmp/loop_over_bdir-1878492-fRn8Bj/Sysync-0.38-0/blib/lib
    /home/sand/src/perl/repoperls/installed-perls/host/k93focal/v5.38.3-RC1/b254/lib/site_perl/5.38.3/x86_64-linux
    /home/sand/src/perl/repoperls/installed-perls/host/k93focal/v5.38.3-RC1/b254/lib/site_perl/5.38.3
    /home/sand/src/perl/repoperls/installed-perls/host/k93focal/v5.38.3-RC1/b254/lib/5.38.3/x86_64-linux
    /home/sand/src/perl/repoperls/installed-perls/host/k93focal/v5.38.3-RC1/b254/lib/5.38.3
    .