Firefox-Marionette v0.37 Perl 5 v5.27.8 x86_64-linux
- Status
- Pass
- From
- Slaven Rezić (SREZIC)
- Dist
-
Firefox-Marionette v0.37
- Platform
- Perl 5 v5.27.8 x86_64-linux
- Date
- 2018-02-10 09:23:35
- ID
- 1210ff6a-0e44-11e8-a9e7-f1e16a3a6020
This distribution has been tested as part of the CPAN Testers
project, supporting the Perl programming language. See
http://wiki.cpantesters.org/ for more information or email
questions to cpan-testers-discuss@perl.org
--
Dear David Dick,
This is a computer-generated report for Firefox-Marionette-0.37
on perl 5.27.8, created by CPAN-Reporter-1.2018.
Thank you for uploading your work to CPAN. Congratulations!
All tests were successful.
Sections of this report:
* Tester comments
* Program output
* Prerequisites
* Environment and other context
------------------------------
TESTER COMMENTS
------------------------------
Additional comments from tester:
none provided
------------------------------
PROGRAM OUTPUT
------------------------------
Output from 'make test':
PERL_DL_NONLAZY=1 "/opt/perl-5.27.8/bin/perl5.27.8" "-MExtUtils::Command::MM" "-MTest::Harness" "-e" "undef *Test::Harness::Switches; test_harness(0, 'blib/lib', 'blib/arch')" t/*.t
# Testing Firefox::Marionette 0.37
t/00.load.t ........ ok
# Version is Mozilla Firefox 58.0.2
# XAUTHORITY is /var/run/gdm3/auth-for-eserte-4neTlr/database
# DISPLAY is :45
# D-Bus is working
# Xvfb deb version is 2:1.16.4-1+deb8u2
# grep -r Mem /proc/meminfo
# MemTotal: 32888924 kB
# MemFree: 891276 kB
# MemAvailable: 2558776 kB
# ulimit -a | grep -i mem
# memory(kbytes) unlimited
# locked memory(kbytes) 64
# vmemory(kbytes) 3145728
# This firefox installation has 2 existing profiles
*** You are running in headless mode.
<< {"applicationType":"gecko","marionetteProtocol":3}
>> 31:[0,1,"WebDriver:NewSession",{}]
<< [1,1,null,{"sessionId":"cd9e2cca-777f-4003-a86f-3ca8643869ce","capabilities":{"browserName":"firefox","browserVersion":"58.0.2","platformName":"linux","platformVersion":"3.16.0-4-amd64","pageLoadStrategy":"normal","acceptInsecureCerts":false,"timeouts":{"implicit":0,"pageLoad":300000,"script":30000},"rotatable":false,"moz:accessibilityChecks":false,"moz:headless":true,"moz:processID":9911,"moz:profile":"/var/tmp/cpansmoker-1000/2018021009/firefox_marionette_profile_bjarmmwGOSL","moz:webdriverClick":true}}]
>> 33:[0,2,"WebDriver:GetCapabilities"]
<< [1,2,null,{"capabilities":{"browserName":"firefox","browserVersion":"58.0.2","platformName":"linux","platformVersion":"3.16.0-4-amd64","pageLoadStrategy":"normal","acceptInsecureCerts":false,"timeouts":{"implicit":0,"pageLoad":300000,"script":30000},"rotatable":false,"moz:accessibilityChecks":false,"moz:headless":true,"moz:processID":9911,"moz:profile":"/var/tmp/cpansmoker-1000/2018021009/firefox_marionette_profile_bjarmmwGOSL","moz:webdriverClick":true}}]
# Browser version is 58.0.2
# Operating System is linux 3.16.0-4-amd64
# Profile Directory is /var/tmp/cpansmoker-1000/2018021009/firefox_marionette_profile_bjarmmwGOSL
# Mozilla PID is 9911
>> 31:[0,3,"WebDriver:GetWindowType"]
<< [1,3,null,{"value":"navigator:browser"}]
>> 31:[0,4,"WebDriver:GetWindowType"]
<< [1,4,null,{"value":"navigator:browser"}]
>> 31:[0,5,"WebDriver:GetWindowRect"]
<< [1,5,null,{"x":0,"y":0,"width":1366,"height":768,"state":"maximized"}]
>> 70:[0,6,"WebDriver:SetWindowRect",{"y":9,"width":326,"x":3,"height":452}]
<< [1,6,null,{"x":3,"y":9,"width":326,"height":452,"state":"normal"}]
>> 31:[0,7,"WebDriver:GetWindowRect"]
<< [1,7,null,{"x":3,"y":9,"width":326,"height":452,"state":"normal"}]
>> 29:[0,8,"WebDriver:GetTimeouts"]
<< [1,8,null,{"implicit":0,"pageLoad":300000,"script":30000}]
>> 80:[0,9,"WebDriver:SetTimeouts",{"script":48021,"pageLoad":45043,"implicit":41001}]
<< [1,9,null,{}]
>> 30:[0,10,"WebDriver:GetTimeouts"]
<< [1,10,null,{"implicit":41001,"pageLoad":45043,"script":48021}]
>> 81:[0,11,"WebDriver:SetTimeouts",{"script":48021,"pageLoad":45043,"implicit":41001}]
<< [1,11,null,{}]
>> 108:[0,12,"WebDriver:ExecuteScript",{"script":"window.open(\"https://duckduckgo.com\", \"_blank\");","args":[]}]
<< [1,12,null,{"value":null}]
>> 30:[0,13,"WebDriver:CloseWindow"]
<< [1,13,null,["2147483652"]]
>> 32:[0,14,"WebDriver:DeleteSession"]
<< [1,14,null,{}]
>> 32:[0,15,"WebDriver:NewSession",{}]
<< [1,15,null,{"sessionId":"452ff906-0401-4a27-931c-db473736ab59","capabilities":{"browserName":"firefox","browserVersion":"58.0.2","platformName":"linux","platformVersion":"3.16.0-4-amd64","pageLoadStrategy":"normal","acceptInsecureCerts":false,"timeouts":{"implicit":0,"pageLoad":300000,"script":30000},"rotatable":false,"moz:accessibilityChecks":false,"moz:headless":true,"moz:processID":9911,"moz:profile":"/var/tmp/cpansmoker-1000/2018021009/firefox_marionette_profile_bjarmmwGOSL","moz:webdriverClick":true}}]
>> 51:[0,16,"Marionette:Quit",{"flags":["eAttemptQuit"]}]
<< [1,16,null,{"cause":"shutdown"}]
*** You are running in headless mode.
<< {"applicationType":"gecko","marionetteProtocol":3}
>> 294:[0,1,"WebDriver:NewSession",{"moz:webdriverClick":true,"capabilities":{"requiredCapabilities":{"pageLoadStrategy":"eager","moz:accessibilityChecks":true,"acceptInsecureCerts":true,"moz:webdriverClick":true}},"acceptInsecureCerts":true,"pageLoadStrategy":"eager","moz:accessibilityChecks":true}]
<< [1,1,null,{"sessionId":"599a268b-ac81-4054-82f5-01da578086da","capabilities":{"browserName":"firefox","browserVersion":"58.0.2","platformName":"linux","platformVersion":"3.16.0-4-amd64","pageLoadStrategy":"eager","acceptInsecureCerts":true,"timeouts":{"implicit":0,"pageLoad":300000,"script":30000},"rotatable":false,"moz:accessibilityChecks":true,"moz:headless":true,"moz:processID":10098,"moz:profile":"/var/tmp/cpansmoker-1000/2018021009/firefox_marionette_profile_wfJTr32QBlW","moz:webdriverClick":true}}]
>> 33:[0,2,"WebDriver:GetCapabilities"]
<< [1,2,null,{"capabilities":{"browserName":"firefox","browserVersion":"58.0.2","platformName":"linux","platformVersion":"3.16.0-4-amd64","pageLoadStrategy":"eager","acceptInsecureCerts":true,"timeouts":{"implicit":0,"pageLoad":300000,"script":30000},"rotatable":false,"moz:accessibilityChecks":true,"moz:headless":true,"moz:processID":10098,"moz:profile":"/var/tmp/cpansmoker-1000/2018021009/firefox_marionette_profile_wfJTr32QBlW","moz:webdriverClick":true}}]
>> 50:[0,3,"Marionette:Quit",{"flags":["eAttemptQuit"]}]
<< [1,3,null,{"cause":"shutdown"}]
**** DEPRECATED METHOD - page_source HAS BEEN REPLACED BY html **** at t/01-marionette.t line 410.
**** DEPRECATED METHOD - find_element HAS BEEN REPLACED BY find **** at t/01-marionette.t line 418.
**** DEPRECATED METHOD - send_keys HAS BEEN REPLACED BY type **** at t/01-marionette.t line 440.
**** DEPRECATED METHOD - find_elements HAS BEEN REPLACED BY list **** at t/01-marionette.t line 442.
**** DEPRECATED METHOD - send_keys HAS BEEN REPLACED BY type **** at t/01-marionette.t line 443.
# Installing extension from /home/eserte/.cpan/build/2018021009/Firefox-Marionette-0.37-3/t/addons/test.xpi
(firefox:10800): GLib-GObject-CRITICAL **: g_object_ref: assertion 'object->ref_count > 0' failed
(firefox:10800): GLib-GObject-CRITICAL **: g_object_unref: assertion 'object->ref_count > 0' failed
(firefox:10800): GLib-GObject-CRITICAL **: g_object_ref: assertion 'object->ref_count > 0' failed
(firefox:10800): GLib-GObject-CRITICAL **: g_object_unref: assertion 'object->ref_count > 0' failed
(firefox:10800): GLib-GObject-CRITICAL **: g_object_ref: assertion 'object->ref_count > 0' failed
(firefox:10800): GLib-GObject-CRITICAL **: g_object_unref: assertion 'object->ref_count > 0' failed
(/home/eserte/Downloads/firefox/firefox:10847): GLib-GObject-CRITICAL **: g_object_ref: assertion 'object->ref_count > 0' failed
(/home/eserte/Downloads/firefox/firefox:10847): GLib-GObject-CRITICAL **: g_object_unref: assertion 'object->ref_count > 0' failed
(/home/eserte/Downloads/firefox/firefox:10847): GLib-GObject-CRITICAL **: g_object_ref: assertion 'object->ref_count > 0' failed
(/home/eserte/Downloads/firefox/firefox:10847): GLib-GObject-CRITICAL **: g_object_unref: assertion 'object->ref_count > 0' failed
(/home/eserte/Downloads/firefox/firefox:10847): GLib-GObject-CRITICAL **: g_object_ref: assertion 'object->ref_count > 0' failed
(/home/eserte/Downloads/firefox/firefox:10847): GLib-GObject-CRITICAL **: g_object_unref: assertion 'object->ref_count > 0' failed
<< {"applicationType":"gecko","marionetteProtocol":3}
>> 298:[0,1,"WebDriver:NewSession",{"moz:webdriverClick":false,"acceptInsecureCerts":false,"capabilities":{"requiredCapabilities":{"moz:webdriverClick":false,"pageLoadStrategy":"none","moz:accessibilityChecks":false,"acceptInsecureCerts":false}},"moz:accessibilityChecks":false,"pageLoadStrategy":"none"}]
<< [1,1,null,{"sessionId":"84afdc29-26c5-425b-9bf6-c4e96cca8c6e","capabilities":{"browserName":"firefox","browserVersion":"58.0.2","platformName":"linux","platformVersion":"3.16.0-4-amd64","pageLoadStrategy":"none","acceptInsecureCerts":false,"timeouts":{"implicit":0,"pageLoad":300000,"script":30000},"rotatable":false,"moz:accessibilityChecks":false,"moz:headless":false,"moz:processID":10800,"moz:profile":"/var/tmp/cpansmoker-1000/2018021009/firefox_marionette_profile_aJRllvxWgUT","moz:webdriverClick":false}}]
>> 33:[0,2,"WebDriver:GetCapabilities"]
<< [1,2,null,{"capabilities":{"browserName":"firefox","browserVersion":"58.0.2","platformName":"linux","platformVersion":"3.16.0-4-amd64","pageLoadStrategy":"none","acceptInsecureCerts":false,"timeouts":{"implicit":0,"pageLoad":300000,"script":30000},"rotatable":false,"moz:accessibilityChecks":false,"moz:headless":false,"moz:processID":10800,"moz:profile":"/var/tmp/cpansmoker-1000/2018021009/firefox_marionette_profile_aJRllvxWgUT","moz:webdriverClick":false}}]
>> 50:[0,3,"Marionette:Quit",{"flags":["eAttemptQuit"]}]
<< [1,3,null,{"cause":"shutdown"}]
[Parent 10800, Gecko_IOThread] WARNING: pipe error: Broken pipe: file /builds/worker/workspace/build/src/ipc/chromium/src/chrome/common/ipc_channel_posix.cc, line 709
(firefox:10800): GLib-GObject-CRITICAL **: g_object_ref: assertion 'object->ref_count > 0' failed
(firefox:10800): GLib-GObject-CRITICAL **: g_object_unref: assertion 'object->ref_count > 0' failed
(firefox:10800): GLib-GObject-CRITICAL **: g_object_ref: assertion 'object->ref_count > 0' failed
(firefox:10800): GLib-GObject-CRITICAL **: g_object_unref: assertion 'object->ref_count > 0' failed
(firefox:10800): GLib-GObject-CRITICAL **: g_object_ref: assertion 'object->ref_count > 0' failed
(firefox:10800): GLib-GObject-CRITICAL **: g_object_unref: assertion 'object->ref_count > 0' failed
(firefox:10800): GLib-GObject-CRITICAL **: g_object_ref: assertion 'object->ref_count > 0' failed
(firefox:10800): GLib-GObject-CRITICAL **: g_object_unref: assertion 'object->ref_count > 0' failed
(firefox:10800): GLib-GObject-CRITICAL **: g_object_ref: assertion 'object->ref_count > 0' failed
(firefox:10800): GLib-GObject-CRITICAL **: g_object_unref: assertion 'object->ref_count > 0' failed
(firefox:10800): GLib-GObject-CRITICAL **: g_object_ref: assertion 'object->ref_count > 0' failed
(firefox:10800): GLib-GObject-CRITICAL **: g_object_unref: assertion 'object->ref_count > 0' failed
(firefox:10800): GLib-GObject-CRITICAL **: g_object_ref: assertion 'object->ref_count > 0' failed
(firefox:10800): GLib-GObject-CRITICAL **: g_object_unref: assertion 'object->ref_count > 0' failed
(firefox:10800): GLib-GObject-CRITICAL **: g_object_ref: assertion 'object->ref_count > 0' failed
(firefox:10800): GLib-GObject-CRITICAL **: g_object_unref: assertion 'object->ref_count > 0' failed
# Killing PID 10984 with a signal 15
# Error Message was Firefox killed by a TERM signal (15)
t/01-marionette.t .. ok
t/pod-coverage.t ... ok
t/pod.t ............ ok
All tests successful.
Test Summary Report
-------------------
t/01-marionette.t (Wstat: 0 Tests: 190 Failed: 0)
TODO passed: 121, 146-147, 166, 186-188
Files=4, Tests=211, 53 wallclock secs ( 0.04 usr 0.00 sys + 31.21 cusr 6.17 csys = 37.42 CPU)
Result: PASS
------------------------------
PREREQUISITES
------------------------------
Prerequisite modules loaded:
requires:
Module Need Have
------------------- ----- --------
base 0 2.27
Config 0 5.027008
Config::INI::Reader 0 0.025
Crypt::URandom 0 0.36
English 0 1.10
Exporter 0 5.72
Fcntl 0 1.13
File::Spec 0 3.72
File::Temp 0 0.2304
FileHandle 0 2.03
IPC::Run 0 0.96
JSON 0 2.97001
MIME::Base64 0 3.15
overload 0 1.30
perl 5.006 5.027008
POSIX 0 1.81
Socket 0 2.027
URI 0 1.73
build_requires:
Module Need Have
------------------- ----- --------
Cwd 0 3.72
Digest::SHA 0 6.01
Test::More 0 1.302120
configure_requires:
Module Need Have
------------------- ----- --------
ExtUtils::MakeMaker 0 7.30
------------------------------
ENVIRONMENT AND OTHER CONTEXT
------------------------------
Environment variables:
LANG = en_US.UTF-8
PATH = /usr/local/bin:/usr/bin:/bin:/usr/local/sbin:/usr/sbin:/sbin:/home/eserte/bin/linux-gnu:/home/eserte/bin/sh:/home/eserte/bin:/home/eserte/bin/pistachio-perl/bin:/usr/games:/home/eserte/devel:/home/eserte/src/srezic-misc/scripts
PERL5LIB = /home/eserte/.cpan/build/2018021009/Crypt-URandom-0.36-3/blib/arch:/home/eserte/.cpan/build/2018021009/Crypt-URandom-0.36-3/blib/lib
PERL5OPT =
PERL5_CPANPLUS_IS_RUNNING = 9657
PERL5_CPAN_IS_RUNNING = 9657
PERL5_CPAN_IS_RUNNING_IN_RECURSION = 6810,9657
PERLDOC = -MPod::Perldoc::ToTextOverstrike
PERL_BATCH = yes
PERL_CANARY_STABILITY_NOPROMPT = 1
PERL_CPAN_REPORTER_CONFIG = /var/tmp/cpansmoker-1000/2018021009/cpanreporter_001_config.ini
PERL_EXTUTILS_AUTOINSTALL = --defaultdeps
PERL_USE_UNSAFE_INC = 1
SHELL = /bin/zsh
STDPERL = perl
TERM = xterm
TMPDIR = /var/tmp/cpansmoker-1000/2018021009
Perl special variables (and OS-specific diagnostics, for MSWin32):
$^X = /opt/perl-5.27.8/bin/perl5.27.8
$UID/$EUID = 1000 / 1000
$GID = 1000 4 24 25 27 29 30 44 46 108 111 115 128 134 1000 1024
$EGID = 1000 4 24 25 27 29 30 44 46 108 111 115 128 134 1000 1024
Perl module toolchain versions installed:
Module Have
------------------- --------
CPAN 2.20
CPAN::Meta 2.150010
Cwd 3.72
ExtUtils::CBuilder 0.280230
ExtUtils::Command 7.30
ExtUtils::Install 2.14
ExtUtils::MakeMaker 7.30
ExtUtils::Manifest 1.70
ExtUtils::ParseXS 3.36
File::Spec 3.72
JSON 2.97001
JSON::PP 2.97001
Module::Build 0.4224
Module::Signature 0.81
Parse::CPAN::Meta 2.150010
Test::Harness 3.39
Test::More 1.302120
YAML 1.24
YAML::Syck 1.30
version 0.9918
--
Summary of my perl5 (revision 5 version 27 subversion 8) configuration:
Platform:
osname=linux
osvers=3.16.0-4-amd64
archname=x86_64-linux
uname='linux cabulja 3.16.0-4-amd64 #1 smp debian 3.16.51-3 (2017-12-13) x86_64 gnulinux '
config_args='-ds -e -Dprefix=/opt/perl-5.27.8 -Dusedevel -Dusemallocwrap=no -Dcf_email=srezic@cpan.org'
hint=recommended
useposix=true
d_sigaction=define
useithreads=undef
usemultiplicity=undef
use64bitint=define
use64bitall=define
uselongdouble=undef
usemymalloc=n
default_inc_excludes_dot=define
bincompat5005=undef
Compiler:
cc='cc'
ccflags ='-fwrapv -fno-strict-aliasing -pipe -fstack-protector-strong -I/usr/local/include -D_LARGEFILE_SOURCE -D_FILE_OFFSET_BITS=64 -D_FORTIFY_SOURCE=2'
optimize='-O2'
cppflags='-fwrapv -fno-strict-aliasing -pipe -fstack-protector-strong -I/usr/local/include'
ccversion=''
gccversion='4.9.2'
gccosandvers=''
intsize=4
longsize=8
ptrsize=8
doublesize=8
byteorder=12345678
doublekind=3
d_longlong=define
longlongsize=8
d_longdbl=define
longdblsize=16
longdblkind=3
ivtype='long'
ivsize=8
nvtype='double'
nvsize=8
Off_t='off_t'
lseeksize=8
alignbytes=8
prototype=define
Linker and Libraries:
ld='cc'
ldflags =' -fstack-protector-strong -L/usr/local/lib'
libpth=/usr/local/lib /usr/lib/gcc/x86_64-linux-gnu/4.9/include-fixed /usr/include/x86_64-linux-gnu /usr/lib /lib/x86_64-linux-gnu /lib/../lib /usr/lib/x86_64-linux-gnu /usr/lib/../lib /lib
libs=-lpthread -lnsl -lgdbm -ldb -ldl -lm -lcrypt -lutil -lc -lgdbm_compat
perllibs=-lpthread -lnsl -ldl -lm -lcrypt -lutil -lc
libc=libc-2.19.so
so=so
useshrplib=false
libperl=libperl.a
gnulibc_version='2.19'
Dynamic Linking:
dlsrc=dl_dlopen.xs
dlext=so
d_dlsymun=undef
ccdlflags='-Wl,-E'
cccdlflags='-fPIC'
lddlflags='-shared -O2 -L/usr/local/lib -fstack-protector-strong'
Characteristics of this binary (from libperl):
Compile-time options:
HAS_TIMES
PERLIO_LAYERS
PERL_COPY_ON_WRITE
PERL_DONT_CREATE_GVSV
PERL_OP_PARENT
PERL_PRESERVE_IVUV
PERL_USE_DEVEL
USE_64_BIT_ALL
USE_64_BIT_INT
USE_LARGE_FILES
USE_LOCALE
USE_LOCALE_COLLATE
USE_LOCALE_CTYPE
USE_LOCALE_NUMERIC
USE_LOCALE_TIME
USE_PERLIO
USE_PERL_ATOF
Built under linux
Compiled at Jan 20 2018 09:22:51
%ENV:
PERL5LIB="/home/eserte/.cpan/build/2018021009/Crypt-URandom-0.36-3/blib/arch:/home/eserte/.cpan/build/2018021009/Crypt-URandom-0.36-3/blib/lib"
PERL5OPT=""
PERL5_CPANPLUS_IS_RUNNING="9657"
PERL5_CPAN_IS_RUNNING="9657"
PERL5_CPAN_IS_RUNNING_IN_RECURSION="6810,9657"
PERLDOC="-MPod::Perldoc::ToTextOverstrike"
PERL_BATCH="yes"
PERL_CANARY_STABILITY_NOPROMPT="1"
PERL_CPAN_REPORTER_CONFIG="/var/tmp/cpansmoker-1000/2018021009/cpanreporter_001_config.ini"
PERL_EXTUTILS_AUTOINSTALL="--defaultdeps"
PERL_USE_UNSAFE_INC="1"
@INC:
/home/eserte/.cpan/build/2018021009/Crypt-URandom-0.36-3/blib/arch
/home/eserte/.cpan/build/2018021009/Crypt-URandom-0.36-3/blib/lib
/opt/perl-5.27.8/lib/site_perl/5.27.8/x86_64-linux
/opt/perl-5.27.8/lib/site_perl/5.27.8
/opt/perl-5.27.8/lib/5.27.8/x86_64-linux
/opt/perl-5.27.8/lib/5.27.8
.