FunctionalPerl v0.72.76 Perl 5 v5.36.1 RC3 x86_64-linux
- Status
- Pass
- From
- Andreas J. König (ANDK)
- Dist
-
FunctionalPerl v0.72.76
- Platform
- Perl 5 v5.36.1 RC3 x86_64-linux
- Date
- 2023-04-22 13:46:22
- ID
- 111298dc-e114-11ed-8aa1-ea154610d6f7
This distribution has been tested as part of the CPAN Testers
project, supporting the Perl programming language. See
http://wiki.cpantesters.org/ for more information or email
questions to cpan-testers-discuss@perl.org
--
Dear Christian Jaeger,
This is a computer-generated report for FunctionalPerl-0.72.76
on perl 5.36.1, created by CPAN-Reporter-1.2018.
Thank you for uploading your work to CPAN. Congratulations!
All tests were successful.
Sections of this report:
* Tester comments
* Program output
* Prerequisites
* Environment and other context
------------------------------
TESTER COMMENTS
------------------------------
Additional comments from tester:
this report is from an automated smoke testing program
and was not reviewed by a human for accuracy
------------------------------
PROGRAM OUTPUT
------------------------------
Output from '/usr/bin/make test':
PERL_DL_NONLAZY=1 "/tmp/basesmoker-reloperl-0VZE/bin/perl" "-MExtUtils::Command::MM" "-MTest::Harness" "-e" "undef *Test::Harness::Switches; test_harness(0, 'blib/lib', 'blib/arch')" t/*.t
t/csv_to_xml.t ........................... ok
t/dbi.t .................................. ok
t/examples-csv-to-json.t ................. ok
times for fib: user = 0.09, system = 0, cuser = 0, csystem = 0
times for fibonacci: user = 0.0600000000000001, system = 0, cuser = 0, csystem = 0
t/examples-fibs.t ........................ ok
t/examples-functional-classes.t .......... ok
not activating since running in test mode at examples//../lib/FP/Repl/Trap.pm line 47.
t/examples-hiring-without-whiteboards.t .. ok
not activating since running in test mode at examples//../lib/FP/Repl/Trap.pm line 47.
t/examples-logic.t ....................... ok
t/examples-perlweekly-111-1.t ............ ok
times: user = 0.01, system = 0, cuser = 0, csystem = 0
times: user = 0.03, system = 0.01, cuser = 0, csystem = 0
times: user = 0.03, system = 0, cuser = 0, csystem = 0
t/examples-perlweekly-113-1.t ............ ok
t/examples-perlweekly-113-2.t ............ ok
t/examples-primes.t ...................... ok
t/functional_XML-t-div.t ................. ok
t/functional_XML-test.t .................. ok
Use of @_ in list assignment with signatured subroutine is experimental at ../.htmlgen/FunctionalPerl/Htmlgen/PathTranslate.pm line 77.
Implicit use of @_ in goto with signatured subroutine is experimental at ../.htmlgen/FunctionalPerl/Htmlgen/PathTranslate.pm line 77.
Use of @_ in list assignment with signatured subroutine is experimental at ../.htmlgen/FunctionalPerl/Htmlgen/PathTranslate.pm line 81.
Implicit use of @_ in goto with signatured subroutine is experimental at ../.htmlgen/FunctionalPerl/Htmlgen/PathTranslate.pm line 81.
Use of @_ in list assignment with signatured subroutine is experimental at ../.htmlgen/FunctionalPerl/Htmlgen/PathTranslate.pm line 83.
Implicit use of @_ in goto with signatured subroutine is experimental at ../.htmlgen/FunctionalPerl/Htmlgen/PathTranslate.pm line 83.
t/htmlgen.t .............................. ok
not activating since running in test mode at intro//../lib/FP/Repl/AutoTrap.pm line 64.
t/intro-basics.t ......................... ok
t/perl-goto-leak.t ....................... ok
t/perl-weaken-coderef-correctness.t ...... ok
t/perl-weaken-coderef.t .................. ok
Exception: Label not found for "last T2_SUBTEST_WRAPPER" at /home/sand/src/perl/repoperls/installed-perls/host/k93jammy/v5.36.1-RC3/6567/lib/site_perl/5.36.1/Test2/Hub/Subtest.pm line 67.
at /home/sand/src/perl/repoperls/installed-perls/host/k93jammy/v5.36.1-RC3/6567/lib/site_perl/5.36.1/Test2/Hub/Subtest.pm line 67.
Test2::Hub::Subtest::terminate(Test2::Hub::Subtest=HASH(0x561a929390e0), 0, Test2::Event::Plan=HASH(0x561a92952700), HASH(0x561a92952808)) called at /home/sand/src/perl/repoperls/installed-perls/host/k93jammy/v5.36.1-RC3/6567/lib/site_perl/5.36.1/Test2/Hub.pm line 386
Test2::Hub::process(Test2::Hub::Subtest=HASH(0x561a929390e0), Test2::Event::Plan=HASH(0x561a92952700)) called at /home/sand/src/perl/repoperls/installed-perls/host/k93jammy/v5.36.1-RC3/6567/lib/site_perl/5.36.1/Test2/Hub.pm line 306
Test2::Hub::send(Test2::Hub::Subtest=HASH(0x561a929390e0), Test2::Event::Plan=HASH(0x561a92952700)) called at /home/sand/src/perl/repoperls/installed-perls/host/k93jammy/v5.36.1-RC3/6567/lib/site_perl/5.36.1/Test2/Hub/Subtest.pm line 34
Test2::Hub::Subtest::send(Test2::Hub::Subtest=HASH(0x561a929390e0), Test2::Event::Plan=HASH(0x561a92952700)) called at /home/sand/src/perl/repoperls/installed-perls/host/k93jammy/v5.36.1-RC3/6567/lib/site_perl/5.36.1/Test2/API/Context.pm line 272
Test2::API::Context::send_event(Test2::API::Context=HASH(0x561a92952628), "Plan", "max", 0, "directive", "SKIP", "reason", "FunctionalPerl::Dependencies::ChjBin import: these programs a"...) called at /home/sand/src/perl/repoperls/installed-perls/host/k93jammy/v5.36.1-RC3/6567/lib/site_perl/5.36.1/Test2/API/Context.pm line 448
Test2::API::Context::plan(Test2::API::Context=HASH(0x561a92952628), 0, "SKIP", "FunctionalPerl::Dependencies::ChjBin import: these programs a"...) called at /home/sand/src/perl/repoperls/installed-perls/host/k93jammy/v5.36.1-RC3/6567/lib/site_perl/5.36.1/Test/Builder.pm line 660
Test::Builder::skip_all(Test::Builder=HASH(0x561a8dc982a8), "FunctionalPerl::Dependencies::ChjBin import: these programs a"...) called at /home/sand/src/perl/repoperls/installed-perls/host/k93jammy/v5.36.1-RC3/6567/lib/site_perl/5.36.1/Test/Requires.pm line 44
Test::Requires::__ANON__("FunctionalPerl::Dependencies::ChjBin import: these programs a"...) called at /home/sand/src/perl/repoperls/installed-perls/host/k93jammy/v5.36.1-RC3/6567/lib/site_perl/5.36.1/Test/Requires.pm line 71
Test::Requires::test_requires("FunctionalPerl::Dependencies::ChjBin", "\"trigger-listen\"", "t_pod_snippets_112") called at /home/sand/src/perl/repoperls/installed-perls/host/k93jammy/v5.36.1-RC3/6567/lib/site_perl/5.36.1/Test/Requires.pm line 21
Test::Requires::import("Test::Requires", HASH(0x561a9285a2f0)) called at meta/FunctionalPerl/Dependencies/ChjBin.pm line 19
t_pod_snippets_112::BEGIN() called at meta/FunctionalPerl/Dependencies/ChjBin.pm line 19
eval {...} called at meta/FunctionalPerl/Dependencies/ChjBin.pm line 19
eval 'package main; package t_pod_snippets_112; use Test::More ;
{
no warnings;
use strict; # things are likely to be sloppy
ok 1 => \'the tests compile\';
#line 16 meta/FunctionalPerl/Dependencies/ChjBin.pm
use Chj::TEST use => \'FunctionalPerl::Dependencies::ChjBin\';
# or
use Test::Requires +{
\'FunctionalPerl::Dependencies::ChjBin\' => \'"trigger-listen"\' };
# or
# list in FunctionalPerl::Dependencies\'s %dependencies
;
ok 1 => \'we reached the end!\';
}
;
1' called at lib/FP/Repl/WithRepl.pm line 75
FP::Repl::WithRepl::WithRepl_eval("package t_pod_snippets_112; use Test::More ;\x{a}{\x{a}no warnings;\x{a}u"...) called at t/pod_snippets.t line 37
main::myeval("package t_pod_snippets_112; use Test::More ;\x{a}{\x{a}no warnings;\x{a}u"...) called at t/pod_snippets.t line 158
main::__ANON__() called at /home/sand/src/perl/repoperls/installed-perls/host/k93jammy/v5.36.1-RC3/6567/lib/site_perl/5.36.1/Test/Builder.pm line 374
eval {...} called at /home/sand/src/perl/repoperls/installed-perls/host/k93jammy/v5.36.1-RC3/6567/lib/site_perl/5.36.1/Test/Builder.pm line 374
Test::Builder::subtest(Test::Builder=HASH(0x561a8dc982a8), "pod snippets in FunctionalPerl::Dependencies::ChjBin", CODE(0x561a8f2872e8)) called at /home/sand/src/perl/repoperls/installed-perls/host/k93jammy/v5.36.1-RC3/6567/lib/site_perl/5.36.1/Test/More.pm line 831
Test::More::subtest("pod snippets in FunctionalPerl::Dependencies::ChjBin", CODE(0x561a8f2872e8)) called at t/pod_snippets.t line 183
BEGIN failed--compilation aborted at meta/FunctionalPerl/Dependencies/ChjBin.pm line 19.
at meta/FunctionalPerl/Dependencies/ChjBin.pm line 19.
eval 'package main; package t_pod_snippets_112; use Test::More ;
{
no warnings;
use strict; # things are likely to be sloppy
ok 1 => \'the tests compile\';
#line 16 meta/FunctionalPerl/Dependencies/ChjBin.pm
use Chj::TEST use => \'FunctionalPerl::Dependencies::ChjBin\';
# or
use Test::Requires +{
\'FunctionalPerl::Dependencies::ChjBin\' => \'"trigger-listen"\' };
# or
# list in FunctionalPerl::Dependencies\'s %dependencies
;
ok 1 => \'we reached the end!\';
}
;
1' called at lib/FP/Repl/WithRepl.pm line 75
FP::Repl::WithRepl::WithRepl_eval("package t_pod_snippets_112; use Test::More ;\x{a}{\x{a}no warnings;\x{a}u"...) called at t/pod_snippets.t line 37
main::myeval("package t_pod_snippets_112; use Test::More ;\x{a}{\x{a}no warnings;\x{a}u"...) called at t/pod_snippets.t line 158
main::__ANON__() called at /home/sand/src/perl/repoperls/installed-perls/host/k93jammy/v5.36.1-RC3/6567/lib/site_perl/5.36.1/Test/Builder.pm line 374
eval {...} called at /home/sand/src/perl/repoperls/installed-perls/host/k93jammy/v5.36.1-RC3/6567/lib/site_perl/5.36.1/Test/Builder.pm line 374
Test::Builder::subtest(Test::Builder=HASH(0x561a8dc982a8), "pod snippets in FunctionalPerl::Dependencies::ChjBin", CODE(0x561a8f2872e8)) called at /home/sand/src/perl/repoperls/installed-perls/host/k93jammy/v5.36.1-RC3/6567/lib/site_perl/5.36.1/Test/More.pm line 831
Test::More::subtest("pod snippets in FunctionalPerl::Dependencies::ChjBin", CODE(0x561a8f2872e8)) called at t/pod_snippets.t line 183
# Failed test 'pod snippets in FunctionalPerl::Dependencies::ChjBin'
# at t/pod_snippets.t line 177.
# Looks like you failed 1 test of 1.
t/pod_snippets.t ......................... ok
t/predicates.t ........................... ok
t/repl.t ................................. ok
Use of @_ in list assignment with signatured subroutine is experimental at .htmlgen/FunctionalPerl/Htmlgen/PathTranslate.pm line 77.
Implicit use of @_ in goto with signatured subroutine is experimental at .htmlgen/FunctionalPerl/Htmlgen/PathTranslate.pm line 77.
Use of @_ in list assignment with signatured subroutine is experimental at .htmlgen/FunctionalPerl/Htmlgen/PathTranslate.pm line 81.
Implicit use of @_ in goto with signatured subroutine is experimental at .htmlgen/FunctionalPerl/Htmlgen/PathTranslate.pm line 81.
Use of @_ in list assignment with signatured subroutine is experimental at .htmlgen/FunctionalPerl/Htmlgen/PathTranslate.pm line 83.
Implicit use of @_ in goto with signatured subroutine is experimental at .htmlgen/FunctionalPerl/Htmlgen/PathTranslate.pm line 83.
not activating since running in test mode at lib/FP/Repl/AutoTrap.pm line 64.
not activating since running in test mode at lib/FP/Repl/Trap.pm line 47.
Reference is already weak at lib/FP/Stream.pm line 770.
t/require_and_run_tests.t ................ ok
t/skip-internal.t ........................ ok
t/skip-leak.t ............................ ok
t/skip.t ................................. ok
t/testlazy.t ............................. ok
t/testlazy10.t ........................... ok
times for T: user = 0.07, system = 0, cuser = 0, csystem = 0
times for TC: user = 0.05, system = 0, cuser = 0, csystem = 0
t/trampoline-fix.t ....................... ok
All tests successful.
Files=28, Tests=184, 17 wallclock secs ( 0.17 usr 0.08 sys + 14.66 cusr 2.56 csys = 17.47 CPU)
Result: PASS
------------------------------
PREREQUISITES
------------------------------
Prerequisite modules loaded:
requires:
Module Need Have
------------------- -------- --------
autobox 0 v3.0.1
base 0 2.27
Digest 0 1.20
File::Path 0 2.18
Getopt::Long 0 2.54
Import::Into 0 1.002005
Math::BigInt 0 1.999838
NEXT 0 0.69
perl 5.016004 5.036001
PerlIO::utf8_strict 0 0.010
Safe::Isa 0 1.000010
Scalar::Util 0 1.63
Symbol 0 1.09
Test::More 0.96 1.302194
utf8 0 1.24
build_requires:
Module Need Have
------------------- -------- --------
BSD::Resource 0 1.2911
Capture::Tiny 0 0.48
DBD::CSV 0 0.60
DBI 0 1.643
ExtUtils::MakeMaker 0 7.70
File::chdir 0 0.1011
Sub::Util 0 1.63
Test::Pod::Snippets 0 0.07
Test::Requires 0 0.11
Text::CSV 0 2.02
URI 0 5.17
configure_requires:
Module Need Have
------------------- -------- --------
ExtUtils::MakeMaker 0 7.70
opt_requires:
Module Need Have
------------------- -------- --------
B::Deparse 0 1.64
Clone 0 0.46
Encode 0 3.19
Eval::WithLexicals 0 1.003006
JSON 0 4.10
LWP::UserAgent 0 6.68
Method::Signatures 0 20170211
PadWalker 0 2.5
Term::ReadLine::Gnu 0 1.45
Text::Markdown 0 1.000031
------------------------------
ENVIRONMENT AND OTHER CONTEXT
------------------------------
Environment variables:
AUTOMATED_TESTING = 1
LANG = en_US.UTF-8
LC_ADDRESS = de_DE.UTF-8
LC_IDENTIFICATION = de_DE.UTF-8
LC_MEASUREMENT = de_DE.UTF-8
LC_MONETARY = de_DE.UTF-8
LC_NAME = de_DE.UTF-8
LC_NUMERIC = de_DE.UTF-8
LC_PAPER = de_DE.UTF-8
LC_TELEPHONE = de_DE.UTF-8
LC_TIME = de_DE.UTF-8
PATH = /home/sand/bin:/usr/local/bin:/usr/local/sbin:/usr/sbin:/usr/bin:/sbin:/bin:/usr/games:/usr/local/games:/snap/bin:/usr/local/perl/bin:/usr/X11/bin
PERL5LIB = /tmp/loop_over_bdir-2017365-UE6AA0/App-oo_modulino_zsh_completion_helper-0.04-0/blib/arch:/tmp/loop_over_bdir-2017365-UE6AA0/App-oo_modulino_zsh_completion_helper-0.04-0/blib/lib:/tmp/loop_over_bdir-2017365-UE6AA0/Debian-Packages-0.03-0/blib/arch:/tmp/loop_over_bdir-2017365-UE6AA0/Debian-Packages-0.03-0/blib/lib:/tmp/loop_over_bdir-2017365-UE6AA0/Net-Async-DigitalOcean-0.04-0/blib/arch:/tmp/loop_over_bdir-2017365-UE6AA0/Net-Async-DigitalOcean-0.04-0/blib/lib:/tmp/loop_over_bdir-2017365-UE6AA0/EJBCA-CrlPublish-0.60-0/blib/arch:/tmp/loop_over_bdir-2017365-UE6AA0/EJBCA-CrlPublish-0.60-0/blib/lib:/tmp/loop_over_bdir-2017365-UE6AA0/Captive-Portal-4.10-0/blib/arch:/tmp/loop_over_bdir-2017365-UE6AA0/Captive-Portal-4.10-0/blib/lib:/tmp/loop_over_bdir-2017365-UE6AA0/App-rmcd-0.280-0/blib/arch:/tmp/loop_over_bdir-2017365-UE6AA0/App-rmcd-0.280-0/blib/lib:/tmp/loop_over_bdir-2017365-UE6AA0/mmds-1.902-0/blib/arch:/tmp/loop_over_bdir-2017365-UE6AA0/mmds-1.902-0/blib/lib:/tmp/loop_over_bdir-2017365-UE6AA0/DBIx-Migration-Directories-0.12-0/blib/arch:/tmp/loop_over_bdir-2017365-UE6AA0/DBIx-Migration-Directories-0.12-0/blib/lib:/tmp/loop_over_bdir-2017365-UE6AA0/Devel-Required-0.16-0/blib/arch:/tmp/loop_over_bdir-2017365-UE6AA0/Devel-Required-0.16-0/blib/lib:/tmp/loop_over_bdir-2017365-UE6AA0/RackMan-1.19-0/blib/arch:/tmp/loop_over_bdir-2017365-UE6AA0/RackMan-1.19-0/blib/lib:/tmp/loop_over_bdir-2017365-UE6AA0/Device-Kiln-0.03-0/blib/arch:/tmp/loop_over_bdir-2017365-UE6AA0/Device-Kiln-0.03-0/blib/lib:/tmp/loop_over_bdir-2017365-UE6AA0/dta-tokwrap-0.98-0/blib/arch:/tmp/loop_over_bdir-2017365-UE6AA0/dta-tokwrap-0.98-0/blib/lib:/tmp/loop_over_bdir-2017365-UE6AA0/Simulation-Automate-1.0.1-0/blib/arch:/tmp/loop_over_bdir-2017365-UE6AA0/Simulation-Automate-1.0.1-0/blib/lib:/tmp/loop_over_bdir-2017365-UE6AA0/OSDial-3.0.2.124-0/blib/arch:/tmp/loop_over_bdir-2017365-UE6AA0/OSDial-3.0.2.124-0/blib/lib
PERL5OPT =
PERL5_CPANPLUS_IS_RUNNING = 2017404
PERL5_CPAN_IS_RUNNING = 2017404
PERL_CANARY_STABILITY_NOPROMPT = 1
PERL_MM_USE_DEFAULT = 1
PERL_USE_UNSAFE_INC = 1
SHELL = /usr/bin/zsh
TERM = screen
Perl special variables (and OS-specific diagnostics, for MSWin32):
$^X = /tmp/basesmoker-reloperl-0VZE/bin/perl
$UID/$EUID = 1005 / 1005
$GID = 1005 1005
$EGID = 1005 1005
Perl module toolchain versions installed:
Module Have
------------------- --------
CPAN 2.34
CPAN::Meta 2.150010
Cwd 3.84
ExtUtils::CBuilder 0.280236
ExtUtils::Command 7.70
ExtUtils::Install 2.22
ExtUtils::MakeMaker 7.70
ExtUtils::Manifest 1.73
ExtUtils::ParseXS 3.45
File::Spec 3.84
JSON 4.10
JSON::PP 4.16
Module::Build 0.4232
Module::Signature 0.88
Parse::CPAN::Meta 2.150010
Test::Harness 3.44
Test::More 1.302194
YAML 1.30
YAML::Syck 1.34
version 0.9929
--
Summary of my perl5 (revision 5 version 36 subversion 1) configuration:
Commit id: 66cefb00b475e1b321ab2a1aa8e66a7ae14334c2
Platform:
osname=linux
osvers=5.19.0-38-generic
archname=x86_64-linux
uname='linux k93jammy 5.19.0-38-generic #39~22.04.1-ubuntu smp preempt_dynamic fri mar 17 21:16:15 utc 2 x86_64 x86_64 x86_64 gnulinux '
config_args='-Dprefix=/home/sand/src/perl/repoperls/installed-perls/host/k93jammy/v5.36.1-RC3/6567 -Dmyhostname=k93jammy -Dinstallusrbinperl=n -Uversiononly -Dusedevel -des -Ui_db -Dlibswanted=cl pthread socket inet nsl gdbm dbm malloc dl ld sun m crypt sec util c cposix posix ucb BSD gdbm_compat -Uuseithreads -Uuselongdouble -DEBUGGING=-g'
hint=recommended
useposix=true
d_sigaction=define
useithreads=undef
usemultiplicity=undef
use64bitint=define
use64bitall=define
uselongdouble=undef
usemymalloc=n
default_inc_excludes_dot=define
Compiler:
cc='cc'
ccflags ='-fwrapv -fno-strict-aliasing -pipe -fstack-protector-strong -I/usr/local/include -D_LARGEFILE_SOURCE -D_FILE_OFFSET_BITS=64'
optimize='-O2 -g'
cppflags='-fwrapv -fno-strict-aliasing -pipe -fstack-protector-strong -I/usr/local/include'
ccversion=''
gccversion='11.3.0'
gccosandvers=''
intsize=4
longsize=8
ptrsize=8
doublesize=8
byteorder=12345678
doublekind=3
d_longlong=define
longlongsize=8
d_longdbl=define
longdblsize=16
longdblkind=3
ivtype='long'
ivsize=8
nvtype='double'
nvsize=8
Off_t='off_t'
lseeksize=8
alignbytes=8
prototype=define
Linker and Libraries:
ld='cc'
ldflags =' -fstack-protector-strong -L/usr/local/lib'
libpth=/usr/local/lib /usr/lib/x86_64-linux-gnu /usr/lib /usr/lib64
libs=-lpthread -lnsl -ldl -lm -lcrypt -lutil -lc
perllibs=-lpthread -lnsl -ldl -lm -lcrypt -lutil -lc
libc=/lib/x86_64-linux-gnu/libc.so.6
so=so
useshrplib=false
libperl=libperl.a
gnulibc_version='2.35'
Dynamic Linking:
dlsrc=dl_dlopen.xs
dlext=so
d_dlsymun=undef
ccdlflags='-Wl,-E'
cccdlflags='-fPIC'
lddlflags='-shared -O2 -g -L/usr/local/lib -fstack-protector-strong'
Characteristics of this binary (from libperl):
Compile-time options:
HAS_TIMES
PERLIO_LAYERS
PERL_COPY_ON_WRITE
PERL_DONT_CREATE_GVSV
PERL_MALLOC_WRAP
PERL_OP_PARENT
PERL_PRESERVE_IVUV
PERL_USE_DEVEL
USE_64_BIT_ALL
USE_64_BIT_INT
USE_LARGE_FILES
USE_LOCALE
USE_LOCALE_COLLATE
USE_LOCALE_CTYPE
USE_LOCALE_NUMERIC
USE_LOCALE_TIME
USE_PERLIO
USE_PERL_ATOF
Locally applied patches:
RC3
Built under linux
Compiled at Apr 16 2023 17:59:23
%ENV:
PERL5LIB="/tmp/loop_over_bdir-2017365-UE6AA0/App-oo_modulino_zsh_completion_helper-0.04-0/blib/arch:/tmp/loop_over_bdir-2017365-UE6AA0/App-oo_modulino_zsh_completion_helper-0.04-0/blib/lib:/tmp/loop_over_bdir-2017365-UE6AA0/Debian-Packages-0.03-0/blib/arch:/tmp/loop_over_bdir-2017365-UE6AA0/Debian-Packages-0.03-0/blib/lib:/tmp/loop_over_bdir-2017365-UE6AA0/Net-Async-DigitalOcean-0.04-0/blib/arch:/tmp/loop_over_bdir-2017365-UE6AA0/Net-Async-DigitalOcean-0.04-0/blib/lib:/tmp/loop_over_bdir-2017365-UE6AA0/EJBCA-CrlPublish-0.60-0/blib/arch:/tmp/loop_over_bdir-2017365-UE6AA0/EJBCA-CrlPublish-0.60-0/blib/lib:/tmp/loop_over_bdir-2017365-UE6AA0/Captive-Portal-4.10-0/blib/arch:/tmp/loop_over_bdir-2017365-UE6AA0/Captive-Portal-4.10-0/blib/lib:/tmp/loop_over_bdir-2017365-UE6AA0/App-rmcd-0.280-0/blib/arch:/tmp/loop_over_bdir-2017365-UE6AA0/App-rmcd-0.280-0/blib/lib:/tmp/loop_over_bdir-2017365-UE6AA0/mmds-1.902-0/blib/arch:/tmp/loop_over_bdir-2017365-UE6AA0/mmds-1.902-0/blib/lib:/tmp/loop_over_bdir-2017365-UE6AA0/DBIx-Migration-Directories-0.12-0/blib/arch:/tmp/loop_over_bdir-2017365-UE6AA0/DBIx-Migration-Directories-0.12-0/blib/lib:/tmp/loop_over_bdir-2017365-UE6AA0/Devel-Required-0.16-0/blib/arch:/tmp/loop_over_bdir-2017365-UE6AA0/Devel-Required-0.16-0/blib/lib:/tmp/loop_over_bdir-2017365-UE6AA0/RackMan-1.19-0/blib/arch:/tmp/loop_over_bdir-2017365-UE6AA0/RackMan-1.19-0/blib/lib:/tmp/loop_over_bdir-2017365-UE6AA0/Device-Kiln-0.03-0/blib/arch:/tmp/loop_over_bdir-2017365-UE6AA0/Device-Kiln-0.03-0/blib/lib:/tmp/loop_over_bdir-2017365-UE6AA0/dta-tokwrap-0.98-0/blib/arch:/tmp/loop_over_bdir-2017365-UE6AA0/dta-tokwrap-0.98-0/blib/lib:/tmp/loop_over_bdir-2017365-UE6AA0/Simulation-Automate-1.0.1-0/blib/arch:/tmp/loop_over_bdir-2017365-UE6AA0/Simulation-Automate-1.0.1-0/blib/lib:/tmp/loop_over_bdir-2017365-UE6AA0/OSDial-3.0.2.124-0/blib/arch:/tmp/loop_over_bdir-2017365-UE6AA0/OSDial-3.0.2.124-0/blib/lib"
PERL5OPT=""
PERL5_CPANPLUS_IS_RUNNING="2017404"
PERL5_CPAN_IS_RUNNING="2017404"
PERL_CANARY_STABILITY_NOPROMPT="1"
PERL_MM_USE_DEFAULT="1"
PERL_USE_UNSAFE_INC="1"
@INC:
/tmp/loop_over_bdir-2017365-UE6AA0/App-oo_modulino_zsh_completion_helper-0.04-0/blib/arch
/tmp/loop_over_bdir-2017365-UE6AA0/App-oo_modulino_zsh_completion_helper-0.04-0/blib/lib
/tmp/loop_over_bdir-2017365-UE6AA0/Debian-Packages-0.03-0/blib/arch
/tmp/loop_over_bdir-2017365-UE6AA0/Debian-Packages-0.03-0/blib/lib
/tmp/loop_over_bdir-2017365-UE6AA0/Net-Async-DigitalOcean-0.04-0/blib/arch
/tmp/loop_over_bdir-2017365-UE6AA0/Net-Async-DigitalOcean-0.04-0/blib/lib
/tmp/loop_over_bdir-2017365-UE6AA0/EJBCA-CrlPublish-0.60-0/blib/arch
/tmp/loop_over_bdir-2017365-UE6AA0/EJBCA-CrlPublish-0.60-0/blib/lib
/tmp/loop_over_bdir-2017365-UE6AA0/Captive-Portal-4.10-0/blib/arch
/tmp/loop_over_bdir-2017365-UE6AA0/Captive-Portal-4.10-0/blib/lib
/tmp/loop_over_bdir-2017365-UE6AA0/App-rmcd-0.280-0/blib/arch
/tmp/loop_over_bdir-2017365-UE6AA0/App-rmcd-0.280-0/blib/lib
/tmp/loop_over_bdir-2017365-UE6AA0/mmds-1.902-0/blib/arch
/tmp/loop_over_bdir-2017365-UE6AA0/mmds-1.902-0/blib/lib
/tmp/loop_over_bdir-2017365-UE6AA0/DBIx-Migration-Directories-0.12-0/blib/arch
/tmp/loop_over_bdir-2017365-UE6AA0/DBIx-Migration-Directories-0.12-0/blib/lib
/tmp/loop_over_bdir-2017365-UE6AA0/Devel-Required-0.16-0/blib/arch
/tmp/loop_over_bdir-2017365-UE6AA0/Devel-Required-0.16-0/blib/lib
/tmp/loop_over_bdir-2017365-UE6AA0/RackMan-1.19-0/blib/arch
/tmp/loop_over_bdir-2017365-UE6AA0/RackMan-1.19-0/blib/lib
/tmp/loop_over_bdir-2017365-UE6AA0/Device-Kiln-0.03-0/blib/arch
/tmp/loop_over_bdir-2017365-UE6AA0/Device-Kiln-0.03-0/blib/lib
/tmp/loop_over_bdir-2017365-UE6AA0/dta-tokwrap-0.98-0/blib/arch
/tmp/loop_over_bdir-2017365-UE6AA0/dta-tokwrap-0.98-0/blib/lib
/tmp/loop_over_bdir-2017365-UE6AA0/Simulation-Automate-1.0.1-0/blib/arch
/tmp/loop_over_bdir-2017365-UE6AA0/Simulation-Automate-1.0.1-0/blib/lib
/tmp/loop_over_bdir-2017365-UE6AA0/OSDial-3.0.2.124-0/blib/arch
/tmp/loop_over_bdir-2017365-UE6AA0/OSDial-3.0.2.124-0/blib/lib
/home/sand/src/perl/repoperls/installed-perls/host/k93jammy/v5.36.1-RC3/6567/lib/site_perl/5.36.1/x86_64-linux
/home/sand/src/perl/repoperls/installed-perls/host/k93jammy/v5.36.1-RC3/6567/lib/site_perl/5.36.1
/home/sand/src/perl/repoperls/installed-perls/host/k93jammy/v5.36.1-RC3/6567/lib/5.36.1/x86_64-linux
/home/sand/src/perl/repoperls/installed-perls/host/k93jammy/v5.36.1-RC3/6567/lib/5.36.1
.