Dist-Zilla-PluginBundle-GitLab v1.0002 Perl 5 v5.36.0 amd64-freebsd

Status
Pass
From
Nedzad Hrnjica (NHRNJICA)
Dist
Dist-Zilla-PluginBundle-GitLab v1.0002
Platform
Perl 5 v5.36.0 amd64-freebsd
Date
2022-07-29 06:52:50
ID
101e9ee8-0f0b-11ed-afd7-ccebbfb3760d
This distribution has been tested as part of the CPAN Testers
project, supporting the Perl programming language.  See
http://wiki.cpantesters.org/ for more information or email
questions to cpan-testers-discuss@perl.org


--
Dear GEEKRUTH,

This is a computer-generated report for Dist-Zilla-PluginBundle-GitLab-1.0002
on perl 5.36.0, created by App::cpanminus::reporter 0.17 (1.7046).

Thank you for uploading your work to CPAN.  Congratulations!
All tests were successful.

Sections of this report:

    * Tester comments
    * Program output
    * Prerequisites
    * Environment and other context

------------------------------
TESTER COMMENTS
------------------------------

Additional comments from tester:

none provided

------------------------------
PROGRAM OUTPUT
------------------------------

Output from '':

Building and testing Dist-Zilla-PluginBundle-GitLab-1.0002
cp lib/Dist/Zilla/App/Command/gl.pm blib/lib/Dist/Zilla/App/Command/gl.pm
cp lib/Dist/Zilla/Plugin/GitLab/Meta.pm blib/lib/Dist/Zilla/Plugin/GitLab/Meta.pm
cp lib/Dist/Zilla/Plugin/GitLab/Create.pm blib/lib/Dist/Zilla/Plugin/GitLab/Create.pm
cp lib/Dist/Zilla/Plugin/GitLab/Update.pm blib/lib/Dist/Zilla/Plugin/GitLab/Update.pm
cp lib/Dist/Zilla/PluginBundle/GitLab.pm blib/lib/Dist/Zilla/PluginBundle/GitLab.pm
cp lib/Dist/Zilla/Plugin/GitLab.pm blib/lib/Dist/Zilla/Plugin/GitLab.pm
PERL_DL_NONLAZY=1 "/usr/home/cpantest/.plenv/versions/5.36.0/bin/perl5.36.0" "-MExtUtils::Command::MM" "-MTest::Harness" "-e" "undef *Test::Harness::Switches; test_harness(0, 'blib/lib', 'blib/arch')" t/*.t t/tests/dist/zilla/app/command/*.t t/tests/dist/zilla/plugin/gitlab/*.t t/tests/dist/zilla/pluginbundle/*.t
t/00-compile.t ............................. ok
# 
# Versions for all modules listed in MYMETA.json (including optional ones):
# 
# === Configure Requires ===
# 
#     Module              Want Have
#     ------------------- ---- ----
#     ExtUtils::MakeMaker  any 7.64
# 
# === Build Requires ===
# 
#     Module              Want Have
#     ------------------- ---- ----
#     ExtUtils::MakeMaker  any 7.64
# 
# === Test Requires ===
# 
#     Module                Want     Have
#     --------------------- ---- --------
#     ExtUtils::MakeMaker    any     7.64
#     File::Spec             any     3.84
#     FindBin                any     1.53
#     IO::Handle             any     1.48
#     IPC::Open3             any     1.22
#     Path::Tiny             any    0.122
#     Test2::Tools::Compare  any 0.000145
#     Test2::Tools::Explain  any     0.02
#     Test2::Tools::JSON     any     0.05
#     Test2::V0              any 0.000145
#     Test::DZil             any    6.025
#     Test::More             any 1.302191
#     lib                    any     0.65
#     strict                 any     1.12
#     warnings               any     1.58
# 
# === Test Recommends ===
# 
#     Module         Want     Have
#     ---------- -------- --------
#     CPAN::Meta 2.120900 2.150010
# 
# === Runtime Requires ===
# 
#     Module                                Want       Have
#     ------------------------------------- ---- ----------
#     Carp                                   any       1.52
#     Class::Load                            any       0.25
#     Cwd                                    any       3.84
#     Data::Dumper                           any      2.184
#     Dist::Zilla::App                       any      6.025
#     Dist::Zilla::Dist::Minter              any      6.025
#     Dist::Zilla::Role::AfterMint           any      6.025
#     Dist::Zilla::Role::AfterRelease        any      6.025
#     Dist::Zilla::Role::MetaProvider        any      6.025
#     Dist::Zilla::Role::PluginBundle::Easy  any      6.025
#     Dist::Zilla::Role::TextTemplate        any      6.025
#     File::Basename                         any       2.85
#     Git::Wrapper                           any      0.048
#     HTTP::Tiny                             any      0.080
#     JSON::MaybeXS                          any   1.004003
#     List::Util                             any       1.62
#     Modern::Perl                           any 1.20220515
#     Moose                                  any     2.2201
#     Try::Tiny                              any       0.31
#     URL::Encode                            any       0.03
# 
t/00-report-prereqs.t ...................... ok
t/tests/dist/zilla/app/command/gl.t ........ skipped: Tests for dzil gl commands not yet written.
t/tests/dist/zilla/plugin/gitlab/create.t .. skipped: Tests not yet written.
t/tests/dist/zilla/plugin/gitlab/meta.t .... skipped: Tests not yet written.
t/tests/dist/zilla/plugin/gitlab/update.t .. ok
t/tests/dist/zilla/pluginbundle/gitlab.t ... skipped: Tests not yet written.
All tests successful.
Files=7, Tests=8, 19 wallclock secs ( 0.09 usr  0.07 sys + 13.24 cusr  1.73 csys = 15.13 CPU)
Result: PASS

------------------------------
PREREQUISITES
------------------------------

Prerequisite modules loaded:

    No requirements found

------------------------------
ENVIRONMENT AND OTHER CONTEXT
------------------------------

Environment variables:

    PATH = /home/cpantest/.plenv/versions/5.36.0/bin:/home/cpantest/.plenv/libexec:/home/cpantest/.plenv/plugins/perl-build/bin:/usr/home/cpantest/5.36.0/local/bin:/home/cpantest/.plenv/shims:/home/cpantest/.plenv/bin:/sbin:/bin:/usr/sbin:/usr/bin:/usr/local/sbin:/usr/local/bin:/home/cpantest/bin
    PERL5LIB = /usr/home/cpantest/5.36.0/local/lib/perl5
    SHELL = /usr/local/bin/bash
    TERM = xterm-256color

Perl special variables (and OS-specific diagnostics, for MSWin32):

    EGID = 1002 1002
    EUID = 1002
    EXECUTABLE_NAME = /usr/home/cpantest/.plenv/versions/5.36.0/bin/perl5.36.0
    GID = 1002 1002
    UID = 1002

Perl module toolchain versions installed:

    Module              Have    
    ------------------- --------
    CPAN                2.33    
    CPAN::Meta          2.150010
    Cwd                 3.84    
    ExtUtils::CBuilder  0.280236
    ExtUtils::Command   7.64    
    ExtUtils::Install   2.20    
    ExtUtils::MakeMaker 7.64    
    ExtUtils::Manifest  1.73    
    ExtUtils::ParseXS   3.45    
    File::Spec          3.84    
    JSON                4.07    
    JSON::PP            4.10    
    Module::Build       0.4231  
    Module::Signature   n/a     
    Parse::CPAN::Meta   2.150010
    Test::Harness       3.44    
    Test::More          1.302191
    YAML                1.30    
    YAML::Syck          n/a     
    version             0.9929  


--

Summary of my perl5 (revision 5 version 36 subversion 0) configuration:
   
  Platform:
    osname=freebsd
    osvers=12.3-release
    archname=amd64-freebsd
    uname='freebsd home3.nedzadhrnjica.com 12.3-release freebsd 12.3-release r371126 generic amd64 '
    config_args='-Dprefix=/home/cpantest/.plenv/versions/5.36.0 -de -Dversiononly -A'eval:scriptdir=/home/cpantest/.plenv/versions/5.36.0/bin''
    hint=recommended
    useposix=true
    d_sigaction=define
    useithreads=undef
    usemultiplicity=undef
    use64bitint=define
    use64bitall=define
    uselongdouble=undef
    usemymalloc=n
    default_inc_excludes_dot=define
  Compiler:
    cc='cc'
    ccflags ='-DHAS_FPSETMASK -DHAS_FLOATINGPOINT_H -fno-strict-aliasing -pipe -fstack-protector-strong -I/usr/local/include'
    optimize='-O2'
    cppflags='-DHAS_FPSETMASK -DHAS_FLOATINGPOINT_H -fno-strict-aliasing -pipe -fstack-protector-strong -I/usr/local/include'
    ccversion=''
    gccversion='FreeBSD Clang 10.0.1 (git@github.com:llvm/llvm-project.git llvmorg-10.0.1-0-gef32c611aa2)'
    gccosandvers=''
    intsize=4
    longsize=8
    ptrsize=8
    doublesize=8
    byteorder=12345678
    doublekind=3
    d_longlong=define
    longlongsize=8
    d_longdbl=define
    longdblsize=16
    longdblkind=3
    ivtype='long'
    ivsize=8
    nvtype='double'
    nvsize=8
    Off_t='off_t'
    lseeksize=8
    alignbytes=8
    prototype=define
  Linker and Libraries:
    ld='cc'
    ldflags ='-Wl,-E  -fstack-protector-strong -L/usr/local/lib'
    libpth=/usr/lib /usr/local/lib /usr/lib/clang/10.0.1/lib
    libs=-lpthread -ldl -lm -lcrypt -lutil -lc
    perllibs=-lpthread -ldl -lm -lcrypt -lutil -lc
    libc=
    so=so
    useshrplib=false
    libperl=libperl.a
    gnulibc_version=''
  Dynamic Linking:
    dlsrc=dl_dlopen.xs
    dlext=so
    d_dlsymun=undef
    ccdlflags=' '
    cccdlflags='-DPIC -fPIC'
    lddlflags='-shared  -L/usr/local/lib -fstack-protector-strong'


Characteristics of this binary (from libperl): 
  Compile-time options:
    HAS_TIMES
    PERLIO_LAYERS
    PERL_COPY_ON_WRITE
    PERL_DONT_CREATE_GVSV
    PERL_MALLOC_WRAP
    PERL_OP_PARENT
    PERL_PRESERVE_IVUV
    USE_64_BIT_ALL
    USE_64_BIT_INT
    USE_LARGE_FILES
    USE_LOCALE
    USE_LOCALE_COLLATE
    USE_LOCALE_CTYPE
    USE_LOCALE_NUMERIC
    USE_LOCALE_TIME
    USE_PERLIO
    USE_PERL_ATOF
  Built under freebsd
  Compiled at Jul 27 2022 19:49:14
  %ENV:
    PERL5LIB="/usr/home/cpantest/5.36.0/local/lib/perl5"
  @INC:
    /usr/home/cpantest/5.36.0/local/lib/perl5
    /home/cpantest/.plenv/versions/5.36.0/lib/perl5/site_perl/5.36.0/amd64-freebsd
    /home/cpantest/.plenv/versions/5.36.0/lib/perl5/site_perl/5.36.0
    /home/cpantest/.plenv/versions/5.36.0/lib/perl5/5.36.0/amd64-freebsd
    /home/cpantest/.plenv/versions/5.36.0/lib/perl5/5.36.0