Org-Parser v0.557 Perl 5 v5.35.12 darwin-2level
- Status
- Pass
- From
- David Cantrell (DCANTRELL)
- Dist
-
Org-Parser v0.557
- Platform
- Perl 5 v5.35.12 darwin-2level
- Date
- 2022-04-28 10:57:57
- ID
- 100936b4-c6e2-11ec-9a88-45df08a9823c
This distribution has been tested as part of the CPAN Testers
project, supporting the Perl programming language. See
http://wiki.cpantesters.org/ for more information or email
questions to cpan-testers-discuss@perl.org
--
Dear perlancar,
This is a computer-generated report for Org-Parser-0.557
on perl 5.35.12, created by CPAN-Reporter-1.2018.
Thank you for uploading your work to CPAN. Congratulations!
All tests were successful.
Sections of this report:
* Tester comments
* Program output
* Prerequisites
* Environment and other context
------------------------------
TESTER COMMENTS
------------------------------
Additional comments from tester:
this report is from an automated smoke testing program
and was not reviewed by a human for accuracy
------------------------------
PROGRAM OUTPUT
------------------------------
Output from '/usr/bin/make test':
PERL_DL_NONLAZY=1 "/Users/cpantesting/cpantesting/perl-blead/bin/perl5.35.12" "-MExtUtils::Command::MM" "-MTest::Harness" "-e" "undef *Test::Harness::Switches; test_harness(0, 'blib/lib', 'blib/arch')" t/*.t
t/00-compile.t ............... ok
t/01-basics.t ................ ok
t/author-critic.t ............ skipped: these tests are for testing by the author
t/author-pod-coverage.t ...... skipped: these tests are for testing by the author
t/author-pod-syntax.t ........ skipped: these tests are for testing by the author
t/base_element-field_name.t .. ok
t/base_element.t ............. ok
t/block.t .................... ok
t/comment.t .................. ok
t/document.t ................. ok
t/drawer.t ................... ok
t/fixed_width_section.t ...... ok
t/footnote.t ................. ok
t/headline-get_property.t .... ok
t/headline.t ................. ok
t/link_and_target.t .......... ok
t/list.t ..................... ok
t/radio_target.t ............. ok
t/regression-rt68443.t ....... ok
t/rt98375.t .................. ok
t/setting-todo.t ............. ok
t/setting.t .................. ok
t/table.t .................... ok
t/text.t ..................... ok
t/timerange.t ................ ok
t/timestamp.t ................ ok
t/unicode.t .................. ok
t/various.t .................. ok
All tests successful.
Files=28, Tests=120, 18 wallclock secs ( 0.20 usr 0.11 sys + 10.98 cusr 2.09 csys = 13.38 CPU)
Result: PASS
------------------------------
PREREQUISITES
------------------------------
Prerequisite modules loaded:
requires:
Module Need Have
--------------------------- ------ --------
Cwd 0 3.84
DateTime 0 1.58
DateTime::Event::Recurrence 0 0.19
Digest::MD5 0 2.58
experimental 0 0.028
File::Slurper 0 0.013
if 0 0.0610
List::MoreUtils 0 0.430
locale 0 1.10
Log::ger 0.038 0.038
Module::List 0 0.004
Module::Load 0 0.36
Moo 0 2.005004
Moo::Role 0 2.005004
perl 5.014 5.035012
Scalar::Util 0 1.62
Storable 3.08 3.26
Time::HiRes 0 1.9770
utf8 0 1.24
warnings 0 1.58
build_requires:
Module Need Have
--------------------------- ------ --------
ExtUtils::MakeMaker 0 7.64
File::Spec 0 3.84
File::Temp 0.2307 0.2311
FindBin 0 1.53
IO::Handle 0 1.48
IPC::Open3 0 1.22
lib 0 0.65
Module::Loaded 0 0.08
Org::Dump 0.551 0.552
strict 0 1.12
Test::Exception 0 0.43
Test::More 0.98 1.302190
configure_requires:
Module Need Have
--------------------------- ------ --------
ExtUtils::MakeMaker 0 7.64
------------------------------
ENVIRONMENT AND OTHER CONTEXT
------------------------------
Environment variables:
AUTOMATED_TESTING = 1
NONINTERACTIVE_TESTING = 1
PATH = /Users/cpantesting/perl5/perlbrew/bin:/Users/cpantesting/perl5/perlbrew/perls/perl-5.32.0/bin:/usr/local/bin:/usr/bin:/bin:/usr/sbin:/sbin:/Library/Apple/usr/bin
PERL = blead
PERL5LIB =
PERL5OPT =
PERL5_CPANPLUS_IS_RUNNING = 29719
PERL5_CPAN_IS_RUNNING = 29719
PERLBREW_HOME = /Users/cpantesting/.perlbrew
PERLBREW_MANPATH = /Users/cpantesting/perl5/perlbrew/perls/perl-5.32.0/man
PERLBREW_PATH = /Users/cpantesting/perl5/perlbrew/bin:/Users/cpantesting/perl5/perlbrew/perls/perl-5.32.0/bin
PERLBREW_PERL = perl-5.32.0
PERLBREW_ROOT = /Users/cpantesting/perl5/perlbrew
PERLBREW_SHELLRC_VERSION = 0.94
PERLBREW_VERSION = 0.94
PERLVER = blead
PERL_INLINE_DIRECTORY = /Users/cpantesting/.Inline-blead
PERL_MM_USE_DEFAULT = 1
PERL_USE_UNSAFE_INC = 0
SHELL = /bin/bash
TERM = screen
Perl special variables (and OS-specific diagnostics, for MSWin32):
$^X = /Users/cpantesting/cpantesting/perl-blead/bin/perl5.35.12
$UID/$EUID = 503 / 503
$GID = 20 20 12 61 703 702 701 100
$EGID = 20 20 12 61 703 702 701 100
Perl module toolchain versions installed:
Module Have
------------------- --------
CPAN 2.34
CPAN::Meta 2.150010
Cwd 3.84
ExtUtils::CBuilder 0.280236
ExtUtils::Command 7.64
ExtUtils::Install 2.20
ExtUtils::MakeMaker 7.64
ExtUtils::Manifest 1.73
ExtUtils::ParseXS 3.45
File::Spec 3.84
JSON 4.05
JSON::PP 4.07
Module::Build 0.4231
Module::Signature n/a
Parse::CPAN::Meta 2.150010
Test::Harness 3.44
Test::More 1.302190
YAML 1.30
YAML::Syck 1.34
version 0.9929
--
Summary of my perl5 (revision 5 version 35 subversion 12) configuration:
Commit id: 70f5c3e99f92075109e4262faf825fb00ea79bd3
Platform:
osname=darwin
osvers=20.6.0
archname=darwin-2level
uname='darwin harrow.local 20.6.0 darwin kernel version 20.6.0: wed jan 12 22:22:42 pst 2022; root:xnu-7195.141.19~2release_x86_64 x86_64 '
config_args='-de -Dprefix=/Users/cpantesting/cpantesting/perl-blead -Dusedevel'
hint=recommended
useposix=true
d_sigaction=define
useithreads=undef
usemultiplicity=undef
use64bitint=define
use64bitall=define
uselongdouble=undef
usemymalloc=n
default_inc_excludes_dot=define
Compiler:
cc='cc'
ccflags ='-fno-common -DPERL_DARWIN -mmacosx-version-min=11.6 -fno-strict-aliasing -pipe -fstack-protector-strong -I/usr/local/include -DPERL_USE_SAFE_PUTENV'
optimize='-O3'
cppflags='-fno-common -DPERL_DARWIN -mmacosx-version-min=11.6 -fno-strict-aliasing -pipe -fstack-protector-strong -I/usr/local/include'
ccversion=''
gccversion='Apple LLVM 13.0.0 (clang-1300.0.29.30)'
gccosandvers=''
intsize=4
longsize=8
ptrsize=8
doublesize=8
byteorder=12345678
doublekind=3
d_longlong=define
longlongsize=8
d_longdbl=define
longdblsize=16
longdblkind=3
ivtype='long'
ivsize=8
nvtype='double'
nvsize=8
Off_t='off_t'
lseeksize=8
alignbytes=8
prototype=define
Linker and Libraries:
ld='cc'
ldflags =' -mmacosx-version-min=11.6 -fstack-protector-strong -L/usr/local/lib'
libpth=/usr/local/lib /Applications/Xcode.app/Contents/Developer/Toolchains/XcodeDefault.xctoolchain/usr/lib/clang/13.0.0/lib /Applications/Xcode.app/Contents/Developer/Platforms/MacOSX.platform/Developer/SDKs/MacOSX.sdk/usr/lib /Applications/Xcode.app/Contents/Developer/Toolchains/XcodeDefault.xctoolchain/usr/lib /usr/lib
libs=-lgdbm
perllibs=
libc=
so=dylib
useshrplib=false
libperl=libperl.a
gnulibc_version=''
Dynamic Linking:
dlsrc=dl_dlopen.xs
dlext=bundle
d_dlsymun=undef
ccdlflags=' '
cccdlflags=' '
lddlflags=' -mmacosx-version-min=11.6 -bundle -undefined dynamic_lookup -L/usr/local/lib -fstack-protector-strong'
Characteristics of this binary (from libperl):
Compile-time options:
HAS_TIMES
PERLIO_LAYERS
PERL_COPY_ON_WRITE
PERL_DONT_CREATE_GVSV
PERL_MALLOC_WRAP
PERL_OP_PARENT
PERL_PRESERVE_IVUV
PERL_USE_DEVEL
PERL_USE_SAFE_PUTENV
USE_64_BIT_ALL
USE_64_BIT_INT
USE_LARGE_FILES
USE_LOCALE
USE_LOCALE_COLLATE
USE_LOCALE_CTYPE
USE_LOCALE_NUMERIC
USE_LOCALE_TIME
USE_PERLIO
USE_PERL_ATOF
Built under darwin
Compiled at Apr 22 2022 18:23:34
%ENV:
PERL="blead"
PERL5LIB=""
PERL5OPT=""
PERL5_CPANPLUS_IS_RUNNING="29719"
PERL5_CPAN_IS_RUNNING="29719"
PERLBREW_HOME="/Users/cpantesting/.perlbrew"
PERLBREW_MANPATH="/Users/cpantesting/perl5/perlbrew/perls/perl-5.32.0/man"
PERLBREW_PATH="/Users/cpantesting/perl5/perlbrew/bin:/Users/cpantesting/perl5/perlbrew/perls/perl-5.32.0/bin"
PERLBREW_PERL="perl-5.32.0"
PERLBREW_ROOT="/Users/cpantesting/perl5/perlbrew"
PERLBREW_SHELLRC_VERSION="0.94"
PERLBREW_VERSION="0.94"
PERLVER="blead"
PERL_INLINE_DIRECTORY="/Users/cpantesting/.Inline-blead"
PERL_MM_USE_DEFAULT="1"
PERL_USE_UNSAFE_INC="0"
@INC:
/Users/cpantesting/cpantesting/perl-blead/lib/site_perl/5.35.12/darwin-2level
/Users/cpantesting/cpantesting/perl-blead/lib/site_perl/5.35.12
/Users/cpantesting/cpantesting/perl-blead/lib/5.35.12/darwin-2level
/Users/cpantesting/cpantesting/perl-blead/lib/5.35.12