urpmi vv8.132.1 Perl 5 v5.38.2 x86_64-linux-thread-multi
- Status
- Pass
- From
- Dist
-
urpmi vv8.132.1
- Platform
- Perl 5 v5.38.2 x86_64-linux-thread-multi
- Date
- 2024-05-31 13:38:26
- ID
- 0eda8e52-1f53-11ef-8821-ff164c70507a
This distribution has been tested as part of the CPAN Testers
project, supporting the Perl programming language. See
http://wiki.cpantesters.org/ for more information or email
questions to cpan-testers-discuss@perl.org
--
Dear Thierry Vignaud,
This is a computer-generated report for urpmi-v8.132.1
on perl 5.38.2, created by CPAN-Reporter-1.2019.
Thank you for uploading your work to CPAN. Congratulations!
All tests were successful.
Sections of this report:
* Tester comments
* Program output
* Prerequisites
* Environment and other context
------------------------------
TESTER COMMENTS
------------------------------
Additional comments from tester:
none provided
------------------------------
PROGRAM OUTPUT
------------------------------
Output from '/usr/bin/make test':
Skip blib/lib/urpm/signature.pm (unchanged)
Skip blib/lib/urpm/args.pm (unchanged)
Skip blib/lib/urpm/parallel.pm (unchanged)
Skip blib/lib/urpm/xml_info.pm (unchanged)
Skip blib/lib/urpm/util.pm (unchanged)
Skip blib/lib/urpm/parallel_ssh.pm (unchanged)
Skip blib/lib/urpm/bug_report.pm (unchanged)
Skip blib/lib/urpm/lock.pm (unchanged)
Skip blib/lib/urpm/md5sum.pm (unchanged)
Skip blib/lib/urpm/xml_info_pkg.pm (unchanged)
Skip blib/lib/urpm/prompt.pm (unchanged)
Skip blib/lib/urpm/removable.pm (unchanged)
Skip blib/lib/urpm/download.pm (unchanged)
Skip blib/lib/urpm/ldap.pm (unchanged)
Skip blib/lib/urpm.pm (unchanged)
Skip blib/lib/urpm/msg.pm (unchanged)
Skip blib/lib/urpm/media.pm (unchanged)
Skip blib/lib/urpm/parallel_ka_run.pm (unchanged)
Skip blib/lib/urpm/install.pm (unchanged)
Skip blib/lib/urpm/README.ssh (unchanged)
Skip blib/lib/urpm/cfg.pm (unchanged)
Skip blib/lib/urpm/README.ka-run (unchanged)
Skip blib/lib/gurpm/RPMProgressDialog.pm (unchanged)
Skip blib/lib/urpm/cdrom.pm (unchanged)
Skip blib/lib/urpm/orphans.pm (unchanged)
Skip blib/lib/urpm/sys.pm (unchanged)
Skip blib/lib/urpm/get_pkgs.pm (unchanged)
Skip blib/lib/urpm/mirrors.pm (unchanged)
Skip blib/lib/urpmi.pm (unchanged)
Skip blib/lib/urpm/select.pm (unchanged)
Skip blib/lib/urpm/main_loop.pm (unchanged)
PERL_DL_NONLAZY=1 "/usr/bin/perl5.38.2" "-MExtUtils::Command::MM" "-MTest::Harness" "-e" "undef *Test::Harness::Switches; test_harness(0, 'blib/lib', 'blib/arch')" t/*.t
t/01compile.t ................................................... ok
>> RPM version is: RPM version 4.19.1.1
n'est pas un exécutable dynamique
0 bloc
hoc'h evezhà: linenn 7à: Il n'est pas recommandé d'avoir des Obsoletes non versionnésà: Obsoletes: bb
36545 blocs
hoc'h evezhà: Les packages RPM v3 sont obsolètes : p2c-1.20-7.i386
hoc'h evezhà: Les packages RPM v3 sont obsolètes : KBackup-1.2.11-1.i386
hoc'h evezhà: Les packages RPM v3 sont obsolètes : nls-1.0-2.i386
hoc'h evezhà: Les packages RPM v3 sont obsolètes : libtermcap-2.0.8-2.i386
hoc'h evezhà: Les packages RPM v3 sont obsolètes : libtermcap-2.0.8-2.i386
hoc'h evezhà: Les packages RPM v3 sont obsolètes : KBackup-1.2.11-1.i386
hoc'h evezhà: Les packages RPM v3 sont obsolètes : p2c-1.20-7.i386
hoc'h evezhà: Les packages RPM v3 sont obsolètes : nls-1.0-2.i386
missing ./media/various/media_info/pubkey, not creating alternate location ./media/media_info/pubkey_various
missing ./media/various2/media_info/pubkey, not creating alternate location ./media/media_info/pubkey_various_ii
missing ./media/various3/media_info/pubkey, not creating alternate location ./media/media_info/pubkey_various_iii
missing ./media/various-debug/media_info/pubkey, not creating alternate location ./media/media_info/pubkey_various_debug
missing ./media/SRPMS-srpm-bootstrapping/media_info/pubkey, not creating alternate location ./media/media_info/pubkey_various_sources
t/02create_pkgs.t ............................................... ok
t/03kwality.t ................................................... skipped: These tests are for authors only!
t/cfg.t ......................................................... ok
t/pod.t ......................................................... ok
t/superuser--addmedia.t ......................................... ok
t/superuser--arch_to_noarch.t ................................... ok
t/superuser--backtrack-promotion.t .............................. ok
t/superuser--best-versioned-provide.t ........................... ok
t/superuser--buggy-rpms.t ....................................... ok
t/superuser--dropped-provides.t ................................. ok
t/superuser--epochless-conflict-with-promotion.t ................ ok
t/superuser--exclude.t .......................................... ok
t/superuser--failing-promotion.t ................................ ok
t/superuser--failing-scriptlets.t ............................... ok
t/superuser--file-conflicts.t ................................... ok
t/superuser--handle-conflict-deps.t ............................. ok
t/superuser--handle-conflict-deps2.t ............................ ok
t/superuser--http.t ............................................. ok
t/superuser--media_info_dir.t ................................... ok
mirror list not found
t/superuser--mirrorlist.t ....................................... ok
t/superuser--obsolete-and-conflict.t ............................ ok
t/superuser--ordering-scriptlets.t .............................. ok
t/superuser--orphans-kernels.t .................................. ok
t/superuser--orphans.t .......................................... ok
t/superuser--prefer.t ........................................... ok
t/superuser--prefer2.t .......................................... ok
t/superuser--priority-upgrade.t ................................. ok
t/superuser--provide-and-no-obsolete.t .......................... ok
t/superuser--README-urpmi.t ..................................... ok
t/superuser--rpm.t .............................................. ok
t/superuser--rpmnew.t ........................................... ok
t/superuser--should-restart.t ................................... ok
t/superuser--specify-media.t .................................... ok
t/superuser--split-transactions--conflict.t ..................... ok
t/superuser--split-transactions--promote.t ...................... ok
t/superuser--split-transactions--strict-require-and-obsolete.t .. ok
t/superuser--split-transactions--strict-require.t ............... ok
t/superuser--split-transactions.t ............................... ok
t/superuser--srpm-bootstrapping.t ............................... ok
t/superuser--suggests.t ......................................... ok
t/superuser--urpmi_update.t ..................................... ok
All tests successful.
Files=42, Tests=816, 64 wallclock secs ( 0.26 usr 0.04 sys + 44.47 cusr 21.80 csys = 66.57 CPU)
Result: PASS
------------------------------
PREREQUISITES
------------------------------
Prerequisite modules loaded:
requires:
Module Need Have
------------------- -------- --------
Filesys::Df 0 0.92
Getopt::Long 0 2.57
Locale::gettext 1.01 1.07
MDV::Distribconf 4.100 4.101
Net::LDAP 0 0.66
perl 5.010000 5.038002
Time::ZoneInfo 0 0.3
URPM v5.28.0 v5.225
XML::LibXML 0 2.0210
XML::LibXML::Reader 0 2.0210
build_requires:
Module Need Have
------------------- -------- --------
Expect 0 1.38
ExtUtils::MakeMaker 0 7.70
File::Slurp 0 9999.32
Net::Server 0 2.014
rpmtools 7.12 7.12
Test::More 1.302 1.302199
Test::Pod 0 1.52
Test::Pod::Coverage 0 1.10
configure_requires:
Module Need Have
------------------- -------- --------
ExtUtils::MakeMaker 6.64 7.70
------------------------------
ENVIRONMENT AND OTHER CONTEXT
------------------------------
Environment variables:
LANG = br_FR.UTF-8
LANGUAGE = br:fr_FR:fr
LC_ADDRESS = br_FR.UTF-8
LC_COLLATE = br_FR.UTF-8
LC_CTYPE = br_FR.UTF-8
LC_IDENTIFICATION = br_FR.UTF-8
LC_MEASUREMENT = br_FR.UTF-8
LC_MESSAGES = br_FR.UTF-8
LC_MONETARY = br_FR.UTF-8
LC_NAME = br_FR.UTF-8
LC_NUMERIC = br_FR.UTF-8
LC_PAPER = br_FR.UTF-8
LC_SOURCED = 1
LC_TELEPHONE = br_FR.UTF-8
LC_TIME = br_FR.UTF-8
PATH = /usr/local/bin:/usr/bin:/usr/local/sbin:/usr/sbin:/usr/lib64/qt5/bin:/usr/lib64/qt6/bin:/usr/lib64/qt4/bin:/home/tv/bin:/home/tv/cov-analysis-linux64-6.5.1/bin
PERL5LIB =
PERL5OPT =
PERL5_CPANPLUS_IS_RUNNING = 2717643
PERL5_CPAN_IS_RUNNING = 2717643
PERL_USE_UNSAFE_INC = 1
SHELL = /bin/bash
TERM = screen.xterm-256color
TMPDIR = /tmp
Perl special variables (and OS-specific diagnostics, for MSWin32):
$^X = /usr/bin/perl5.38.2
$UID/$EUID = 501 / 501
$GID = 100 4 10 22 81 82 100 478 485
$EGID = 100 4 10 22 81 82 100 478 485
Perl module toolchain versions installed:
Module Have
------------------- --------
CPAN 2.36
CPAN::Meta 2.150010
Cwd 3.89
ExtUtils::CBuilder 0.280236
ExtUtils::Command 7.70
ExtUtils::Install 2.22
ExtUtils::MakeMaker 7.70
ExtUtils::Manifest 1.73
ExtUtils::ParseXS 3.51
File::Spec 3.88
JSON 4.10
JSON::PP 4.16
Module::Build 0.4234
Module::Signature 0.88
Parse::CPAN::Meta 2.150010
Test2 1.302199
Test::Harness 3.48
Test::More 1.302199
YAML 1.31
YAML::Syck 1.34
version 0.9929
--
Summary of my perl5 (revision 5 version 38 subversion 2) configuration:
Platform:
osname=linux
osvers=5.15.126-server-1.mga8
archname=x86_64-linux-thread-multi
uname='linux rabbit.mageia.org 5.15.126-server-1.mga8 #1 smp fri aug 11 23:08:39 utc 2023 x86_64 gnulinux '
config_args='-des -Doptimize=none -Dccflags=-O2 -g -pipe -Wformat -Werror=format-security -Wp,-U_FORTIFY_SOURCE,-D_FORTIFY_SOURCE=2 -fstack-protector-strong -m64 -fasynchronous-unwind-tables -fstack-clash-protection -fcf-protection=full -Dldflags= -Wl,--as-needed -Wl,-z,relro -Wl,-z,now -Wl,-O1 -Wl,--build-id=sha1 -Wl,--enable-new-dtags -Dccdlflags=-Wl,--enable-new-dtags -Wl,--as-needed -Wl,-z,relro -Wl,-z,now -Wl,-O1 -Wl,--build-id=sha1 -Wl,--enable-new-dtags -Dlddlflags=-shared -Wl,--as-needed -Wl,-z,relro -Wl,-z,now -Wl,-O1 -Wl,--build-id=sha1 -Wl,--enable-new-dtags -Dshrpdir=/usr/lib64 -DDEBUGGING=-g -Dmyhostname=localhost -Dperladmin=root@localhost -Dcc=gcc -Dcf_by=Mageia -Dcf_email=root@localhost -Dprefix=/usr -Dman3dir=/usr/share/man/man3pm -Dvendorprefix=/usr -Dsiteprefix=/usr/local -Dsitelib=/usr/local/share/perl5/5.38 -Dsitearch=/usr/local/lib64/perl5/5.38 -Dprivlib=/usr/share/perl5 -Dvendorlib=/usr/share/perl5/vendor_perl -Dsiteman1dir=/usr/local/share/man/man1 -Dsiteman3dir=/usr/local/share/man/man3 -Dvendorman3dir=/usr/share/man/man3 -Darchlib=/usr/lib64/perl5 -Dvendorarch=/usr/lib64/perl5/vendor_perl -Darchname=x86_64-linux-thread-multi -Dlibpth=/usr/local/lib64 /lib64 /usr/lib64 -Duseshrplib -Duseithreads -Dusedtrace=/usr/bin/dtrace -Di_db -Ui_ndbm -Di_gdbm -Dman3ext=3pm -Duse64bitint'
hint=recommended
useposix=true
d_sigaction=define
useithreads=define
usemultiplicity=define
use64bitint=define
use64bitall=define
uselongdouble=undef
usemymalloc=n
default_inc_excludes_dot=define
Compiler:
cc='gcc'
ccflags ='-D_REENTRANT -D_GNU_SOURCE -O2 -g -pipe -Wformat -Werror=format-security -Wp,-U_FORTIFY_SOURCE,-D_FORTIFY_SOURCE=2 -fstack-protector-strong -m64 -fasynchronous-unwind-tables -fstack-clash-protection -fcf-protection=full -fwrapv -fno-strict-aliasing -I/usr/local/include -D_LARGEFILE_SOURCE -D_FILE_OFFSET_BITS=64'
optimize=' -g'
cppflags='-D_REENTRANT -D_GNU_SOURCE -O2 -g -pipe -Wformat -Werror=format-security -Wp,-U_FORTIFY_SOURCE,-D_FORTIFY_SOURCE=2 -fstack-protector-strong -m64 -fasynchronous-unwind-tables -fstack-clash-protection -fcf-protection=full -fwrapv -fno-strict-aliasing -I/usr/local/include'
ccversion=''
gccversion='14.0.1 20240317 (experimental)'
gccosandvers=''
intsize=4
longsize=8
ptrsize=8
doublesize=8
byteorder=12345678
doublekind=3
d_longlong=define
longlongsize=8
d_longdbl=define
longdblsize=16
longdblkind=3
ivtype='long'
ivsize=8
nvtype='double'
nvsize=8
Off_t='off_t'
lseeksize=8
alignbytes=8
prototype=define
Linker and Libraries:
ld='gcc'
ldflags =' -Wl,--as-needed -Wl,-z,relro -Wl,-z,now -Wl,-O1 -Wl,--build-id=sha1 -Wl,--enable-new-dtags -fstack-protector-strong -L/usr/local/lib'
libpth=/usr/local/lib64 /lib64 /usr/lib64 /usr/local/lib /usr/lib
libs=-lpthread -lgdbm -ldb -ldl -lm -lcrypt -lutil -lc -lgdbm_compat
perllibs=-lpthread -ldl -lm -lcrypt -lutil -lc
libc=/lib/../lib64/libc.so.6
so=so
useshrplib=true
libperl=libperl.so
gnulibc_version='2.39'
Dynamic Linking:
dlsrc=dl_dlopen.xs
dlext=so
d_dlsymun=undef
ccdlflags='-Wl,--enable-new-dtags -Wl,--as-needed -Wl,-z,relro -Wl,-z,now -Wl,-O1 -Wl,--build-id=sha1 -Wl,--enable-new-dtags'
cccdlflags='-fPIC'
lddlflags='-lpthread -shared -Wl,--as-needed -Wl,-z,relro -Wl,-z,now -Wl,-O1 -Wl,--build-id=sha1 -Wl,--enable-new-dtags -L/usr/local/lib -fstack-protector-strong'
Characteristics of this binary (from libperl):
Compile-time options:
HAS_LONG_DOUBLE
HAS_STRTOLD
HAS_TIMES
MULTIPLICITY
PERLIO_LAYERS
PERL_COPY_ON_WRITE
PERL_DONT_CREATE_GVSV
PERL_HASH_FUNC_SIPHASH13
PERL_HASH_USE_SBOX32
PERL_MALLOC_WRAP
PERL_OP_PARENT
PERL_PRESERVE_IVUV
PERL_USE_SAFE_PUTENV
USE_64_BIT_ALL
USE_64_BIT_INT
USE_ITHREADS
USE_LARGE_FILES
USE_LOCALE
USE_LOCALE_COLLATE
USE_LOCALE_CTYPE
USE_LOCALE_NUMERIC
USE_LOCALE_TIME
USE_PERLIO
USE_PERL_ATOF
USE_REENTRANT_API
USE_THREAD_SAFE_LOCALE
Locally applied patches:
Mageia patches
Built under linux
Compiled at Apr 5 2024 08:47:16
%ENV:
PERL5LIB=""
PERL5OPT=""
PERL5_CPANPLUS_IS_RUNNING="2717643"
PERL5_CPAN_IS_RUNNING="2717643"
PERL_USE_UNSAFE_INC="1"
@INC:
/usr/local/lib64/perl5/5.38
/usr/local/share/perl5/5.38
/usr/lib64/perl5/vendor_perl
/usr/share/perl5/vendor_perl
/usr/lib64/perl5
/usr/share/perl5
.