Math-Symbolic v0.612 Perl 5 v5.22.4 amd64-freebsd

Status
Pass
From
Slaven Rezić (SREZIC)
Dist
Math-Symbolic v0.612
Platform
Perl 5 v5.22.4 amd64-freebsd
Date
2018-09-09 12:08:23
ID
0c8f371a-b429-11e8-a015-9c07cdf30bd2
This distribution has been tested as part of the CPAN Testers
project, supporting the Perl programming language.  See
http://wiki.cpantesters.org/ for more information or email
questions to cpan-testers-discuss@perl.org


--
Dear Steffen Mueller,

This is a computer-generated report for Math-Symbolic-0.612
on perl 5.22.4, created by CPAN-Reporter-1.2018.

Thank you for uploading your work to CPAN.  Congratulations!
All tests were successful.

Sections of this report:

    * Tester comments
    * Program output
    * Prerequisites
    * Environment and other context

------------------------------
TESTER COMMENTS
------------------------------

Additional comments from tester:

none provided

------------------------------
PROGRAM OUTPUT
------------------------------

Output from './Build test':

t/01basic.t .............. ok
t/02basic.t .............. ok
t/03exp.t ................ ok
t/04deep_derivatives.t ... ok
t/05unary_minus.t ........ ok
t/06parser.t ............. ok
t/07simple_trig.t ........ ok
t/08parse_hyperbolic.t ... ok
t/09hyperbolic.t ......... ok
t/10hyperbolic.t ......... ok
t/11trigonometric.t ...... ok
t/12overload.t ........... ok
t/13parse_more.t ......... ok
t/14compile.t ............ ok
t/15total_derivatives.t .. ok
t/16tests.t .............. ok
t/17modifications.t ...... ok
t/18vectorcalc.t ......... ok
t/19misccalc.t ........... ok
t/20miscalgebra.t ........ ok
t/21more_derivatives.t ... ok
t/22dumpers.t ............ ok
t/90regression.t ......... ok
All tests successful.
Files=23, Tests=435,  7 wallclock secs ( 0.16 usr  0.05 sys +  5.67 cusr  0.65 csys =  6.53 CPU)
Result: PASS

------------------------------
PREREQUISITES
------------------------------

Prerequisite modules loaded:

requires:

    Module            Need Have    
    ----------------- ---- --------
    Data::Dumper      0    2.158   
    Memoize           1.01 1.03_01 
    Parse::RecDescent 0    1.967015

build_requires:

    Module            Need Have    
    ----------------- ---- --------
    Test::More        0    1.302133

configure_requires:

    Module            Need Have    
    ----------------- ---- --------
    Module::Build     0.40 0.4224  


------------------------------
ENVIRONMENT AND OTHER CONTEXT
------------------------------

Environment variables:

    PATH = /usr/local/bin:/usr/bin:/bin:/usr/local/sbin:/usr/sbin:/sbin:/home/cpansand/bin/freebsd11.1:/home/cpansand/bin/sh:/home/cpansand/bin:/usr/games:/home/cpansand/devel:/home/eserte/src/srezic-misc/scripts
    PERL5LIB = /home/cpansand/.cpan/build/2018090920/Parse-RecDescent-1.967015-GozqMw/blib/arch:/home/cpansand/.cpan/build/2018090920/Parse-RecDescent-1.967015-GozqMw/blib/lib:/home/cpansand/.cpan/build/2018090920/Math-MatrixReal-2.13-vQ2HGk/blib/arch:/home/cpansand/.cpan/build/2018090920/Math-MatrixReal-2.13-vQ2HGk/blib/lib:/home/cpansand/.cpan/build/2018090920/Test-Most-0.35-g9KXgy/blib/arch:/home/cpansand/.cpan/build/2018090920/Test-Most-0.35-g9KXgy/blib/lib:/home/cpansand/.cpan/build/2018090920/Test-Exception-0.43-mO5NGa/blib/arch:/home/cpansand/.cpan/build/2018090920/Test-Exception-0.43-mO5NGa/blib/lib
    PERL5OPT = 
    PERL5_CPANPLUS_IS_RUNNING = 39149
    PERL5_CPAN_IS_RUNNING = 39149
    PERL5_CPAN_IS_RUNNING_IN_RECURSION = 38679,39149
    PERLDOC = -MPod::Perldoc::ToTextOverstrike
    PERL_BATCH = yes
    PERL_CANARY_STABILITY_NOPROMPT = 1
    PERL_CPAN_REPORTER_CONFIG = /var/tmp/cpansmoker-1023/2018090920/cpanreporter_000_config.ini
    PERL_EXTUTILS_AUTOINSTALL = --defaultdeps
    SHELL = /usr/local/bin/zsh
    TERM = screen
    TMPDIR = /var/tmp/cpansmoker-1023/2018090920

Perl special variables (and OS-specific diagnostics, for MSWin32):

    $^X = /usr/perl5.22.4d/bin/perl
    $UID/$EUID = 1023 / 1023
    $GID = 1023 1023
    $EGID = 1023 1023

Perl module toolchain versions installed:

    Module              Have      
    ------------------- ----------
    CPAN                2.11_01   
    CPAN::Meta          2.150001  
    Cwd                 3.56_02   
    ExtUtils::CBuilder  0.280221  
    ExtUtils::Command   1.20_01   
    ExtUtils::Install   2.04      
    ExtUtils::MakeMaker 7.04_02   
    ExtUtils::Manifest  1.70      
    ExtUtils::ParseXS   3.28      
    File::Spec          3.56_02   
    JSON                2.97001   
    JSON::PP            2.27300_01
    Module::Build       0.4224    
    Module::Signature   n/a       
    Parse::CPAN::Meta   1.4414_001
    Test::Harness       3.35_01   
    Test::More          1.302133  
    YAML                1.24      
    YAML::Syck          1.30      
    version             0.9909    


--

Summary of my perl5 (revision 5 version 22 subversion 4) configuration:
   
  Platform:
    osname=freebsd, osvers=11.1-release-p4, archname=amd64-freebsd
    uname='freebsd ali2.bbbike.org 11.1-release-p4 freebsd 11.1-release-p4 #0: tue nov 14 06:12:40 utc 2017 root@amd64-builder.daemonology.net:usrobjusrsrcsysgeneric amd64 '
    config_args='-ds -e -Dprefix=/usr/perl5.22.4d -DDEBUGGING -Dcf_email=srezic@cpan.org -Doptimize=-O2 -pipe'
    hint=recommended, useposix=true, d_sigaction=define
    useithreads=undef, usemultiplicity=undef
    use64bitint=define, use64bitall=define, uselongdouble=undef
    usemymalloc=n, bincompat5005=undef
  Compiler:
    cc='cc', ccflags ='-DHAS_FPSETMASK -DHAS_FLOATINGPOINT_H -DDEBUGGING -fno-strict-aliasing -pipe -fstack-protector-strong -I/usr/local/include -D_FORTIFY_SOURCE=2',
    optimize='-O2 -pipe -g',
    cppflags='-DHAS_FPSETMASK -DHAS_FLOATINGPOINT_H -DDEBUGGING -fno-strict-aliasing -pipe -fstack-protector-strong -I/usr/local/include'
    ccversion='', gccversion='4.2.1 Compatible FreeBSD Clang 4.0.0 (tags/RELEASE_400/final 297347)', gccosandvers=''
    intsize=4, longsize=8, ptrsize=8, doublesize=8, byteorder=12345678, doublekind=3
    d_longlong=define, longlongsize=8, d_longdbl=define, longdblsize=16, longdblkind=3
    ivtype='long', ivsize=8, nvtype='double', nvsize=8, Off_t='off_t', lseeksize=8
    alignbytes=8, prototype=define
  Linker and Libraries:
    ld='cc', ldflags ='-Wl,-E  -fstack-protector-strong -L/usr/local/lib'
    libpth=/usr/lib /usr/local/lib /usr/bin/../lib/clang/4.0.0/lib /usr/lib
    libs=-lpthread -lgdbm -lm -lcrypt -lutil -lc
    perllibs=-lpthread -lm -lcrypt -lutil -lc
    libc=, so=so, useshrplib=false, libperl=libperl.a
    gnulibc_version=''
  Dynamic Linking:
    dlsrc=dl_dlopen.xs, dlext=so, d_dlsymun=undef, ccdlflags=' '
    cccdlflags='-DPIC -fPIC', lddlflags='-shared  -L/usr/local/lib -fstack-protector-strong'


Characteristics of this binary (from libperl): 
  Compile-time options: DEBUGGING HAS_TIMES PERLIO_LAYERS
                        PERL_DONT_CREATE_GVSV
                        PERL_HASH_FUNC_ONE_AT_A_TIME_HARD PERL_MALLOC_WRAP
                        PERL_NEW_COPY_ON_WRITE PERL_PRESERVE_IVUV
                        USE_64_BIT_ALL USE_64_BIT_INT USE_LARGE_FILES
                        USE_LOCALE USE_LOCALE_COLLATE USE_LOCALE_CTYPE
                        USE_LOCALE_NUMERIC USE_LOCALE_TIME USE_PERLIO
                        USE_PERL_ATOF
  Built under freebsd
  Compiled at Jan 31 2018 14:57:51
  %ENV:
    PERL5LIB="/home/cpansand/.cpan/build/2018090920/Parse-RecDescent-1.967015-GozqMw/blib/arch:/home/cpansand/.cpan/build/2018090920/Parse-RecDescent-1.967015-GozqMw/blib/lib:/home/cpansand/.cpan/build/2018090920/Math-MatrixReal-2.13-vQ2HGk/blib/arch:/home/cpansand/.cpan/build/2018090920/Math-MatrixReal-2.13-vQ2HGk/blib/lib:/home/cpansand/.cpan/build/2018090920/Test-Most-0.35-g9KXgy/blib/arch:/home/cpansand/.cpan/build/2018090920/Test-Most-0.35-g9KXgy/blib/lib:/home/cpansand/.cpan/build/2018090920/Test-Exception-0.43-mO5NGa/blib/arch:/home/cpansand/.cpan/build/2018090920/Test-Exception-0.43-mO5NGa/blib/lib"
    PERL5OPT=""
    PERL5_CPANPLUS_IS_RUNNING="39149"
    PERL5_CPAN_IS_RUNNING="39149"
    PERL5_CPAN_IS_RUNNING_IN_RECURSION="38679,39149"
    PERLDOC="-MPod::Perldoc::ToTextOverstrike"
    PERL_BATCH="yes"
    PERL_CANARY_STABILITY_NOPROMPT="1"
    PERL_CPAN_REPORTER_CONFIG="/var/tmp/cpansmoker-1023/2018090920/cpanreporter_000_config.ini"
    PERL_EXTUTILS_AUTOINSTALL="--defaultdeps"
  @INC:
    /home/cpansand/.cpan/build/2018090920/Parse-RecDescent-1.967015-GozqMw/blib/arch
    /home/cpansand/.cpan/build/2018090920/Parse-RecDescent-1.967015-GozqMw/blib/lib
    /home/cpansand/.cpan/build/2018090920/Math-MatrixReal-2.13-vQ2HGk/blib/arch
    /home/cpansand/.cpan/build/2018090920/Math-MatrixReal-2.13-vQ2HGk/blib/lib
    /home/cpansand/.cpan/build/2018090920/Test-Most-0.35-g9KXgy/blib/arch
    /home/cpansand/.cpan/build/2018090920/Test-Most-0.35-g9KXgy/blib/lib
    /home/cpansand/.cpan/build/2018090920/Test-Exception-0.43-mO5NGa/blib/arch
    /home/cpansand/.cpan/build/2018090920/Test-Exception-0.43-mO5NGa/blib/lib
    /usr/perl5.22.4d/lib/site_perl/5.22.4/amd64-freebsd
    /usr/perl5.22.4d/lib/site_perl/5.22.4
    /usr/perl5.22.4d/lib/5.22.4/amd64-freebsd
    /usr/perl5.22.4d/lib/5.22.4
    .