Moo v2.005005 Perl 5 v5.37.7 x86_64-linux
- Status
- Pass
- From
- Slaven Rezić
- Dist
-
Moo v2.005005
- Platform
- Perl 5 v5.37.7 x86_64-linux
- Date
- 2023-01-07 11:40:10
- ID
- 0ae2b88e-8e80-11ed-bccb-eefd6d8775ea
This distribution has been tested as part of the CPAN Testers
project, supporting the Perl programming language. See
http://wiki.cpantesters.org/ for more information or email
questions to cpan-testers-discuss@perl.org
--
Dear Graham Knop,
This is a computer-generated report for Moo-2.005005
on perl 5.37.7, created by CPAN-Reporter-1.2018.
Thank you for uploading your work to CPAN. Congratulations!
All tests were successful.
Sections of this report:
* Tester comments
* Program output
* Prerequisites
* Environment and other context
------------------------------
TESTER COMMENTS
------------------------------
Additional comments from tester:
none provided
------------------------------
PROGRAM OUTPUT
------------------------------
Output from '/usr/bin/make test':
PERL_DL_NONLAZY=1 "/opt/perl-5.37.7/bin/perl5.37.7" -It/lib "-MTestEnv=" "-MExtUtils::Command::MM" "-MTest::Harness" "-e" "undef *Test::Harness::Switches; test_harness(0, 'blib/lib', 'blib/arch')" t/*.t
t/accessor-coerce.t ................ ok
t/accessor-default.t ............... ok
t/accessor-generator-extension.t ... ok
t/accessor-handles.t ............... ok
t/accessor-isa.t ................... ok
t/accessor-mixed.t ................. ok
t/accessor-pred-clear.t ............ ok
t/accessor-reader-writer.t ......... ok
t/accessor-roles.t ................. ok
t/accessor-shortcuts.t ............. ok
t/accessor-trigger.t ............... ok
t/accessor-weaken-pre-5_8_3.t ...... ok
t/accessor-weaken.t ................ ok
t/buildall-subconstructor.t ........ ok
t/buildall.t ....................... ok
t/buildargs-error.t ................ ok
t/buildargs.t ...................... ok
t/coerce-1.t ....................... ok
t/compose-conflicts.t .............. ok
t/compose-non-role.t ............... ok
t/compose-roles.t .................. ok
t/constructor-modify.t ............. ok
t/croak-locations.t ................ ok
t/demolish-basics.t ................ ok
t/demolish-bugs-eats_exceptions.t .. ok
t/demolish-bugs-eats_mini.t ........ ok
t/demolish-global_destruction.t .... ok
t/demolish-throw.t ................. ok
t/does.t ........................... ok
t/extend-constructor.t ............. ok
t/extends-non-moo.t ................ ok
t/extends-role.t ................... ok
t/foreignbuildargs.t ............... ok
t/global_underscore.t .............. ok
t/has-array.t ...................... ok
t/has-before-extends.t ............. ok
t/has-plus.t ....................... ok
t/init-arg.t ....................... ok
t/isa-interfere.t .................. ok
t/lazy_isa.t ....................... ok
t/load_module.t .................... ok
t/load_module_error.t .............. ok
t/load_module_role_tiny.t .......... ok
t/long-package-name.t .............. ok
t/method-generate-accessor.t ....... ok
t/method-generate-constructor.t .... ok
t/modifiers.t ...................... ok
t/modify_lazy_handlers.t ........... ok
t/moo-accessors.t .................. ok
t/moo-c3.t ......................... ok
t/moo-object.t ..................... ok
t/moo-utils-_name_coderef.t ........ ok
t/moo-utils-_subname-Sub-Name.t .... ok
t/moo-utils-_subname.t ............. ok
t/moo-utils.t ...................... ok
t/moo.t ............................ ok
t/mutual-requires.t ................ ok
t/no-build.t ....................... ok
t/no-moo.t ......................... ok
t/non-moo-extends-c3.t ............. ok
t/non-moo-extends.t ................ ok
t/not-both.t ....................... ok
t/not-methods.t .................... ok
t/overloaded-coderefs.t ............ ok
t/overridden-core-funcs.t .......... ok
t/role-conflicts-moox.t ............ ok
t/sub-and-handles.t ................ ok
t/subconstructor.t ................. ok
t/undef-bug.t ...................... ok
t/use-after-no.t ................... ok
t/zzz-check-breaks.t ............... ok
All tests successful.
Files=71, Tests=841, 3 wallclock secs ( 0.13 usr 0.16 sys + 2.53 cusr 0.60 csys = 3.42 CPU)
Result: PASS
------------------------------
PREREQUISITES
------------------------------
Prerequisite modules loaded:
requires:
Module Need Have
------------------------ -------- --------
Carp 0 1.54
Class::Method::Modifiers 1.10 2.13
Exporter 0 5.77
perl 5.006 5.037007
Role::Tiny 2.002003 2.002004
Scalar::Util 1.00 1.63
Sub::Defer 2.006006 2.006006
Sub::Quote 2.006006 2.006006
build_requires:
Module Need Have
------------------------ -------- --------
Test::More 0.94 1.302191
configure_requires:
Module Need Have
------------------------ -------- --------
ExtUtils::MakeMaker 0 7.64
------------------------------
ENVIRONMENT AND OTHER CONTEXT
------------------------------
Environment variables:
LANG = C
PATH = /usr/local/bin:/usr/bin:/bin:/usr/local/sbin:/usr/sbin:/sbin:/home/cpansand/bin/linux-gnu:/home/cpansand/bin/sh:/home/cpansand/bin:/usr/games:/home/cpansand/devel:/home/eserte/src/srezic-misc/scripts
PERL5LIB = /home/cpansand/.cpan/build/2023010711/Sub-Quote-2.006006-0/blib/arch:/home/cpansand/.cpan/build/2023010711/Sub-Quote-2.006006-0/blib/lib:/home/cpansand/.cpan/build/2023010711/Role-Tiny-2.002004-0/blib/arch:/home/cpansand/.cpan/build/2023010711/Role-Tiny-2.002004-0/blib/lib:/home/cpansand/.cpan/build/2023010711/Class-Method-Modifiers-2.13-0/blib/arch:/home/cpansand/.cpan/build/2023010711/Class-Method-Modifiers-2.13-0/blib/lib
PERL5OPT =
PERL5_CPANPLUS_IS_RUNNING = 22778
PERL5_CPAN_IS_RUNNING = 22778
PERL5_CPAN_IS_RUNNING_IN_RECURSION = 15672,22778
PERLDOC = -MPod::Perldoc::ToTextOverstrike
PERL_BATCH = yes
PERL_CANARY_STABILITY_NOPROMPT = 1
PERL_CPAN_REPORTER_CONFIG = /var/tmp/cpansmoker-1023/2023010710/cpanreporter_000_config.ini
PERL_EXTUTILS_AUTOINSTALL = --defaultdeps
PERL_USE_UNSAFE_INC = 1
SHELL = /usr/bin/zsh
TERM = screen
TMPDIR = /var/tmp/cpansmoker-1023/2023010710
Perl special variables (and OS-specific diagnostics, for MSWin32):
$^X = /opt/perl-5.37.7/bin/perl5.37.7
$UID/$EUID = 1023 / 1023
$GID = 1023 1023
$EGID = 1023 1023
Perl module toolchain versions installed:
Module Have
------------------- --------
CPAN 2.34
CPAN::Meta 2.150010
Cwd 3.88
ExtUtils::CBuilder 0.280238
ExtUtils::Command 7.64
ExtUtils::Install 2.20
ExtUtils::MakeMaker 7.64
ExtUtils::Manifest 1.73
ExtUtils::ParseXS 3.49
File::Spec 3.88
JSON n/a
JSON::PP 4.12
Module::Build 0.4232
Module::Signature n/a
Parse::CPAN::Meta 2.150010
Test::Harness 3.44
Test::More 1.302191
YAML 1.30
YAML::Syck 1.34
version 0.9929
--
Summary of my perl5 (revision 5 version 37 subversion 7) configuration:
Platform:
osname=linux
osvers=5.10.0-20-amd64
archname=x86_64-linux
uname='linux eserte 5.10.0-20-amd64 #1 smp debian 5.10.158-2 (2022-12-13) x86_64 gnulinux '
config_args='-ds -e -Dprefix=/opt/perl-5.37.7 -Dusedevel -Dusemallocwrap=no -Dcf_email=srezic@cpan.org'
hint=recommended
useposix=true
d_sigaction=define
useithreads=undef
usemultiplicity=undef
use64bitint=define
use64bitall=define
uselongdouble=undef
usemymalloc=n
default_inc_excludes_dot=define
Compiler:
cc='cc'
ccflags ='-fwrapv -fno-strict-aliasing -pipe -fstack-protector-strong -I/usr/local/include -D_LARGEFILE_SOURCE -D_FILE_OFFSET_BITS=64 -D_FORTIFY_SOURCE=2'
optimize='-O2'
cppflags='-fwrapv -fno-strict-aliasing -pipe -fstack-protector-strong -I/usr/local/include'
ccversion=''
gccversion='10.2.1 20210110'
gccosandvers=''
intsize=4
longsize=8
ptrsize=8
doublesize=8
byteorder=12345678
doublekind=3
d_longlong=define
longlongsize=8
d_longdbl=define
longdblsize=16
longdblkind=3
ivtype='long'
ivsize=8
nvtype='double'
nvsize=8
Off_t='off_t'
lseeksize=8
alignbytes=8
prototype=define
Linker and Libraries:
ld='cc'
ldflags =' -fstack-protector-strong -L/usr/local/lib'
libpth=/usr/local/lib /usr/lib/x86_64-linux-gnu /usr/lib /lib/x86_64-linux-gnu /lib
libs=-lpthread -lgdbm -ldb -ldl -lm -lcrypt -lutil -lc
perllibs=-lpthread -ldl -lm -lcrypt -lutil -lc
libc=libc-2.31.so
so=so
useshrplib=false
libperl=libperl.a
gnulibc_version='2.31'
Dynamic Linking:
dlsrc=dl_dlopen.xs
dlext=so
d_dlsymun=undef
ccdlflags='-Wl,-E'
cccdlflags='-fPIC'
lddlflags='-shared -O2 -L/usr/local/lib -fstack-protector-strong'
Characteristics of this binary (from libperl):
Compile-time options:
HAS_TIMES
PERLIO_LAYERS
PERL_COPY_ON_WRITE
PERL_DONT_CREATE_GVSV
PERL_HASH_FUNC_SIPHASH13
PERL_HASH_USE_SBOX32
PERL_OP_PARENT
PERL_PRESERVE_IVUV
PERL_USE_DEVEL
PERL_USE_SAFE_PUTENV
USE_64_BIT_ALL
USE_64_BIT_INT
USE_LARGE_FILES
USE_LOCALE
USE_LOCALE_COLLATE
USE_LOCALE_CTYPE
USE_LOCALE_NUMERIC
USE_LOCALE_TIME
USE_PERLIO
USE_PERL_ATOF
Built under linux
Compiled at Jan 1 2023 12:42:33
%ENV:
PERL5LIB="/home/cpansand/.cpan/build/2023010711/Sub-Quote-2.006006-0/blib/arch:/home/cpansand/.cpan/build/2023010711/Sub-Quote-2.006006-0/blib/lib:/home/cpansand/.cpan/build/2023010711/Role-Tiny-2.002004-0/blib/arch:/home/cpansand/.cpan/build/2023010711/Role-Tiny-2.002004-0/blib/lib:/home/cpansand/.cpan/build/2023010711/Class-Method-Modifiers-2.13-0/blib/arch:/home/cpansand/.cpan/build/2023010711/Class-Method-Modifiers-2.13-0/blib/lib"
PERL5OPT=""
PERL5_CPANPLUS_IS_RUNNING="22778"
PERL5_CPAN_IS_RUNNING="22778"
PERL5_CPAN_IS_RUNNING_IN_RECURSION="15672,22778"
PERLDOC="-MPod::Perldoc::ToTextOverstrike"
PERL_BATCH="yes"
PERL_CANARY_STABILITY_NOPROMPT="1"
PERL_CPAN_REPORTER_CONFIG="/var/tmp/cpansmoker-1023/2023010710/cpanreporter_000_config.ini"
PERL_EXTUTILS_AUTOINSTALL="--defaultdeps"
PERL_USE_UNSAFE_INC="1"
@INC:
/home/cpansand/.cpan/build/2023010711/Sub-Quote-2.006006-0/blib/arch
/home/cpansand/.cpan/build/2023010711/Sub-Quote-2.006006-0/blib/lib
/home/cpansand/.cpan/build/2023010711/Role-Tiny-2.002004-0/blib/arch
/home/cpansand/.cpan/build/2023010711/Role-Tiny-2.002004-0/blib/lib
/home/cpansand/.cpan/build/2023010711/Class-Method-Modifiers-2.13-0/blib/arch
/home/cpansand/.cpan/build/2023010711/Class-Method-Modifiers-2.13-0/blib/lib
/opt/perl-5.37.7/lib/site_perl/5.37.7/x86_64-linux
/opt/perl-5.37.7/lib/site_perl/5.37.7
/opt/perl-5.37.7/lib/5.37.7/x86_64-linux
/opt/perl-5.37.7/lib/5.37.7
.