Math-Symbolic v0.612 Perl 5 v5.14.1 evbarm-netbsd-thread-multi
- Status
- Pass
- From
- Nigel Horne
- Dist
-
Math-Symbolic v0.612
- Platform
- Perl 5 v5.14.1 evbarm-netbsd-thread-multi
- Date
- 2018-02-21 02:07:59
- ID
- 0a54d092-16ac-11e8-9117-9bbc12568b50
This distribution has been tested as part of the CPAN Testers
project, supporting the Perl programming language. See
http://wiki.cpantesters.org/ for more information or email
questions to cpan-testers-discuss@perl.org
--
Dear Steffen Mueller,
This is a computer-generated report for Math-Symbolic-0.612
on perl 5.14.1, created by CPAN-Reporter-1.2018.
Thank you for uploading your work to CPAN. Congratulations!
All tests were successful.
Sections of this report:
* Tester comments
* Program output
* Prerequisites
* Environment and other context
------------------------------
TESTER COMMENTS
------------------------------
Additional comments from tester:
this report is from an automated smoke testing program
and was not reviewed by a human for accuracy
------------------------------
PROGRAM OUTPUT
------------------------------
Output from './Build test':
t/01basic.t .............. ok
t/02basic.t .............. ok
t/03exp.t ................ ok
t/04deep_derivatives.t ... ok
t/05unary_minus.t ........ ok
t/06parser.t ............. ok
t/07simple_trig.t ........ ok
t/08parse_hyperbolic.t ... ok
t/09hyperbolic.t ......... ok
t/10hyperbolic.t ......... ok
t/11trigonometric.t ...... ok
t/12overload.t ........... ok
t/13parse_more.t ......... ok
t/14compile.t ............ ok
t/15total_derivatives.t .. ok
t/16tests.t .............. ok
t/17modifications.t ...... ok
t/18vectorcalc.t ......... ok
t/19misccalc.t ........... ok
t/20miscalgebra.t ........ ok
t/21more_derivatives.t ... ok
t/22dumpers.t ............ ok
t/90regression.t ......... ok
All tests successful.
Files=23, Tests=435, 70 wallclock secs ( 0.80 usr 0.71 sys + 53.54 cusr 14.99 csys = 70.04 CPU)
Result: PASS
------------------------------
PREREQUISITES
------------------------------
Prerequisite modules loaded:
requires:
Module Need Have
----------------- ---- --------
Data::Dumper 0 2.130_02
Memoize 1.01 1.02
Parse::RecDescent 0 1.967015
build_requires:
Module Need Have
----------------- ---- --------
Test::More 0 1.302106
configure_requires:
Module Need Have
----------------- ---- --------
Module::Build 0.40 0.4220
------------------------------
ENVIRONMENT AND OTHER CONTEXT
------------------------------
Environment variables:
AUTOMATED_TESTING = 1
PATH = /home/njh/perl5/perlbrew/bin:/home/njh/perl5/perlbrew/perls/perl-5.14.1/bin:src/njh/smoker/bin:/usr/bin:/bin:/usr/pkg/bin:/usr/local/bin
PERL5LIB = /home/njh/.cpan/build/Parse-RecDescent-1.967015-2/blib/arch:/home/njh/.cpan/build/Parse-RecDescent-1.967015-2/blib/lib:/home/njh/.cpan/build/Math-MatrixReal-2.13-2/blib/arch:/home/njh/.cpan/build/Math-MatrixReal-2.13-2/blib/lib:/home/njh/.cpan/build/Term-Chrome-2.01-1/blib/arch:/home/njh/.cpan/build/Term-Chrome-2.01-1/blib/lib:/home/njh/.cpan/build/Test-Is-20140823.1-1/blib/arch:/home/njh/.cpan/build/Test-Is-20140823.1-1/blib/lib:/home/njh/.cpan/build/Module-Build-Tiny-0.039-4/blib/arch:/home/njh/.cpan/build/Module-Build-Tiny-0.039-4/blib/lib:/home/njh/.cpan/build/ExtUtils-InstallPaths-0.011-4/blib/arch:/home/njh/.cpan/build/ExtUtils-InstallPaths-0.011-4/blib/lib:/home/njh/.cpan/build/ExtUtils-Helpers-0.026-4/blib/arch:/home/njh/.cpan/build/ExtUtils-Helpers-0.026-4/blib/lib:/home/njh/.cpan/build/ExtUtils-Config-0.008-4/blib/arch:/home/njh/.cpan/build/ExtUtils-Config-0.008-4/blib/lib
PERL5OPT =
PERL5_CPANPLUS_IS_RUNNING = 20701
PERL5_CPAN_IS_RUNNING = 20701
PERLBREW_BASHRC_VERSION = 0.80
PERLBREW_HOME = /home/njh/.perlbrew
PERLBREW_MANPATH = /home/njh/perl5/perlbrew/perls/perl-5.14.1/man
PERLBREW_PATH = /home/njh/perl5/perlbrew/bin:/home/njh/perl5/perlbrew/perls/perl-5.14.1/bin
PERLBREW_PERL = perl-5.14.1
PERLBREW_ROOT = /home/njh/perl5/perlbrew
PERLBREW_VERSION = 0.80
SHELL = /bin/sh
Perl special variables (and OS-specific diagnostics, for MSWin32):
$^X = /home/njh/perl5/perlbrew/perls/perl-5.14.1/bin/perl
$UID/$EUID = 1000 / 1000
$GID = 1000 1000 0
$EGID = 1000 1000 0
Perl module toolchain versions installed:
Module Have
------------------- --------
CPAN 2.16
CPAN::Meta 2.143240
Cwd 3.36
ExtUtils::CBuilder 0.280224
ExtUtils::Command 7.24
ExtUtils::Install 1.56
ExtUtils::MakeMaker 7.24
ExtUtils::Manifest 1.70
ExtUtils::ParseXS 2.2210
File::Spec 3.33
JSON n/a
JSON::PP 2.27203
Module::Build 0.4220
Module::Signature n/a
Parse::CPAN::Meta 1.4414
Test::Harness 3.36
Test::More 1.302106
YAML 1.24
YAML::Syck 1.30
version 0.88
--
Summary of my perl5 (revision 5 version 14 subversion 1) configuration:
Platform:
osname=netbsd, osvers=7.0.2_patch, archname=evbarm-netbsd-thread-multi
uname='netbsd pi2c.bandsman.co.uk 7.0.2_patch netbsd 7.0.2_patch (rpi2.201612281350z) evbarm '
config_args='-de -Dprefix=/home/njh/perl5/perlbrew/perls/perl-5.14.1 -Duseithreads -Dusemultiplicity -Dusedevel -Accflags=-O2 -W -Wformat=2 -Wswitch -Wshadow -Wwrite-strings -Wuninitialized -Wall -pipe -fomit-frame-pointer -D_FORTIFY_SOURCE=2 -Wpointer-arith -Wstrict-prototypes -fstack-protector -Wstack-protector -Wextra -Wbad-function-cast -Wcast-align -Wcast-qual -Wdisabled-optimization -Wendif-labels -Wfloat-equal -Wformat-nonliteral -Winline -Wmissing-declarations -Wmissing-prototypes -Wnested-externs -Wpointer-arith -Wundef -Wformat-security -mtune=cortex-a7 -mfpu=vfp -mfloat-abi=hard -Aeval:scriptdir=/home/njh/perl5/perlbrew/perls/perl-5.14.1/bin'
hint=recommended, useposix=true, d_sigaction=define
useithreads=define, usemultiplicity=define
useperlio=define, d_sfio=undef, uselargefiles=define, usesocks=undef
use64bitint=undef, use64bitall=undef, uselongdouble=undef
usemymalloc=n, bincompat5005=undef
Compiler:
cc='cc', ccflags ='-O2 -W -Wformat=2 -Wswitch -Wshadow -Wwrite-strings -Wuninitialized -Wall -pipe -fomit-frame-pointer -D_FORTIFY_SOURCE=2 -Wpointer-arith -Wstrict-prototypes -fstack-protector -Wstack-protector -Wextra -Wbad-function-cast -Wcast-align -Wcast-qual -Wdisabled-optimization -Wendif-labels -Wfloat-equal -Wformat-nonliteral -Winline -Wmissing-declarations -Wmissing-prototypes -Wnested-externs -Wpointer-arith -Wundef -Wformat-security -mtune=cortex-a7 -mfpu=vfp -mfloat-abi=hard -fno-strict-aliasing -I/usr/pkg/include',
optimize='-O',
cppflags='-O2 -W -Wformat=2 -Wswitch -Wshadow -Wwrite-strings -Wuninitialized -Wall -pipe -fomit-frame-pointer -D_FORTIFY_SOURCE=2 -Wpointer-arith -Wstrict-prototypes -fstack-protector -Wstack-protector -Wextra -Wbad-function-cast -Wcast-align -Wcast-qual -Wdisabled-optimization -Wendif-labels -Wfloat-equal -Wformat-nonliteral -Winline -Wmissing-declarations -Wmissing-prototypes -Wnested-externs -Wpointer-arith -Wundef -Wformat-security -mtune=cortex-a7 -mfpu=vfp -mfloat-abi=hard -fno-strict-aliasing -I/usr/pkg/include'
ccversion='', gccversion='4.8.4', gccosandvers=''
intsize=4, longsize=4, ptrsize=4, doublesize=8, byteorder=1234
d_longlong=define, longlongsize=8, d_longdbl=define, longdblsize=8
ivtype='long', ivsize=4, nvtype='double', nvsize=8, Off_t='off_t', lseeksize=8
alignbytes=8, prototype=define
Linker and Libraries:
ld='cc', ldflags =' -Wl,-rpath,/usr/pkg/lib -Wl,-rpath,/usr/local/lib -fstack-protector -L/usr/pkg/lib'
libpth=/usr/pkg/lib /lib /usr/lib
libs=-lm -lcrypt -lutil -lc -lposix -lpthread
perllibs=-lm -lcrypt -lutil -lc -lposix -lpthread
libc=/lib/libc.so, so=so, useshrplib=false, libperl=libperl.a
gnulibc_version=''
Dynamic Linking:
dlsrc=dl_dlopen.xs, dlext=so, d_dlsymun=undef, ccdlflags='-Wl,-E '
cccdlflags='-DPIC -fPIC ', lddlflags='-shared -L/usr/pkg/lib -fstack-protector'
Characteristics of this binary (from libperl):
Compile-time options: MULTIPLICITY PERL_DONT_CREATE_GVSV
PERL_IMPLICIT_CONTEXT PERL_MALLOC_WRAP
PERL_PRESERVE_IVUV PERL_USE_DEVEL USE_ITHREADS
USE_LARGE_FILES USE_PERLIO USE_PERL_ATOF
USE_REENTRANT_API
Locally applied patches:
Devel::PatchPerl 1.38
Built under netbsd
Compiled at Dec 30 2016 03:51:56
%ENV:
PERL5LIB="/home/njh/.cpan/build/Parse-RecDescent-1.967015-2/blib/arch:/home/njh/.cpan/build/Parse-RecDescent-1.967015-2/blib/lib:/home/njh/.cpan/build/Math-MatrixReal-2.13-2/blib/arch:/home/njh/.cpan/build/Math-MatrixReal-2.13-2/blib/lib:/home/njh/.cpan/build/Term-Chrome-2.01-1/blib/arch:/home/njh/.cpan/build/Term-Chrome-2.01-1/blib/lib:/home/njh/.cpan/build/Test-Is-20140823.1-1/blib/arch:/home/njh/.cpan/build/Test-Is-20140823.1-1/blib/lib:/home/njh/.cpan/build/Module-Build-Tiny-0.039-4/blib/arch:/home/njh/.cpan/build/Module-Build-Tiny-0.039-4/blib/lib:/home/njh/.cpan/build/ExtUtils-InstallPaths-0.011-4/blib/arch:/home/njh/.cpan/build/ExtUtils-InstallPaths-0.011-4/blib/lib:/home/njh/.cpan/build/ExtUtils-Helpers-0.026-4/blib/arch:/home/njh/.cpan/build/ExtUtils-Helpers-0.026-4/blib/lib:/home/njh/.cpan/build/ExtUtils-Config-0.008-4/blib/arch:/home/njh/.cpan/build/ExtUtils-Config-0.008-4/blib/lib"
PERL5OPT=""
PERL5_CPANPLUS_IS_RUNNING="20701"
PERL5_CPAN_IS_RUNNING="20701"
PERLBREW_BASHRC_VERSION="0.80"
PERLBREW_HOME="/home/njh/.perlbrew"
PERLBREW_MANPATH="/home/njh/perl5/perlbrew/perls/perl-5.14.1/man"
PERLBREW_PATH="/home/njh/perl5/perlbrew/bin:/home/njh/perl5/perlbrew/perls/perl-5.14.1/bin"
PERLBREW_PERL="perl-5.14.1"
PERLBREW_ROOT="/home/njh/perl5/perlbrew"
PERLBREW_VERSION="0.80"
@INC:
/home/njh/.cpan/build/Parse-RecDescent-1.967015-2/blib/arch
/home/njh/.cpan/build/Parse-RecDescent-1.967015-2/blib/lib
/home/njh/.cpan/build/Math-MatrixReal-2.13-2/blib/arch
/home/njh/.cpan/build/Math-MatrixReal-2.13-2/blib/lib
/home/njh/.cpan/build/Term-Chrome-2.01-1/blib/arch
/home/njh/.cpan/build/Term-Chrome-2.01-1/blib/lib
/home/njh/.cpan/build/Test-Is-20140823.1-1/blib/arch
/home/njh/.cpan/build/Test-Is-20140823.1-1/blib/lib
/home/njh/.cpan/build/Module-Build-Tiny-0.039-4/blib/arch
/home/njh/.cpan/build/Module-Build-Tiny-0.039-4/blib/lib
/home/njh/.cpan/build/ExtUtils-InstallPaths-0.011-4/blib/arch
/home/njh/.cpan/build/ExtUtils-InstallPaths-0.011-4/blib/lib
/home/njh/.cpan/build/ExtUtils-Helpers-0.026-4/blib/arch
/home/njh/.cpan/build/ExtUtils-Helpers-0.026-4/blib/lib
/home/njh/.cpan/build/ExtUtils-Config-0.008-4/blib/arch
/home/njh/.cpan/build/ExtUtils-Config-0.008-4/blib/lib
/home/njh/perl5/perlbrew/perls/perl-5.14.1/lib/site_perl/5.14.1/evbarm-netbsd-thread-multi
/home/njh/perl5/perlbrew/perls/perl-5.14.1/lib/site_perl/5.14.1
/home/njh/perl5/perlbrew/perls/perl-5.14.1/lib/5.14.1/evbarm-netbsd-thread-multi
/home/njh/perl5/perlbrew/perls/perl-5.14.1/lib/5.14.1
.