Task-BeLike-GEEKRUTH v1.0301 Perl 5 v5.41.4 x86_64-linux-ld

Status
Pass
From
Andreas J. König (ANDK)
Dist
Task-BeLike-GEEKRUTH v1.0301
Platform
Perl 5 v5.41.4 x86_64-linux-ld
Date
2024-10-15 12:43:12
ID
0a0adc4a-8af3-11ef-b6ce-c211c99a09d1
This distribution has been tested as part of the CPAN Testers
project, supporting the Perl programming language.  See
http://wiki.cpantesters.org/ for more information or email
questions to cpan-testers-discuss@perl.org


--
Dear D Ruth Holloway,

This is a computer-generated report for Task-BeLike-GEEKRUTH-1.0301
on perl 5.41.4, created by CPAN-Reporter-1.2020.

Thank you for uploading your work to CPAN.  Congratulations!
All tests were successful.

Sections of this report:

    * Tester comments
    * Program output
    * Prerequisites
    * Environment and other context

------------------------------
TESTER COMMENTS
------------------------------

Additional comments from tester:

this report is from an automated smoke testing program
and was not reviewed by a human for accuracy

------------------------------
PROGRAM OUTPUT
------------------------------

Output from '/usr/bin/make test':

PERL_DL_NONLAZY=1 "/tmp/basesmoker-reloperl-UwPb/bin/perl" "-MExtUtils::Command::MM" "-MTest::Harness" "-e" "undef *Test::Harness::Switches; test_harness(0, 'blib/lib', 'blib/arch')" t/*.t
t/00-compile.t ......... ok
t/00-placeholder.t ..... ok
# 
# Versions for all modules listed in MYMETA.json (including optional ones):
# 
# === Configure Requires ===
# 
#     Module              Want Have
#     ------------------- ---- ----
#     ExtUtils::MakeMaker  any 7.70
# 
# === Build Requires ===
# 
#     Module              Want Have
#     ------------------- ---- ----
#     ExtUtils::MakeMaker  any 7.70
# 
# === Test Requires ===
# 
#     Module              Want     Have
#     ------------------- ---- --------
#     ExtUtils::MakeMaker  any     7.70
#     File::Spec           any     3.93
#     IO::Handle           any     1.55
#     IPC::Open3           any     1.22
#     Test2::V0            any 1.302204
#     Test::More           any 1.302204
#     strict               any     1.13
#     warnings             any     1.70
# 
# === Test Recommends ===
# 
#     Module         Want     Have
#     ---------- -------- --------
#     CPAN::Meta 2.120900 2.150010
# 
# === Runtime Requires ===
# 
#     Module                                                 Want       Have
#     ------------------------------------------------------ ---- ----------
#     App::cpanminus                                          any     1.7047
#     App::perlbrew                                           any       1.00
#     Carp                                                    any       1.54
#     Code::TidyAll                                           any       0.84
#     Code::TidyAll::Plugin::Test::Vars                       any       0.04
#     Cpanel::JSON::XS                                        any       4.38
#     DBD::Pg                                                 any     3.18.0
#     DBIx::Class                                             any    missing
#     DBIx::Class::Helpers                                    any    missing
#     DBIx::Class::Schema::Loader                             any    missing
#     DBIx::Class::Schema::ResultSetNames                     any    missing
#     DBIx::Class::TemporalRelations                          any    missing
#     Dancer2                                                 any      1.1.1
#     Dancer2::Plugin::Ajax                                   any   0.400000
#     Dancer2::Plugin::Auth::Extensible                       any      0.711
#     Dancer2::Plugin::Auth::Extensible::Provider::DBIxClass  any    missing
#     Dancer2::Plugin::Cache::CHI                             any      2.0.1
#     Dancer2::Plugin::DBIx::Class                            any    missing
#     Dancer2::Plugin::Growler                                any       0.03
#     Dancer2::Plugin::Minify                                 any      0.002
#     Dancer2::Plugin::REST                                   any       1.02
#     Dancer2::Session::DBIC                                  any    missing
#     Dancer2::Template::Handlebars                           any       1.00
#     Devel::Local                                            any       0.22
#     Dist::Zilla                                             any      6.032
#     Dist::Zilla::App::Command::cover                        any    missing
#     Dist::Zilla::App::Command::critic                       any   0.001011
#     Dist::Zilla::App::Command::dumpphases                   any   1.000009
#     Dist::Zilla::App::Command::lsplugins                    any   0.003001
#     Dist::Zilla::Plugin::Git::PushInitial                   any       0.02
#     Dist::Zilla::Plugin::INI::Baked                         any   0.002002
#     Dist::Zilla::Plugin::MetaData::BuiltWith                any   1.004005
#     Dist::Zilla::Plugin::TaskWeaver                         any   0.101629
#     Dist::Zilla::PluginBundle::GEEKRUTH                     any    missing
#     Dist::Zilla::PluginBundle::GitLab                       any     1.0002
#     File::Path                                              any       2.18
#     Modern::Perl                                            any 1.20241001
#     Moo                                                     any   2.005005
#     OrePAN2                                                 any       0.52
#     Perl::Critic                                            any      1.152
#     Perl::Critic::Bangs                                     any       1.12
#     Perl::Critic::Community                                 any     v1.0.3
#     Perl::Critic::StricterSubs                              any       0.07
#     Perl::Critic::TooMuchCode                               any       0.19
#     Perl::Tidy                                              any   20240903
#     Plack::Handler::Starman                                 any      undef
#     Pod::Coverage::TrustPod                                 any   0.100006
#     Template::Plugin::JSON::Escape                          any       0.02
#     Try::Tiny                                               any       0.32
#     YAML::Tiny                                              any       1.74
#     autodie                                                 any       2.37
# 
# 
# *** WARNING WARNING WARNING WARNING WARNING WARNING WARNING WARNING ***
# 
# The following REQUIRED prerequisites were not satisfied:
# 
# DBIx::Class is not installed (any version required)
# DBIx::Class::Helpers is not installed (any version required)
# DBIx::Class::Schema::Loader is not installed (any version required)
# DBIx::Class::Schema::ResultSetNames is not installed (any version required)
# DBIx::Class::TemporalRelations is not installed (any version required)
# Dancer2::Plugin::Auth::Extensible::Provider::DBIxClass is not installed (any version required)
# Dancer2::Plugin::DBIx::Class is not installed (any version required)
# Dancer2::Session::DBIC is not installed (any version required)
# Dist::Zilla::App::Command::cover is not installed (any version required)
# Dist::Zilla::PluginBundle::GEEKRUTH is not installed (any version required)
# 
t/00-report-prereqs.t .. ok
t/placeholder.t ........ ok
All tests successful.
Files=4, Tests=4,  1 wallclock secs ( 0.03 usr  0.01 sys +  0.59 cusr  0.09 csys =  0.72 CPU)
Result: PASS

------------------------------
PREREQUISITES
------------------------------

Prerequisite modules loaded:

requires:

    Module                                                 Need  Have      
    ------------------------------------------------------ ----- ----------
    App::cpanminus                                         0     1.7047    
    App::perlbrew                                          0     1.00      
    autodie                                                0     2.37      
    Carp                                                   0     1.54      
    Code::TidyAll                                          0     0.84      
    Code::TidyAll::Plugin::Test::Vars                      0     0.04      
    Cpanel::JSON::XS                                       0     4.38      
    Dancer2                                                0     1.1.1     
    Dancer2::Plugin::Ajax                                  0     0.400000  
    Dancer2::Plugin::Auth::Extensible                      0     0.711     
  ! Dancer2::Plugin::Auth::Extensible::Provider::DBIxClass 0     n/a       
    Dancer2::Plugin::Cache::CHI                            0     2.0.1     
  ! Dancer2::Plugin::DBIx::Class                           0     n/a       
    Dancer2::Plugin::Growler                               0     0.03      
    Dancer2::Plugin::Minify                                0     0.002     
    Dancer2::Plugin::REST                                  0     1.02      
  ! Dancer2::Session::DBIC                                 0     n/a       
    Dancer2::Template::Handlebars                          0     1.00      
    DBD::Pg                                                0     3.18.0    
  ! DBIx::Class                                            0     n/a       
  ! DBIx::Class::Helpers                                   0     n/a       
  ! DBIx::Class::Schema::Loader                            0     n/a       
  ! DBIx::Class::Schema::ResultSetNames                    0     n/a       
  ! DBIx::Class::TemporalRelations                         0     n/a       
    Devel::Local                                           0     0.22      
    Dist::Zilla                                            0     6.032     
  ! Dist::Zilla::App::Command::cover                       0     n/a       
    Dist::Zilla::App::Command::critic                      0     0.001011  
    Dist::Zilla::App::Command::dumpphases                  0     1.000009  
    Dist::Zilla::App::Command::lsplugins                   0     0.003001  
    Dist::Zilla::Plugin::Git::PushInitial                  0     0.02      
    Dist::Zilla::Plugin::INI::Baked                        0     0.002002  
    Dist::Zilla::Plugin::MetaData::BuiltWith               0     1.004005  
    Dist::Zilla::Plugin::TaskWeaver                        0     0.101629  
  ! Dist::Zilla::PluginBundle::GEEKRUTH                    0     n/a       
    Dist::Zilla::PluginBundle::GitLab                      0     1.0002    
    File::Path                                             0     2.18      
    Modern::Perl                                           0     1.20241001
    Moo                                                    0     2.005005  
    OrePAN2                                                0     0.52      
    perl                                                   5.006 5.041004  
    Perl::Critic                                           0     1.152     
    Perl::Critic::Bangs                                    0     1.12      
    Perl::Critic::Community                                0     v1.0.3    
    Perl::Critic::StricterSubs                             0     0.07      
    Perl::Critic::TooMuchCode                              0     0.19      
    Perl::Tidy                                             0     20240903  
    Plack::Handler::Starman                                0     0         
    Pod::Coverage::TrustPod                                0     0.100006  
    Template::Plugin::JSON::Escape                         0     0.02      
    Try::Tiny                                              0     0.32      
    YAML::Tiny                                             0     1.74      

build_requires:

    Module                                                 Need  Have      
    ------------------------------------------------------ ----- ----------
    ExtUtils::MakeMaker                                    0     7.70      
    File::Spec                                             0     3.93      
    IO::Handle                                             0     1.55      
    IPC::Open3                                             0     1.22      
    strict                                                 0     1.13      
    Test2::V0                                              0     1.302204  
    Test::More                                             0     1.302204  
    warnings                                               0     1.70      

configure_requires:

    Module                                                 Need  Have      
    ------------------------------------------------------ ----- ----------
    ExtUtils::MakeMaker                                    0     7.70      
    perl                                                   5.006 5.041004  


------------------------------
ENVIRONMENT AND OTHER CONTEXT
------------------------------

Environment variables:

    AUTOMATED_TESTING = 1
    LANG = en_US.UTF-8
    PATH = /home/sand/bin:/usr/local/bin:/usr/local/sbin:/usr/sbin:/usr/bin:/sbin:/bin:/usr/games:/usr/local/games:/snap/bin:/usr/local/perl/bin:/usr/X11/bin
    PERL = /tmp/basesmoker-reloperl-UwPb/bin/perl
    PERL5LIB = /tmp/loop_over_bdir-402745-huWXde/App-nrun-v1.1.2-0/blib/arch:/tmp/loop_over_bdir-402745-huWXde/App-nrun-v1.1.2-0/blib/lib:/tmp/loop_over_bdir-402745-huWXde/ProjectBuilder-0.14.1-0/blib/arch:/tmp/loop_over_bdir-402745-huWXde/ProjectBuilder-0.14.1-0/blib/lib:/tmp/loop_over_bdir-402745-huWXde/MP3-PodcastFetch-1.05-0/blib/arch:/tmp/loop_over_bdir-402745-huWXde/MP3-PodcastFetch-1.05-0/blib/lib
    PERL5OPT = 
    PERL5_CPANPLUS_IS_RUNNING = 402753
    PERL5_CPAN_IS_RUNNING = 402753
    PERL_CANARY_STABILITY_NOPROMPT = 1
    PERL_MM_USE_DEFAULT = 1
    PERL_USE_UNSAFE_INC = 1
    SHELL = /usr/bin/zsh
    TERM = screen

Perl special variables (and OS-specific diagnostics, for MSWin32):

    $^X = /tmp/basesmoker-reloperl-UwPb/bin/perl
    $UID/$EUID = 1005 / 1005
    $GID = 1005 1005
    $EGID = 1005 1005

Perl module toolchain versions installed:

    Module              Have    
    ------------------- --------
    CPAN                2.37    
    CPAN::Meta          2.150010
    Cwd                 3.92    
    ExtUtils::CBuilder  0.280240
    ExtUtils::Command   7.70    
    ExtUtils::Install   2.22    
    ExtUtils::MakeMaker 7.70    
    ExtUtils::Manifest  1.75    
    ExtUtils::ParseXS   3.54    
    File::Spec          3.93    
    JSON                4.10    
    JSON::PP            4.16    
    Module::Build       0.4234  
    Module::Signature   0.89    
    Parse::CPAN::Meta   2.150010
    Test2               1.302204
    Test::Harness       3.50    
    Test::More          1.302204
    YAML                1.31    
    YAML::Syck          1.34    
    version             0.9933  


--

Summary of my perl5 (revision 5 version 41 subversion 4) configuration:
  Commit id: 87deea969a7552a96b077acb5708d74c65099c51
  Platform:
    osname=linux
    osvers=5.4.0-193-generic
    archname=x86_64-linux-ld
    uname='linux k93focal 5.4.0-193-generic #213-ubuntu smp fri aug 2 19:14:16 utc 2024 x86_64 x86_64 x86_64 gnulinux '
    config_args='-Dprefix=/home/sand/src/perl/repoperls/installed-perls/host/k93focal/v5.41.4/d3e4 -Dmyhostname=k93focal -Dinstallusrbinperl=n -Uversiononly -Dusedevel -des -Ui_db -Dlibswanted=cl pthread socket inet nsl gdbm dbm malloc dl ld sun m crypt sec util c cposix posix ucb BSD gdbm_compat -Uuseithreads -Duselongdouble -DEBUGGING=both'
    hint=recommended
    useposix=true
    d_sigaction=define
    useithreads=undef
    usemultiplicity=undef
    use64bitint=define
    use64bitall=define
    uselongdouble=define
    usemymalloc=n
    default_inc_excludes_dot=define
  Compiler:
    cc='cc'
    ccflags ='-fwrapv -DDEBUGGING -fno-strict-aliasing -pipe -fstack-protector-strong -I/usr/local/include -D_LARGEFILE_SOURCE -D_FILE_OFFSET_BITS=64'
    optimize='-O2 -g'
    cppflags='-fwrapv -DDEBUGGING -fno-strict-aliasing -pipe -fstack-protector-strong -I/usr/local/include'
    ccversion=''
    gccversion='9.4.0'
    gccosandvers=''
    intsize=4
    longsize=8
    ptrsize=8
    doublesize=8
    byteorder=12345678
    doublekind=3
    d_longlong=define
    longlongsize=8
    d_longdbl=define
    longdblsize=16
    longdblkind=3
    ivtype='long'
    ivsize=8
    nvtype='long double'
    nvsize=16
    Off_t='off_t'
    lseeksize=8
    alignbytes=16
    prototype=define
  Linker and Libraries:
    ld='cc'
    ldflags =' -fstack-protector-strong -L/usr/local/lib'
    libpth=/usr/local/lib /usr/lib/x86_64-linux-gnu /usr/lib /usr/lib64
    libs=-lpthread -lnsl -ldl -lm -lcrypt -lutil -lc
    perllibs=-lpthread -lnsl -ldl -lm -lcrypt -lutil -lc
    libc=libc-2.31.so
    so=so
    useshrplib=false
    libperl=libperl.a
    gnulibc_version='2.31'
  Dynamic Linking:
    dlsrc=dl_dlopen.xs
    dlext=so
    d_dlsymun=undef
    ccdlflags='-Wl,-E'
    cccdlflags='-fPIC'
    lddlflags='-shared -O2 -g -L/usr/local/lib -fstack-protector-strong'


Characteristics of this binary (from libperl): 
  Compile-time options:
    DEBUGGING
    HAS_LONG_DOUBLE
    HAS_STRTOLD
    HAS_TIMES
    PERLIO_LAYERS
    PERL_COPY_ON_WRITE
    PERL_DONT_CREATE_GVSV
    PERL_HASH_FUNC_SIPHASH13
    PERL_HASH_USE_SBOX32
    PERL_MALLOC_WRAP
    PERL_OP_PARENT
    PERL_PRESERVE_IVUV
    PERL_USE_DEVEL
    PERL_USE_SAFE_PUTENV
    USE_64_BIT_ALL
    USE_64_BIT_INT
    USE_LARGE_FILES
    USE_LOCALE
    USE_LOCALE_COLLATE
    USE_LOCALE_CTYPE
    USE_LOCALE_NUMERIC
    USE_LOCALE_TIME
    USE_LONG_DOUBLE
    USE_PERLIO
    USE_PERL_ATOF
  Built under linux
  Compiled at Sep 21 2024 21:33:52
  %ENV:
    PERL="/tmp/basesmoker-reloperl-UwPb/bin/perl"
    PERL5LIB="/tmp/loop_over_bdir-402745-huWXde/App-nrun-v1.1.2-0/blib/arch:/tmp/loop_over_bdir-402745-huWXde/App-nrun-v1.1.2-0/blib/lib:/tmp/loop_over_bdir-402745-huWXde/ProjectBuilder-0.14.1-0/blib/arch:/tmp/loop_over_bdir-402745-huWXde/ProjectBuilder-0.14.1-0/blib/lib:/tmp/loop_over_bdir-402745-huWXde/MP3-PodcastFetch-1.05-0/blib/arch:/tmp/loop_over_bdir-402745-huWXde/MP3-PodcastFetch-1.05-0/blib/lib"
    PERL5OPT=""
    PERL5_CPANPLUS_IS_RUNNING="402753"
    PERL5_CPAN_IS_RUNNING="402753"
    PERL_CANARY_STABILITY_NOPROMPT="1"
    PERL_MM_USE_DEFAULT="1"
    PERL_USE_UNSAFE_INC="1"
  @INC:
    /tmp/loop_over_bdir-402745-huWXde/App-nrun-v1.1.2-0/blib/arch
    /tmp/loop_over_bdir-402745-huWXde/App-nrun-v1.1.2-0/blib/lib
    /tmp/loop_over_bdir-402745-huWXde/ProjectBuilder-0.14.1-0/blib/arch
    /tmp/loop_over_bdir-402745-huWXde/ProjectBuilder-0.14.1-0/blib/lib
    /tmp/loop_over_bdir-402745-huWXde/MP3-PodcastFetch-1.05-0/blib/arch
    /tmp/loop_over_bdir-402745-huWXde/MP3-PodcastFetch-1.05-0/blib/lib
    /home/sand/src/perl/repoperls/installed-perls/host/k93focal/v5.41.4/d3e4/lib/site_perl/5.41.4/x86_64-linux-ld
    /home/sand/src/perl/repoperls/installed-perls/host/k93focal/v5.41.4/d3e4/lib/site_perl/5.41.4
    /home/sand/src/perl/repoperls/installed-perls/host/k93focal/v5.41.4/d3e4/lib/5.41.4/x86_64-linux-ld
    /home/sand/src/perl/repoperls/installed-perls/host/k93focal/v5.41.4/d3e4/lib/5.41.4
    .