FFI-Platypus v1.10 Perl 5 v5.26.3 MSWin32-x64-multi-thread
- Status
- Pass
- From
- aero
- Dist
-
FFI-Platypus v1.10
- Platform
- Perl 5 v5.26.3 MSWin32-x64-multi-thread
- Date
- 2020-02-08 06:57:13
- ID
- 095cd343-6f90-1014-8029-6310a300e1b1
This distribution has been tested as part of the CPAN Testers
project, supporting the Perl programming language. See
http://wiki.cpantesters.org/ for more information or email
questions to cpan-testers-discuss@perl.org
--
Dear Graham Ollis,
This is a computer-generated report for FFI-Platypus-1.10
on perl 5.26.3, created by CPAN-Reporter-1.2018.
Thank you for uploading your work to CPAN. Congratulations!
All tests were successful.
Sections of this report:
* Tester comments
* Program output
* Prerequisites
* Environment and other context
------------------------------
TESTER COMMENTS
------------------------------
Additional comments from tester:
none provided
------------------------------
PROGRAM OUTPUT
------------------------------
Output from 'C:\strawberry-perl-5.26-64bit\c\bin\gmake.exe test':
"C:\strawberry-perl-5.26-64bit\perl\bin\perl.exe" -MExtUtils::Command::MM -e cp_nonempty -- lib/FFI/Platypus.bs blib\arch\auto\FFI\Platypus\Platypus.bs 644
CC t/ffi/align.c
CC t/ffi/align_array.c
CC t/ffi/align_fixed.c
CC t/ffi/align_string.c
CC t/ffi/basic.c
CC t/ffi/closure.c
CC t/ffi/color.c
CC t/ffi/complex_double.c
CC t/ffi/complex_float.c
CC t/ffi/double.c
CC t/ffi/float.c
CC t/ffi/gh117.c
CC t/ffi/gh174.c
CC t/ffi/longdouble.c
CC t/ffi/memcmp4.c
CC t/ffi/meta.c
CC t/ffi/pointer.c
CC t/ffi/record.c
CC t/ffi/sint16.c
CC t/ffi/sint32.c
CC t/ffi/sint64.c
CC t/ffi/sint8.c
CC t/ffi/string.c
CC t/ffi/string_array.c
CC t/ffi/uint16.c
CC t/ffi/uint32.c
CC t/ffi/uint64.c
CC t/ffi/uint8.c
CC t/ffi/variadic.c
LD t/ffi/test.dll
"C:\strawberry-perl-5.26-64bit\perl\bin\perl.exe" "-MExtUtils::Command::MM" "-MTest::Harness" "-e" "undef *Test::Harness::Switches; test_harness(0, 'blib\lib', 'blib\arch')" t/*.t
#
#
#
# HARNESS_ACTIVE=1
# HARNESS_VERSION=3.42
# PERL5LIB=C:\strawberry-perl-5.26-64bit\cpan\build\FFI-Platypus-1.10-0\blib\lib;C:\strawberry-perl-5.26-64bit\cpan\build\FFI-Platypus-1.10-0\blib\arch
# PERL5_CPANPLUS_IS_RUNNING=19996
# PERL5_CPAN_IS_RUNNING=19996
# PERL_MM_USE_DEFAULT=1
# PERL_USE_UNSAFE_INC=1
#
#
#
# PERL5LIB path
# C:\strawberry-perl-5.26-64bit\cpan\build\FFI-Platypus-1.10-0\blib\lib
# C:\strawberry-perl-5.26-64bit\cpan\build\FFI-Platypus-1.10-0\blib\arch
#
#
#
# perl 5.026003
# Alien::Base 2.04
# Capture::Tiny 0.48
# Devel::Hide 0.0010
# ExtUtils::CBuilder 0.280234
# ExtUtils::MakeMaker 7.44
# ExtUtils::ParseXS 3.35
# FFI::CheckLib 0.26
# IPC::Cmd 1.04
# JSON::PP 4.04
# List::Util 1.53
# Math::LongDouble -
# PkgConfig 0.23026
# Test::More 1.302171
# constant 1.33
# forks -
#
#
#
# mode : already-installed
# Alien::FFI->VERSION = 0.24
# Alien::FFI->install_type = system
# Alien::FFI->cflags =
# Alien::FFI->libs = -LC:/strawberry-perl-5.26-64bit/c/lib/pkgconfig/../../lib/../lib -lffi
# Alien::FFI->version = 3.2.1
#
#
#
# ffi.platypus.memory.strdup_impl =ffi
# ffi.platypus.memory.strndup_impl=ffi
#
#
#
# Types:
# double : double, float complex
# float : float
# longdouble : double complex, long double, long double complex
# sint16 : int16_t, short, signed short
# sint32 : int, int32_t, long, off_t, senum, signed int, signed long
# sint64 : int64_t, intptr_t, long long, ptrdiff_t, signed long long, ssize_t, time_t
# sint8 : char, int8_t, signed char
# uint16 : ino_t, mode_t, uint16_t, unsigned short, ushort, wchar_t, wint_t
# uint32 : dev_t, enum, uint, uint32_t, ulong, unsigned int, unsigned long
# uint64 : size_t, uint64_t, uintptr_t, unsigned long long
# uint8 : bool, uchar, uint8_t, unsigned char
#
#
#
# ABIs:
# default_abi 1
# win64 1
#
#
#
# Probes:
# alloca 1
# variadic 1
# abi 1
# bigendian64 0
# bigendian 0
#
#
#
# [PLATFORM]
# osname : MSWin32
# cc : gcc
# cxx : g++
# for : gfortran
# ld : g++.exe
# ccflags : -s -O2 -DWIN32 -DWIN64 -DCONSERVATIVE -D__USE_MINGW_ANSI_STDIO -DPERL_TEXTMODE_SCRIPTS -DPERL_IMPLICIT_CONTEXT -DPERL_IMPLICIT_SYS -DUSE_PERLIO -fwrapv -fno-strict-aliasing -mms-bitfields -s -O2 -IC:\strawberry-perl-5.26-64bit\cpan\build\FFI-Platypus-1.10-0\blib\lib\auto\share\dist\FFI-Platypus\include
# ldflags : -mdll -s -LC:strawberry-perl-5.26-64bitperllibCORE -LC:strawberry-perl-5.26-64bitclib -Wl,--enable-auto-import -Wl,--export-all-symbols -Wl,--enable-auto-image-base
# object suffix : .o
# library prefix :
# library suffix : .dll
# cc mm works : -MM
#
#
#
t/00_diag.t .............................. ok
t/01_use.t ............................... ok
t/ffi_build.t ............................ ok
t/ffi_build_file_base.t .................. ok
t/ffi_build_file_c.t ..................... ok
t/ffi_build_file_cxx.t ................... ok
t/ffi_build_file_library.t ............... ok
t/ffi_build_file_object.t ................ ok
t/ffi_build_mm.t ......................... ok
t/ffi_build_platform.t ................... ok
t/ffi_platypus.t ......................... ok
t/ffi_platypus_api.t ..................... ok
t/ffi_platypus_buffer.t .................. ok
cannot unlink file for C:\strawberry-perl-5.26-64bit\cpan\build\FFI-Platypus-1.10-0\.tmp\pUYtVsU_mJ\lib\auto\share\dist\Foo-Bar1\bar1.dll: Permission denied at C:/strawberry-perl-5.26-64bit/perl/site/lib/File/Temp.pm line 2628.
cannot remove directory for C:\strawberry-perl-5.26-64bit\cpan\build\FFI-Platypus-1.10-0\.tmp\pUYtVsU_mJ\lib\auto\share\dist\Foo-Bar1: Directory not empty at C:/strawberry-perl-5.26-64bit/perl/site/lib/File/Temp.pm line 2628.
cannot remove directory for C:\strawberry-perl-5.26-64bit\cpan\build\FFI-Platypus-1.10-0\.tmp\pUYtVsU_mJ\lib\auto\share\dist: Directory not empty at C:/strawberry-perl-5.26-64bit/perl/site/lib/File/Temp.pm line 2628.
cannot remove directory for C:\strawberry-perl-5.26-64bit\cpan\build\FFI-Platypus-1.10-0\.tmp\pUYtVsU_mJ\lib\auto\share: Directory not empty at C:/strawberry-perl-5.26-64bit/perl/site/lib/File/Temp.pm line 2628.
cannot remove directory for C:\strawberry-perl-5.26-64bit\cpan\build\FFI-Platypus-1.10-0\.tmp\pUYtVsU_mJ\lib\auto: Directory not empty at C:/strawberry-perl-5.26-64bit/perl/site/lib/File/Temp.pm line 2628.
cannot remove directory for C:\strawberry-perl-5.26-64bit\cpan\build\FFI-Platypus-1.10-0\.tmp\pUYtVsU_mJ\lib: Directory not empty at C:/strawberry-perl-5.26-64bit/perl/site/lib/File/Temp.pm line 2628.
cannot remove directory for C:/strawberry-perl-5.26-64bit/cpan/build/FFI-Platypus-1.10-0/.tmp/pUYtVsU_mJ: Directory not empty at C:/strawberry-perl-5.26-64bit/perl/site/lib/File/Temp.pm line 2628.
cannot unlink file for C:\strawberry-perl-5.26-64bit\cpan\build\FFI-Platypus-1.10-0\.tmp\kN75hbaMXr\lib\auto\share\dist\Foo-Bar2\bar2.dll: Permission denied at C:/strawberry-perl-5.26-64bit/perl/site/lib/File/Temp.pm line 2628.
cannot remove directory for C:\strawberry-perl-5.26-64bit\cpan\build\FFI-Platypus-1.10-0\.tmp\kN75hbaMXr\lib\auto\share\dist\Foo-Bar2: Directory not empty at C:/strawberry-perl-5.26-64bit/perl/site/lib/File/Temp.pm line 2628.
cannot remove directory for C:\strawberry-perl-5.26-64bit\cpan\build\FFI-Platypus-1.10-0\.tmp\kN75hbaMXr\lib\auto\share\dist: Directory not empty at C:/strawberry-perl-5.26-64bit/perl/site/lib/File/Temp.pm line 2628.
cannot remove directory for C:\strawberry-perl-5.26-64bit\cpan\build\FFI-Platypus-1.10-0\.tmp\kN75hbaMXr\lib\auto\share: Directory not empty at C:/strawberry-perl-5.26-64bit/perl/site/lib/File/Temp.pm line 2628.
cannot remove directory for C:\strawberry-perl-5.26-64bit\cpan\build\FFI-Platypus-1.10-0\.tmp\kN75hbaMXr\lib\auto: Directory not empty at C:/strawberry-perl-5.26-64bit/perl/site/lib/File/Temp.pm line 2628.
cannot remove directory for C:\strawberry-perl-5.26-64bit\cpan\build\FFI-Platypus-1.10-0\.tmp\kN75hbaMXr\lib: Directory not empty at C:/strawberry-perl-5.26-64bit/perl/site/lib/File/Temp.pm line 2628.
cannot remove directory for C:/strawberry-perl-5.26-64bit/cpan/build/FFI-Platypus-1.10-0/.tmp/kN75hbaMXr: Directory not empty at C:/strawberry-perl-5.26-64bit/perl/site/lib/File/Temp.pm line 2628.
cannot unlink file for C:\strawberry-perl-5.26-64bit\cpan\build\FFI-Platypus-1.10-0\.tmp\9PswmwAFu7\lib\auto\share\dist\Foo-Bar3\bar3.dll: Permission denied at C:/strawberry-perl-5.26-64bit/perl/site/lib/File/Temp.pm line 2628.
cannot remove directory for C:\strawberry-perl-5.26-64bit\cpan\build\FFI-Platypus-1.10-0\.tmp\9PswmwAFu7\lib\auto\share\dist\Foo-Bar3: Directory not empty at C:/strawberry-perl-5.26-64bit/perl/site/lib/File/Temp.pm line 2628.
cannot remove directory for C:\strawberry-perl-5.26-64bit\cpan\build\FFI-Platypus-1.10-0\.tmp\9PswmwAFu7\lib\auto\share\dist: Directory not empty at C:/strawberry-perl-5.26-64bit/perl/site/lib/File/Temp.pm line 2628.
cannot remove directory for C:\strawberry-perl-5.26-64bit\cpan\build\FFI-Platypus-1.10-0\.tmp\9PswmwAFu7\lib\auto\share: Directory not empty at C:/strawberry-perl-5.26-64bit/perl/site/lib/File/Temp.pm line 2628.
cannot remove directory for C:\strawberry-perl-5.26-64bit\cpan\build\FFI-Platypus-1.10-0\.tmp\9PswmwAFu7\lib\auto: Directory not empty at C:/strawberry-perl-5.26-64bit/perl/site/lib/File/Temp.pm line 2628.
cannot remove directory for C:\strawberry-perl-5.26-64bit\cpan\build\FFI-Platypus-1.10-0\.tmp\9PswmwAFu7\lib: Directory not empty at C:/strawberry-perl-5.26-64bit/perl/site/lib/File/Temp.pm line 2628.
cannot remove directory for C:/strawberry-perl-5.26-64bit/cpan/build/FFI-Platypus-1.10-0/.tmp/9PswmwAFu7: Directory not empty at C:/strawberry-perl-5.26-64bit/perl/site/lib/File/Temp.pm line 2628.
cannot unlink file for C:\strawberry-perl-5.26-64bit\cpan\build\FFI-Platypus-1.10-0\.tmp\ITzP9QMBb2\ffi\_build\foo.dll: Permission denied at C:/strawberry-perl-5.26-64bit/perl/site/lib/File/Temp.pm line 2628.
cannot remove directory for C:\strawberry-perl-5.26-64bit\cpan\build\FFI-Platypus-1.10-0\.tmp\ITzP9QMBb2\ffi\_build: Directory not empty at C:/strawberry-perl-5.26-64bit/perl/site/lib/File/Temp.pm line 2628.
cannot remove directory for C:\strawberry-perl-5.26-64bit\cpan\build\FFI-Platypus-1.10-0\.tmp\ITzP9QMBb2\ffi: Directory not empty at C:/strawberry-perl-5.26-64bit/perl/site/lib/File/Temp.pm line 2628.
cannot remove directory for C:/strawberry-perl-5.26-64bit/cpan/build/FFI-Platypus-1.10-0/.tmp/ITzP9QMBb2: Directory not empty at C:/strawberry-perl-5.26-64bit/perl/site/lib/File/Temp.pm line 2628.
t/ffi_platypus_bundle.t .................. ok
t/ffi_platypus_closure.t ................. ok
t/ffi_platypus_constant.t ................ ok
t/ffi_platypus_declare.t ................. ok
t/ffi_platypus_dl.t ...................... ok
t/ffi_platypus_function.t ................ ok
t/ffi_platypus_function_wrapper.t ........ ok
t/ffi_platypus_internal.t ................ ok
t/ffi_platypus_lang.t .................... ok
t/ffi_platypus_lang_asm.t ................ ok
t/ffi_platypus_lang_c.t .................. ok
t/ffi_platypus_lang_win32.t .............. ok
t/ffi_platypus_legacy.t .................. ok
t/ffi_platypus_memory.t .................. ok
t/ffi_platypus_record.t .................. ok
t/ffi_platypus_record_meta.t ............. ok
t/ffi_platypus_record_tiearray.t ......... ok
t/ffi_platypus_shareconfig.t ............. ok
t/ffi_platypus_type.t .................... ok
t/ffi_platypus_type_pointersizebuffer.t .. ok
t/ffi_platypus_type_stringarray.t ........ ok
t/ffi_platypus_type_stringpointer.t ...... ok
t/ffi_platypus_typeparser.t .............. ok
t/ffi_platypus_typeparser_version0.t ..... ok
t/ffi_platypus_typeparser_version1.t ..... ok
t/ffi_probe.t ............................ ok
t/ffi_probe_runner.t ..................... ok
t/ffi_probe_runner_builder.t ............. ok
t/ffi_probe_runner_result.t .............. ok
t/ffi_temp.t ............................. ok
t/forks.t ................................ skipped: Test requires forks
t/gh117.t ................................ ok
t/gh129.t ................................ ok
t/memory.t ............................... skipped: tested only in CI
t/threads.t .............................. ok
t/type_complex_double.t .................. skipped: Test requires support for double complex
t/type_complex_float.t ................... skipped: Test requires support for float complex
t/type_custom.t .......................... ok
t/type_double.t .......................... ok
t/type_float.t ........................... ok
t/type_longdouble.t ...................... skipped: test requires support for long double
t/type_longdouble__array.t ............... skipped: test requires support for long double
t/type_longdouble__hide.t ................ skipped: test requires support for long double
t/type_longdouble__ptr.t ................. skipped: test requires support for long double
t/type_opaque.t .......................... ok
t/type_record.t .......................... ok
t/type_record_value.t .................... ok
t/type_sint16.t .......................... ok
t/type_sint32.t .......................... ok
t/type_sint64.t .......................... ok
t/type_sint8.t ........................... ok
t/type_string.t .......................... ok
t/type_uint16.t .......................... ok
t/type_uint32.t .......................... ok
t/type_uint64.t .......................... ok
t/type_uint8.t ........................... ok
All tests successful.
Files=69, Tests=335, 79 wallclock secs ( 0.86 usr + 0.45 sys = 1.31 CPU)
Result: PASS
------------------------------
PREREQUISITES
------------------------------
Prerequisite modules loaded:
requires:
Module Need Have
------------------- -------- --------
Capture::Tiny 0 0.48
constant 1.32 1.33
ExtUtils::MakeMaker 7.12 7.44
FFI::CheckLib 0.05 0.26
IPC::Cmd 0 1.04
JSON::PP 0 4.04
List::Util 1.45 1.53
perl 5.008001 5.026003
build_requires:
Module Need Have
------------------- -------- --------
Capture::Tiny 0 0.48
ExtUtils::CBuilder 0 0.280234
Test::More 0.98 1.302171
configure_requires:
Module Need Have
------------------- -------- --------
Capture::Tiny 0 0.48
ExtUtils::MakeMaker 7.12 7.44
ExtUtils::ParseXS 3.30 3.35
IPC::Cmd 0 1.04
perl 5.006 5.026003
------------------------------
ENVIRONMENT AND OTHER CONTEXT
------------------------------
Environment variables:
COMSPEC = C:\WINDOWS\system32\cmd.exe
NONINTERACTIVE_TESTING = 1
NUMBER_OF_PROCESSORS = 4
PATH = C:\strawberry-perl-5.26-64bit\perl\site\bin;C:\strawberry-perl-5.26-64bit\perl\bin;C:\strawberry-perl-5.26-64bit\c\bin;C:\Program Files (x86)\Common Files\Oracle\Java\javapath;C:\ProgramData\Oracle\Java\javapath;C:\Program Files (x86)\Wizvera\Delfino;C:\WINDOWS\SYSTEM32;C:\WINDOWS;C:\WINDOWS\SYSTEM32\WBEM;C:\WINDOWS\SYSTEM32\WINDOWSPOWERSHELL\V1.0\;C:\PROGRAM FILES (X86)\LENOVO\ACCESS CONNECTIONS\;C:\PROGRAM FILES\THINKPAD\BLUETOOTH SOFTWARE\;C:\PROGRAM FILES\THINKPAD\BLUETOOTH SOFTWARE\SYSWOW64;C:\Program Files (x86)\Intel\OpenCL SDK\2.0\bin\x86;C:\Program Files (x86)\Intel\OpenCL SDK\2.0\bin\x64;C:\WINDOWS\system32;C:\WINDOWS;C:\WINDOWS\System32\Wbem;C:\WINDOWS\System32\WindowsPowerShell\v1.0\;C:\WINDOWS\System32\OpenSSH\;C:\Program Files\Microsoft VS Code\bin;C:\Program Files (x86)\Microsoft VS Code\bin;C:\Users\kang\AppData\Local\Microsoft\WindowsApps;
PERL5LIB =
PERL5OPT =
PERL5_CPANPLUS_IS_RUNNING = 19996
PERL5_CPAN_IS_RUNNING = 19996
PERL_MM_USE_DEFAULT = 1
PERL_USE_UNSAFE_INC = 1
PROCESSOR_IDENTIFIER = Intel64 Family 6 Model 42 Stepping 7, GenuineIntel
TEMP = C:\Users\kang\AppData\Local\Temp
TERM = dumb
Perl special variables (and OS-specific diagnostics, for MSWin32):
$^X = C:\strawberry-perl-5.26-64bit\perl\bin\perl.exe
$UID/$EUID = 0 / 0
$GID = 0
$EGID = 0
Win32::GetOSName = Win10
Win32::GetOSVersion = , 10, 0, 18363, 2, 0, 0, 256, 1
Win32::FsType = NTFS
Win32::IsAdminUser = 0
Perl module toolchain versions installed:
Module Have
------------------- --------
CPAN 2.27
CPAN::Meta 2.150010
Cwd 3.75
ExtUtils::CBuilder 0.280234
ExtUtils::Command 7.44
ExtUtils::Install 2.14
ExtUtils::MakeMaker 7.44
ExtUtils::Manifest 1.72
ExtUtils::ParseXS 3.35
File::Spec 3.75
JSON 4.02
JSON::PP 4.04
Module::Build 0.4231
Module::Signature n/a
Parse::CPAN::Meta 2.150010
Test::Harness 3.42
Test::More 1.302171
YAML 1.30
YAML::Syck n/a
version 0.9924
--
Summary of my perl5 (revision 5 version 26 subversion 3) configuration:
Platform:
osname=MSWin32
osvers=10.0.17134.407
archname=MSWin32-x64-multi-thread
uname='Win32 strawberry-perl 5.26.3.1 #1 Sun Dec 2 22:57:44 2018 x64'
config_args='undef'
hint=recommended
useposix=true
d_sigaction=undef
useithreads=define
usemultiplicity=define
use64bitint=define
use64bitall=undef
uselongdouble=undef
usemymalloc=n
default_inc_excludes_dot=define
bincompat5005=undef
Compiler:
cc='gcc'
ccflags =' -s -O2 -DWIN32 -DWIN64 -DCONSERVATIVE -D__USE_MINGW_ANSI_STDIO -DPERL_TEXTMODE_SCRIPTS -DPERL_IMPLICIT_CONTEXT -DPERL_IMPLICIT_SYS -DUSE_PERLIO -fwrapv -fno-strict-aliasing -mms-bitfields'
optimize='-s -O2'
cppflags='-DWIN32'
ccversion=''
gccversion='7.1.0'
gccosandvers=''
intsize=4
longsize=4
ptrsize=8
doublesize=8
byteorder=12345678
doublekind=3
d_longlong=define
longlongsize=8
d_longdbl=define
longdblsize=16
longdblkind=3
ivtype='long long'
ivsize=8
nvtype='double'
nvsize=8
Off_t='long long'
lseeksize=8
alignbytes=8
prototype=define
Linker and Libraries:
ld='g++.exe'
ldflags ='-s -L"C:\strawberry-perl-5.26-64bit\perl\lib\CORE" -L"C:\strawberry-perl-5.26-64bit\c\lib"'
libpth=C:\strawberry-perl-5.26-64bit\c\lib C:\strawberry-perl-5.26-64bit\c\x86_64-w64-mingw32\lib C:\strawberry-perl-5.26-64bit\c\lib\gcc\x86_64-w64-mingw32\7.1.0
libs= -lmoldname -lkernel32 -luser32 -lgdi32 -lwinspool -lcomdlg32 -ladvapi32 -lshell32 -lole32 -loleaut32 -lnetapi32 -luuid -lws2_32 -lmpr -lwinmm -lversion -lodbc32 -lodbccp32 -lcomctl32
perllibs= -lmoldname -lkernel32 -luser32 -lgdi32 -lwinspool -lcomdlg32 -ladvapi32 -lshell32 -lole32 -loleaut32 -lnetapi32 -luuid -lws2_32 -lmpr -lwinmm -lversion -lodbc32 -lodbccp32 -lcomctl32
libc=
so=dll
useshrplib=true
libperl=libperl526.a
gnulibc_version=''
Dynamic Linking:
dlsrc=dl_win32.xs
dlext=xs.dll
d_dlsymun=undef
ccdlflags=' '
cccdlflags=' '
lddlflags='-mdll -s -L"C:\strawberry-perl-5.26-64bit\perl\lib\CORE" -L"C:\strawberry-perl-5.26-64bit\c\lib"'
Characteristics of this binary (from libperl):
Compile-time options:
HAS_TIMES
HAVE_INTERP_INTERN
MULTIPLICITY
PERLIO_LAYERS
PERL_COPY_ON_WRITE
PERL_DONT_CREATE_GVSV
PERL_IMPLICIT_CONTEXT
PERL_IMPLICIT_SYS
PERL_MALLOC_WRAP
PERL_OP_PARENT
PERL_PRESERVE_IVUV
USE_64_BIT_INT
USE_ITHREADS
USE_LARGE_FILES
USE_LOCALE
USE_LOCALE_COLLATE
USE_LOCALE_CTYPE
USE_LOCALE_NUMERIC
USE_LOCALE_TIME
USE_PERLIO
USE_PERL_ATOF
Built under MSWin32
Compiled at Dec 2 2018 23:03:33
%ENV:
PERL5_CPANPLUS_IS_RUNNING="19996"
PERL5_CPAN_IS_RUNNING="19996"
PERL_MM_USE_DEFAULT="1"
PERL_USE_UNSAFE_INC="1"
@INC:
C:/strawberry-perl-5.26-64bit/perl/site/lib/MSWin32-x64-multi-thread
C:/strawberry-perl-5.26-64bit/perl/site/lib
C:/strawberry-perl-5.26-64bit/perl/vendor/lib
C:/strawberry-perl-5.26-64bit/perl/lib
.