JSON-Schema-Draft201909 v0.026 Perl 5 v5.22.1 MSWin32-x86-multi-thread-64int

Status
Pass
From
Alexandr Ciornii (CHORNY)
Dist
JSON-Schema-Draft201909 v0.026
Platform
Perl 5 v5.22.1 MSWin32-x86-multi-thread-64int
Date
2021-04-12 20:13:40
ID
08fa743c-6bff-1014-aba4-3d92f339ff4e
This distribution has been tested as part of the CPAN Testers
project, supporting the Perl programming language.  See
http://wiki.cpantesters.org/ for more information or email
questions to cpan-testers-discuss@perl.org


--
Dear Karen Etheridge,

This is a computer-generated report for JSON-Schema-Draft201909-0.026
on perl 5.22.1, created by CPAN-Reporter-1.2018_01.

Thank you for uploading your work to CPAN.  Congratulations!
All tests were successful.

Sections of this report:

    * Tester comments
    * Program output
    * Prerequisites
    * Environment and other context

------------------------------
TESTER COMMENTS
------------------------------

Additional comments from tester:

this report is from an automated smoke testing program
and was not reviewed by a human for accuracy

------------------------------
PROGRAM OUTPUT
------------------------------

Output from 'C:\Strawberry221\perl\bin\perl.exe ./Build test':

# 
# Versions for all modules listed in MYMETA.json (including optional ones):
# 
# === Configure Requires ===
# 
#     Module                   Want  Have
#     ----------------------- ----- -----
#     ExtUtils::MakeMaker       any  7.10
#     File::ShareDir::Install  0.06  0.10
#     Module::Build::Tiny     0.034 0.039
# 
# === Test Requires ===
# 
#     Module                          Want     Have
#     ------------------------------ ----- --------
#     File::Spec                       any     3.62
#     Module::Metadata                 any 1.000027
#     Scalar::Util                     any     1.56
#     Test::Deep                       any    1.120
#     Test::Deep::UnorderedPairs       any    0.006
#     Test::Fatal                      any    0.014
#     Test::File::ShareDir             any 1.001001
#     Test::JSON::Schema::Acceptance 1.004    1.006
#     Test::Memory::Cycle              any     1.06
#     Test::More                      0.96 1.302183
#     lib                              any     0.63
#     open                             any     1.10
#     utf8                             any     1.17
# 
# === Test Recommends ===
# 
#     Module         Want     Have
#     ---------- -------- --------
#     CPAN::Meta 2.120900 2.150005
# 
# === Runtime Requires ===
# 
#     Module                   Want     Have
#     -------------------- -------- --------
#     B                         any     1.58
#     Carp                      any     1.38
#     Exporter                  any     5.72
#     Feature::Compat::Try      any     0.04
#     File::ShareDir            any    1.102
#     JSON::MaybeXS        1.004001 1.004003
#     JSON::PP                  any  2.27300
#     List::Util               1.55     1.56
#     Module::Runtime           any    0.014
#     Mojo::JSON::Pointer       any    undef
#     Mojo::URL                 any    undef
#     Mojolicious              7.23     8.71
#     Moo                       any 2.005004
#     Moo::Object               any    undef
#     Moo::Role                 any 2.005004
#     MooX::HandlesVia          any 0.001008
#     MooX::TypeTiny       0.002002 0.002003
#     Path::Tiny                any    0.084
#     Ref::Util               0.100    0.204
#     Safe::Isa                 any 1.000005
#     Storable                  any     3.15
#     Types::Standard      1.010002 1.012001
#     constant                  any     1.33
#     if                        any   0.0606
#     namespace::clean          any     0.26
#     overload                  any     1.26
#     strict                    any     1.09
#     strictures                  2 2.000002
#     warnings                  any     1.34
# 
# === Runtime Suggests ===
# 
#     Module                 Want    Have
#     ---------------------- ---- -------
#     Class::XSAccessor       any    1.19
#     Data::Validate::Domain  any missing
#     Email::Address::XS     1.01 missing
#     Net::IDN::Encode        any   2.300
#     Time::Moment            any    0.38
#     Type::Tiny::XS          any missing
# 
# === Other Modules ===
# 
#     Module              Have
#     ---------------- -------
#     Cpanel::JSON::XS  3.0213
#     Encode              2.83
#     File::Temp        0.2304
#     JSON::PP         2.27300
#     JSON::XS            3.02
#     Module::Runtime    0.014
#     Mojolicious         8.71
#     Pod::Coverage       0.23
#     Sub::Name           0.15
#     YAML                1.15
#     autodie             2.29
# 
t/00-report-prereqs.t ...... ok
t/add-schema.t ............. ok
# 
# 
# Results using Test::JSON::Schema::Acceptance 1.006
# using custom test directory: t/additional-tests
# optional tests included: no
# 
# filename                           pass  todo-fail  fail
# --------------------------------------------------------
# anchor.json                           2          0     0
# badRef.json                           3          0     0
# faux-buggy-schemas.json               2          0     0
# format-duration.json                  5          0     0
# format-ipv4.json                      2          0     0
# format-relative-json-pointer.json     7          0     0
# future-keywords-draft2019-09.json    10          0     0
# id.json                               2          0     0
# invalid-input.json                    2          0     0
# keyword-independence.json           688          0     0
# loose-types-const-enum.json           8          0     0
# not-an-anchor.json                    2          0     0
# not-an-id.json                        2          0     0
# recursive-dynamic.json                2          0     0
# recursiveRef.json                    27          0     0
# ref-and-id.json                       4          0     0
# ref.json                             10          0     0
# short-circuit.json                   20          0     0
# unicode.json                          4          0     0
# vocabulary.json                       5          0     0
# --------------------------------------------------------
# TOTAL                               807          0     0
# 
t/additional-tests.t ....... ok
t/annotations.t ............ ok
t/booleans.t ............... ok
t/cached-metaschemas.t ..... ok
t/dialects.t ............... ok
t/document.t ............... ok
t/equality.t ............... ok
t/errors.t ................. ok
t/evaluate_json_string.t ... ok
t/find-identifiers.t ....... ok
t/formats.t ................ ok
t/max_traversal_depth.t .... ok
t/output_format.t .......... ok
t/pattern.t ................ ok
t/ref.t .................... ok
t/traverse.t ............... ok
t/type.t ................... ok
# 
# 
# Results using Test::JSON::Schema::Acceptance 1.006
# with commit fc68499eafa2cdbe52b4ed4d219dbb1c8c99fb2b (2.0.0-322-gfc68499)
# from git://github.com/json-schema-org/JSON-Schema-Test-Suite.git:
# using custom test directory: C:/STRAWB~1/cpan/build/Test-JSON-Schema-Acceptance-1.006-LELQsJ/blib/lib/auto/share/dist/Test-JSON-Schema-Acceptance/tests/draft2019-09/optional/format
# optional tests included: yes
# 
# filename                    pass  todo-fail  fail
# -------------------------------------------------
# date-time.json                10          1     0
# date.json                      4          1     0
# duration.json                 17          0     0
# email.json                     5          4     0
# hostname.json                  3          9     0
# idn-email.json                 2          2     0
# idn-hostname.json             16         29     0
# ipv4.json                      8          0     0
# ipv6.json                     29          0     0
# iri-reference.json             5          2     0
# iri.json                       8          1     0
# json-pointer.json             32          0     0
# regex.json                     2          0     0
# relative-json-pointer.json     9          0     0
# time.json                      3          0     0
# uri-reference.json             7          0     0
# uri-template.json              3          1     0
# uri.json                      19          1     0
# uuid.json                     12          0     0
# -------------------------------------------------
# TOTAL                        194         51     0
# 
t/zzz-acceptance-format.t .. ok
# 
# 
# Results using Test::JSON::Schema::Acceptance 1.006
# with commit fc68499eafa2cdbe52b4ed4d219dbb1c8c99fb2b (2.0.0-322-gfc68499)
# from git://github.com/json-schema-org/JSON-Schema-Test-Suite.git:
# specification version: draft2019-09
# optional tests included: yes
# skipping directory: optional/format
# 
# filename                           pass  todo-fail  fail
# --------------------------------------------------------
# additionalItems.json                 13          0     0
# additionalProperties.json            15          0     0
# allOf.json                           30          0     0
# anchor.json                           6          0     0
# anyOf.json                           18          0     0
# boolean_schema.json                  18          0     0
# const.json                           50          0     0
# contains.json                        18          0     0
# content.json                         18          0     0
# default.json                          4          0     0
# defs.json                             2          0     0
# dependentRequired.json               20          0     0
# dependentSchemas.json                13          0     0
# enum.json                            33          0     0
# exclusiveMaximum.json                 4          0     0
# exclusiveMinimum.json                 4          0     0
# format.json                         133          0     0
# id.json                              13          0     0
# if-then-else.json                    26          0     0
# infinite-loop-detection.json          2          0     0
# items.json                           26          0     0
# maxContains.json                     10          0     0
# maxItems.json                         4          0     0
# maxLength.json                        5          0     0
# maxProperties.json                    8          0     0
# maximum.json                          8          0     0
# minContains.json                     23          0     0
# minItems.json                         4          0     0
# minLength.json                        5          0     0
# minProperties.json                    6          0     0
# minimum.json                         11          0     0
# multipleOf.json                       9          0     0
# not.json                             12          0     0
# oneOf.json                           27          0     0
# pattern.json                          9          0     0
# patternProperties.json               22          0     0
# properties.json                      20          0     0
# propertyNames.json                   10          0     0
# recursiveRef.json                    32          0     0
# ref.json                             34          0     0
# refRemote.json                       15          0     0
# required.json                         9          0     0
# type.json                            80          0     0
# unevaluatedItems.json                35          0     0
# unevaluatedProperties.json           59          0     0
# uniqueItems.json                     64          0     0
# optional/bignum.json                  2          7     0
# optional/ecmascript-regex.json       31          9     0
# optional/float-overflow.json          0          1     0
# optional/non-bmp-regex.json          12          0     0
# optional/refOfUnknownKeyword.json     4          0     0
# --------------------------------------------------------
# TOTAL                              1036         17     0
# 
t/zzz-acceptance.t ......... ok
All tests successful.

Test Summary Report
-------------------
t/zzz-acceptance-format.t (Wstat: 0 Tests: 247 Failed: 0)
  TODO passed:   1-16, 34-103, 141-147, 153, 200-202, 210-213
                233
t/zzz-acceptance.t       (Wstat: 0 Tests: 1055 Failed: 0)
  TODO passed:   988-1037
Files=21, Tests=2237, 102 wallclock secs ( 2.34 usr +  0.49 sys =  2.83 CPU)
Result: PASS

------------------------------
PREREQUISITES
------------------------------

Prerequisite modules loaded:

requires:

    Module                         Need     Have    
    ------------------------------ -------- --------
    B                              0        1.58    
    Carp                           0        1.38    
    constant                       0        1.33    
    Exporter                       0        5.72    
    Feature::Compat::Try           0        0.04    
    File::ShareDir                 0        1.102   
    if                             0        0.0606  
    JSON::MaybeXS                  1.004001 1.004003
    JSON::PP                       0        2.27300 
    List::Util                     1.55     1.56    
    Module::Runtime                0        0.014   
    Mojo::JSON::Pointer            0        0       
    Mojo::URL                      0        0       
    Mojolicious                    7.23     8.71    
    Moo                            0        2.005004
    Moo::Object                    0        0       
    Moo::Role                      0        2.005004
    MooX::HandlesVia               0        0.001008
    MooX::TypeTiny                 0.002002 0.002003
    namespace::clean               0        0.26    
    overload                       0        1.26    
    Path::Tiny                     0        0.084   
    perl                           5.016    5.022001
    Ref::Util                      0.100    0.204   
    Safe::Isa                      0        1.000005
    Storable                       0        3.15    
    strict                         0        1.09    
    strictures                     2        2.000002
    Types::Standard                1.010002 1.012001
    warnings                       0        1.34    

build_requires:

    Module                         Need     Have    
    ------------------------------ -------- --------
    File::Spec                     0        3.62    
    lib                            0        0.63    
    Module::Metadata               0        1.000027
    open                           0        1.10    
    perl                           5.016    5.022001
    Scalar::Util                   0        1.56    
    Test::Deep                     0        1.120   
    Test::Deep::UnorderedPairs     0        0.006   
    Test::Fatal                    0        0.014   
    Test::File::ShareDir           0        1.001001
    Test::JSON::Schema::Acceptance 1.004    1.006   
    Test::Memory::Cycle            0        1.06    
    Test::More                     0.96     1.302183
    utf8                           0        1.17    

configure_requires:

    Module                         Need     Have    
    ------------------------------ -------- --------
    ExtUtils::MakeMaker            0        7.10    
    File::ShareDir::Install        0.06     0.10    
    Module::Build::Tiny            0.034    0.039   
    perl                           5.016    5.022001


------------------------------
ENVIRONMENT AND OTHER CONTEXT
------------------------------

Environment variables:

    AUTOMATED_TESTING = 1
    COMSPEC = C:\WINDOWS\system32\cmd.exe
    NUMBER_OF_PROCESSORS = 1
    PATH = C:\WINDOWS\system32;C:\WINDOWS;C:\WINDOWS\System32\Wbem;C:\Strawberry221\c\bin;C:\Strawberry221\perl\site\bin;C:\Strawberry221\perl\bin;C:\Git\cmd
    PERL5LIB = C:\STRAWB~1\cpan\build\Feature-Compat-Try-0.04-ZeuNBl/blib/arch;C:\STRAWB~1\cpan\build\Feature-Compat-Try-0.04-ZeuNBl/blib/lib;C:\STRAWB~1\cpan\build\Syntax-Keyword-Try-0.23-4sgk_V/blib/arch;C:\STRAWB~1\cpan\build\Syntax-Keyword-Try-0.23-4sgk_V/blib/lib;C:\STRAWB~1\cpan\build\Scalar-List-Utils-1.56-kjbEgQ/blib/arch;C:\STRAWB~1\cpan\build\Scalar-List-Utils-1.56-kjbEgQ/blib/lib;C:\STRAWB~1\cpan\build\Mojolicious-8.71-3IqY1G/blib/arch;C:\STRAWB~1\cpan\build\Mojolicious-8.71-3IqY1G/blib/lib;C:\STRAWB~1\cpan\build\Test-JSON-Schema-Acceptance-1.006-LELQsJ/blib/arch;C:\STRAWB~1\cpan\build\Test-JSON-Schema-Acceptance-1.006-LELQsJ/blib/lib;C:\STRAWB~1\cpan\build\MooX-TypeTiny-0.002003-YDCIbO/blib/arch;C:\STRAWB~1\cpan\build\MooX-TypeTiny-0.002003-YDCIbO/blib/lib;C:\STRAWB~1\cpan\build\Moo-2.005004-XqA7yQ/blib/arch;C:\STRAWB~1\cpan\build\Moo-2.005004-XqA7yQ/blib/lib;C:\STRAWB~1\cpan\build\Role-Tiny-2.002004-2Y_ICj/blib/arch;C:\STRAWB~1\cpan\build\Role-Tiny-2.002004-2Y_ICj/blib/lib;C:\STRAWB~1\cpan\build\Sub-Quote-2.006006-hjBBXj/blib/arch;C:\STRAWB~1\cpan\build\Sub-Quote-2.006006-hjBBXj/blib/lib;C:\STRAWB~1\cpan\build\Type-Tiny-1.012001-A_3dS5/blib/arch;C:\STRAWB~1\cpan\build\Type-Tiny-1.012001-A_3dS5/blib/lib;C:\STRAWB~1\cpan\build\Exporter-Tiny-1.002002-KDE13y/blib/arch;C:\STRAWB~1\cpan\build\Exporter-Tiny-1.002002-KDE13y/blib/lib;C:\STRAWB~1\cpan\build\Test2-Suite-0.000139-6Eh1np/blib/arch;C:\STRAWB~1\cpan\build\Test2-Suite-0.000139-6Eh1np/blib/lib;C:\STRAWB~1\cpan\build\Sub-Info-0.002-0gx0zC/blib/arch;C:\STRAWB~1\cpan\build\Sub-Info-0.002-0gx0zC/blib/lib;C:\STRAWB~1\cpan\build\Term-Table-0.015-gvy4GU/blib/arch;C:\STRAWB~1\cpan\build\Term-Table-0.015-gvy4GU/blib/lib;C:\STRAWB~1\cpan\build\Importer-0.026-gsxEzp/blib/arch;C:\STRAWB~1\cpan\build\Importer-0.026-gsxEzp/blib/lib;C:\STRAWB~1\cpan\build\Storable-3.15-qNPces/blib/arch;C:\STRAWB~1\cpan\build\Storable-3.15-qNPces/blib/lib;C:\STRAWB~1\cpan\build\Test-Simple-1.302183-emx4G4/blib/arch;C:\STRAWB~1\cpan\build\Test-Simple-1.302183-emx4G4/blib/lib;C:\STRAWB~1\cpan\build\Ref-Util-0.204-yWdM5j/blib/arch;C:\STRAWB~1\cpan\build\Ref-Util-0.204-yWdM5j/blib/lib;C:\STRAWB~1\cpan\build\Ref-Util-XS-0.117-yJn7tH/blib/arch;C:\STRAWB~1\cpan\build\Ref-Util-XS-0.117-yJn7tH/blib/lib;C:\STRAWB~1\cpan\build\Test-Deep-UnorderedPairs-0.006-WczfTe/blib/arch;C:\STRAWB~1\cpan\build\Test-Deep-UnorderedPairs-0.006-WczfTe/blib/lib;C:\STRAWB~1\cpan\build\JSON-MaybeXS-1.004003-FJBE_A/blib/arch;C:\STRAWB~1\cpan\build\JSON-MaybeXS-1.004003-FJBE_A/blib/lib;C:\STRAWB~1\cpan\build\Test-Needs-0.002006-5chxeR/blib/arch;C:\STRAWB~1\cpan\build\Test-Needs-0.002006-5chxeR/blib/lib
    PERL5OPT = 
    PERL5_CPANPLUS_IS_RUNNING = 624
    PERL5_CPAN_IS_RUNNING = 624
    PERL5_CPAN_IS_RUNNING_IN_RECURSION = 1964,624
    PERL_CR_SMOKER_CURRENT = JSON-Schema-Draft201909-0.026
    PERL_CR_SMOKER_RUNONCE = 1
    PERL_EXTUTILS_AUTOINSTALL = --defaultdeps
    PERL_HASH_SEED = 0x11111111
    PERL_MM_USE_DEFAULT = 1
    PROCESSOR_IDENTIFIER = x86 Family 16 Model 5 Stepping 3, AuthenticAMD
    TEMP = C:\DOCUME~1\c\LOCALS~1\Temp

Perl special variables (and OS-specific diagnostics, for MSWin32):

    $^X = C:\Strawberry221\perl\bin\perl.exe
    $UID/$EUID = 0 / 0
    $GID = 0
    $EGID = 0
    Win32::GetOSName = WinXP/.Net
    Win32::GetOSVersion = Service Pack 3, 5, 1, 2600, 2, 3, 0, 256, 1
    Win32::FsType = NTFS
    Win32::IsAdminUser = 1

Perl module toolchain versions installed:

    Module              Have    
    ------------------- --------
    CPAN                2.11    
    CPAN::Meta          2.150005
    Cwd                 3.62    
    ExtUtils::CBuilder  0.280224
    ExtUtils::Command   7.10    
    ExtUtils::Install   2.04    
    ExtUtils::MakeMaker 7.10    
    ExtUtils::Manifest  1.70    
    ExtUtils::ParseXS   3.30    
    File::Spec          3.62    
    JSON                2.90    
    JSON::PP            2.27300 
    Module::Build       0.4216  
    Module::Signature   0.79    
    Parse::CPAN::Meta   1.4417  
    Test::Harness       3.36    
    Test::More          1.302183
    YAML                1.15    
    YAML::Syck          1.29    
    version             0.9916  


--

Summary of my perl5 (revision 5 version 22 subversion 1) configuration:
   
  Platform:
    osname=MSWin32, osvers=4.0, archname=MSWin32-x86-multi-thread-64int
    uname='Win32 strawberry-perl 5.22.1.4 #1 Sat Mar 26 14:08:02 2016 i386'
    config_args='undef'
    hint=recommended, useposix=true, d_sigaction=undef
    useithreads=define, usemultiplicity=define
    use64bitint=define, use64bitall=undef, uselongdouble=undef
    usemymalloc=n, bincompat5005=undef
  Compiler:
    cc='gcc', ccflags =' -s -O2 -DWIN32  -DPERL_TEXTMODE_SCRIPTS -DPERL_IMPLICIT_CONTEXT -DPERL_IMPLICIT_SYS -fwrapv -fno-strict-aliasing -mms-bitfields',
    optimize='-s -O2',
    cppflags='-DWIN32'
    ccversion='', gccversion='4.9.2', gccosandvers=''
    intsize=4, longsize=4, ptrsize=4, doublesize=8, byteorder=12345678, doublekind=3
    d_longlong=define, longlongsize=8, d_longdbl=define, longdblsize=12, longdblkind=3
    ivtype='long long', ivsize=8, nvtype='double', nvsize=8, Off_t='long long', lseeksize=8
    alignbytes=8, prototype=define
  Linker and Libraries:
    ld='g++', ldflags ='-s -L"C:\STRAWB~1\perl\lib\CORE" -L"C:\STRAWB~1\c\lib"'
    libpth=C:\STRAWB~1\c\lib C:\STRAWB~1\c\i686-w64-mingw32\lib C:\STRAWB~1\c\lib\gcc\i686-w64-mingw32\4.9.2
    libs=-lmoldname -lkernel32 -luser32 -lgdi32 -lwinspool -lcomdlg32 -ladvapi32 -lshell32 -lole32 -loleaut32 -lnetapi32 -luuid -lws2_32 -lmpr -lwinmm -lversion -lodbc32 -lodbccp32 -lcomctl32
    perllibs=-lmoldname -lkernel32 -luser32 -lgdi32 -lwinspool -lcomdlg32 -ladvapi32 -lshell32 -lole32 -loleaut32 -lnetapi32 -luuid -lws2_32 -lmpr -lwinmm -lversion -lodbc32 -lodbccp32 -lcomctl32
    libc=, so=dll, useshrplib=true, libperl=libperl522.a
    gnulibc_version=''
  Dynamic Linking:
    dlsrc=dl_win32.xs, dlext=xs.dll, d_dlsymun=undef, ccdlflags=' '
    cccdlflags=' ', lddlflags='-mdll -s -L"C:\STRAWB~1\perl\lib\CORE" -L"C:\STRAWB~1\c\lib"'


Characteristics of this binary (from libperl): 
  Compile-time options: HAS_TIMES HAVE_INTERP_INTERN MULTIPLICITY
                        PERLIO_LAYERS PERL_DONT_CREATE_GVSV
                        PERL_HASH_FUNC_ONE_AT_A_TIME_HARD
                        PERL_IMPLICIT_CONTEXT PERL_IMPLICIT_SYS
                        PERL_MALLOC_WRAP PERL_NEW_COPY_ON_WRITE
                        PERL_PRESERVE_IVUV USE_64_BIT_INT USE_ITHREADS
                        USE_LARGE_FILES USE_LOCALE USE_LOCALE_COLLATE
                        USE_LOCALE_CTYPE USE_LOCALE_NUMERIC USE_LOCALE_TIME
                        USE_PERLIO USE_PERL_ATOF
  Built under MSWin32
  Compiled at Mar 26 2016 14:12:26
  %ENV:
    PERL5LIB="C:\STRAWB~1\cpan\build\Feature-Compat-Try-0.04-ZeuNBl/blib/arch;C:\STRAWB~1\cpan\build\Feature-Compat-Try-0.04-ZeuNBl/blib/lib;C:\STRAWB~1\cpan\build\Syntax-Keyword-Try-0.23-4sgk_V/blib/arch;C:\STRAWB~1\cpan\build\Syntax-Keyword-Try-0.23-4sgk_V/blib/lib;C:\STRAWB~1\cpan\build\Scalar-List-Utils-1.56-kjbEgQ/blib/arch;C:\STRAWB~1\cpan\build\Scalar-List-Utils-1.56-kjbEgQ/blib/lib;C:\STRAWB~1\cpan\build\Mojolicious-8.71-3IqY1G/blib/arch;C:\STRAWB~1\cpan\build\Mojolicious-8.71-3IqY1G/blib/lib;C:\STRAWB~1\cpan\build\Test-JSON-Schema-Acceptance-1.006-LELQsJ/blib/arch;C:\STRAWB~1\cpan\build\Test-JSON-Schema-Acceptance-1.006-LELQsJ/blib/lib;C:\STRAWB~1\cpan\build\MooX-TypeTiny-0.002003-YDCIbO/blib/arch;C:\STRAWB~1\cpan\build\MooX-TypeTiny-0.002003-YDCIbO/blib/lib;C:\STRAWB~1\cpan\build\Moo-2.005004-XqA7yQ/blib/arch;C:\STRAWB~1\cpan\build\Moo-2.005004-XqA7yQ/blib/lib;C:\STRAWB~1\cpan\build\Role-Tiny-2.002004-2Y_ICj/blib/arch;C:\STRAWB~1\cpan\build\Role-Tiny-2.002004-2Y_ICj/blib/lib;C:\STRAWB~1\cpan\build\Sub-Quote-2.006006-hjBBXj/blib/arch;C:\STRAWB~1\cpan\build\Sub-Quote-2.006006-hjBBXj/blib/lib;C:\STRAWB~1\cpan\build\Type-Tiny-1.012001-A_3dS5/blib/arch;C:\STRAWB~1\cpan\build\Type-Tiny-1.012001-A_3dS5/blib/lib;C:\STRAWB~1\cpan\build\Exporter-Tiny-1.002002-KDE13y/blib/arch;C:\STRAWB~1\cpan\build\Exporter-Tiny-1.002002-KDE13y/blib/lib;C:\STRAWB~1\cpan\build\Test2-Suite-0.000139-6Eh1np/blib/arch;C:\STRAWB~1\cpan\build\Test2-Suite-0.000139-6Eh1np/blib/lib;C:\STRAWB~1\cpan\build\Sub-Info-0.002-0gx0zC/blib/arch;C:\STRAWB~1\cpan\build\Sub-Info-0.002-0gx0zC/blib/lib;C:\STRAWB~1\cpan\build\Term-Table-0.015-gvy4GU/blib/arch;C:\STRAWB~1\cpan\build\Term-Table-0.015-gvy4GU/blib/lib;C:\STRAWB~1\cpan\build\Importer-0.026-gsxEzp/blib/arch;C:\STRAWB~1\cpan\build\Importer-0.026-gsxEzp/blib/lib;C:\STRAWB~1\cpan\build\Storable-3.15-qNPces/blib/arch;C:\STRAWB~1\cpan\build\Storable-3.15-qNPces/blib/lib;C:\STRAWB~1\cpan\build\Test-Simple-1.302183-emx4G4/blib/arch;C:\STRAWB~1\cpan\build\Test-Simple-1.302183-emx4G4/blib/lib;C:\STRAWB~1\cpan\build\Ref-Util-0.204-yWdM5j/blib/arch;C:\STRAWB~1\cpan\build\Ref-Util-0.204-yWdM5j/blib/lib;C:\STRAWB~1\cpan\build\Ref-Util-XS-0.117-yJn7tH/blib/arch;C:\STRAWB~1\cpan\build\Ref-Util-XS-0.117-yJn7tH/blib/lib;C:\STRAWB~1\cpan\build\Test-Deep-UnorderedPairs-0.006-WczfTe/blib/arch;C:\STRAWB~1\cpan\build\Test-Deep-UnorderedPairs-0.006-WczfTe/blib/lib;C:\STRAWB~1\cpan\build\JSON-MaybeXS-1.004003-FJBE_A/blib/arch;C:\STRAWB~1\cpan\build\JSON-MaybeXS-1.004003-FJBE_A/blib/lib;C:\STRAWB~1\cpan\build\Test-Needs-0.002006-5chxeR/blib/arch;C:\STRAWB~1\cpan\build\Test-Needs-0.002006-5chxeR/blib/lib"
    PERL5_CPANPLUS_IS_RUNNING="624"
    PERL5_CPAN_IS_RUNNING="624"
    PERL5_CPAN_IS_RUNNING_IN_RECURSION="1964,624"
    PERL_CR_SMOKER_CURRENT="JSON-Schema-Draft201909-0.026"
    PERL_CR_SMOKER_RUNONCE="1"
    PERL_EXTUTILS_AUTOINSTALL="--defaultdeps"
    PERL_HASH_SEED="0x11111111"
    PERL_MM_USE_DEFAULT="1"
  @INC:
    C:\STRAWB~1\cpan\build\Feature-Compat-Try-0.04-ZeuNBl/blib/arch
    C:\STRAWB~1\cpan\build\Feature-Compat-Try-0.04-ZeuNBl/blib/lib
    C:\STRAWB~1\cpan\build\Syntax-Keyword-Try-0.23-4sgk_V/blib/arch
    C:\STRAWB~1\cpan\build\Syntax-Keyword-Try-0.23-4sgk_V/blib/lib
    C:\STRAWB~1\cpan\build\Scalar-List-Utils-1.56-kjbEgQ/blib/arch
    C:\STRAWB~1\cpan\build\Scalar-List-Utils-1.56-kjbEgQ/blib/lib
    C:\STRAWB~1\cpan\build\Mojolicious-8.71-3IqY1G/blib/arch
    C:\STRAWB~1\cpan\build\Mojolicious-8.71-3IqY1G/blib/lib
    C:\STRAWB~1\cpan\build\Test-JSON-Schema-Acceptance-1.006-LELQsJ/blib/arch
    C:\STRAWB~1\cpan\build\Test-JSON-Schema-Acceptance-1.006-LELQsJ/blib/lib
    C:\STRAWB~1\cpan\build\MooX-TypeTiny-0.002003-YDCIbO/blib/arch
    C:\STRAWB~1\cpan\build\MooX-TypeTiny-0.002003-YDCIbO/blib/lib
    C:\STRAWB~1\cpan\build\Moo-2.005004-XqA7yQ/blib/arch
    C:\STRAWB~1\cpan\build\Moo-2.005004-XqA7yQ/blib/lib
    C:\STRAWB~1\cpan\build\Role-Tiny-2.002004-2Y_ICj/blib/arch
    C:\STRAWB~1\cpan\build\Role-Tiny-2.002004-2Y_ICj/blib/lib
    C:\STRAWB~1\cpan\build\Sub-Quote-2.006006-hjBBXj/blib/arch
    C:\STRAWB~1\cpan\build\Sub-Quote-2.006006-hjBBXj/blib/lib
    C:\STRAWB~1\cpan\build\Type-Tiny-1.012001-A_3dS5/blib/arch
    C:\STRAWB~1\cpan\build\Type-Tiny-1.012001-A_3dS5/blib/lib
    C:\STRAWB~1\cpan\build\Exporter-Tiny-1.002002-KDE13y/blib/arch
    C:\STRAWB~1\cpan\build\Exporter-Tiny-1.002002-KDE13y/blib/lib
    C:\STRAWB~1\cpan\build\Test2-Suite-0.000139-6Eh1np/blib/arch
    C:\STRAWB~1\cpan\build\Test2-Suite-0.000139-6Eh1np/blib/lib
    C:\STRAWB~1\cpan\build\Sub-Info-0.002-0gx0zC/blib/arch
    C:\STRAWB~1\cpan\build\Sub-Info-0.002-0gx0zC/blib/lib
    C:\STRAWB~1\cpan\build\Term-Table-0.015-gvy4GU/blib/arch
    C:\STRAWB~1\cpan\build\Term-Table-0.015-gvy4GU/blib/lib
    C:\STRAWB~1\cpan\build\Importer-0.026-gsxEzp/blib/arch
    C:\STRAWB~1\cpan\build\Importer-0.026-gsxEzp/blib/lib
    C:\STRAWB~1\cpan\build\Storable-3.15-qNPces/blib/arch
    C:\STRAWB~1\cpan\build\Storable-3.15-qNPces/blib/lib
    C:\STRAWB~1\cpan\build\Test-Simple-1.302183-emx4G4/blib/arch
    C:\STRAWB~1\cpan\build\Test-Simple-1.302183-emx4G4/blib/lib
    C:\STRAWB~1\cpan\build\Ref-Util-0.204-yWdM5j/blib/arch
    C:\STRAWB~1\cpan\build\Ref-Util-0.204-yWdM5j/blib/lib
    C:\STRAWB~1\cpan\build\Ref-Util-XS-0.117-yJn7tH/blib/arch
    C:\STRAWB~1\cpan\build\Ref-Util-XS-0.117-yJn7tH/blib/lib
    C:\STRAWB~1\cpan\build\Test-Deep-UnorderedPairs-0.006-WczfTe/blib/arch
    C:\STRAWB~1\cpan\build\Test-Deep-UnorderedPairs-0.006-WczfTe/blib/lib
    C:\STRAWB~1\cpan\build\JSON-MaybeXS-1.004003-FJBE_A/blib/arch
    C:\STRAWB~1\cpan\build\JSON-MaybeXS-1.004003-FJBE_A/blib/lib
    C:\STRAWB~1\cpan\build\Test-Needs-0.002006-5chxeR/blib/arch
    C:\STRAWB~1\cpan\build\Test-Needs-0.002006-5chxeR/blib/lib
    C:/Strawberry221/perl/site/lib
    C:/Strawberry221/perl/vendor/lib
    C:/Strawberry221/perl/lib
    .