Dancer2-Plugin-DBIx-Class v1.1001 Perl 5 v5.24.1 amd64-freebsd

Status
Pass
From
Slaven Rezić
Dist
Dancer2-Plugin-DBIx-Class v1.1001
Platform
Perl 5 v5.24.1 amd64-freebsd
Date
2022-05-24 23:34:19
ID
085505f0-dbba-11ec-8d67-0c8a2cbfd570
This distribution has been tested as part of the CPAN Testers
project, supporting the Perl programming language.  See
http://wiki.cpantesters.org/ for more information or email
questions to cpan-testers-discuss@perl.org


--
Dear D Ruth Holloway,

This is a computer-generated report for Dancer2-Plugin-DBIx-Class-1.1001
on perl 5.24.1, created by CPAN-Reporter-1.2018.

Thank you for uploading your work to CPAN.  Congratulations!
All tests were successful.

Sections of this report:

    * Tester comments
    * Program output
    * Prerequisites
    * Environment and other context

------------------------------
TESTER COMMENTS
------------------------------

Additional comments from tester:

none provided

------------------------------
PROGRAM OUTPUT
------------------------------

Output from '/usr/bin/make test':

PERL_DL_NONLAZY=1 "/usr/perl5.24.1p/bin/perl5.24.1" "-MExtUtils::Command::MM" "-MTest::Harness" "-e" "undef *Test::Harness::Switches; test_harness(0, 'blib/lib', 'blib/arch')" t/*.t
t/00-compile.t ................ ok
# 
# Versions for all modules listed in MYMETA.json (including optional ones):
# 
# === Configure Requires ===
# 
#     Module              Want Have
#     ------------------- ---- ----
#     ExtUtils::MakeMaker  any 7.64
# 
# === Build Requires ===
# 
#     Module              Want Have
#     ------------------- ---- ----
#     ExtUtils::MakeMaker  any 7.64
# 
# === Test Requires ===
# 
#     Module                              Want     Have
#     ----------------------------------- ---- --------
#     DBIx::Class::Core                    any    undef
#     DBIx::Class::Schema                  any    undef
#     DBIx::Class::Schema::ResultSetNames  any     1.02
#     Dancer2                              any 0.400000
#     ExtUtils::MakeMaker                  any     7.64
#     File::Spec                           any     3.75
#     HTTP::Request::Common                any     6.36
#     IO::Handle                           any     1.48
#     IPC::Open3                           any     1.20
#     JSON::MaybeXS                        any 1.004003
#     Plack::Test                          any    undef
#     Test2::V0                            any 0.000145
#     Test::More                           any 1.302190
#     base                                 any     2.23
#     lib                                  any     0.63
#     strict                               any     1.11
#     warnings                             any     1.36
# 
# === Test Recommends ===
# 
#     Module         Want     Have
#     ---------- -------- --------
#     CPAN::Meta 2.120900 2.150010
# 
# === Runtime Requires ===
# 
#     Module                       Want       Have
#     ------------------------ -------- ----------
#     Carp                          any       1.50
#     Class::C3::Componentised      any   1.001002
#     Dancer2::Plugin          0.154000   0.400000
#     Modern::Perl                  any 1.20220515
#     Moo                           any   2.005004
#     curry                    2.000001   2.000001
# 
t/00-report-prereqs.t ......... ok
t/00_core_keywords.t .......... ok
t/01_both_using_rsnames.t ..... ok
t/02_first_using_rsnames.t .... ok
t/03_second_using_rsnames.t ... ok
t/04_neither_using_rsnames.t .. ok
All tests successful.
Files=7, Tests=8, 13 wallclock secs ( 0.02 usr  0.02 sys +  2.62 cusr  1.57 csys =  4.24 CPU)
Result: PASS

------------------------------
PREREQUISITES
------------------------------

Prerequisite modules loaded:

requires:

    Module                              Need     Have      
    ----------------------------------- -------- ----------
    Carp                                0        1.50      
    Class::C3::Componentised            0        1.001002  
    curry                               2.000001 2.000001  
    Dancer2::Plugin                     0.154000 0.400000  
    Modern::Perl                        0        1.20220515
    Moo                                 0        2.005004  
    perl                                5.006    5.024001  

build_requires:

    Module                              Need     Have      
    ----------------------------------- -------- ----------
    base                                0        2.23      
    Dancer2                             0        0.400000  
    DBIx::Class::Core                   0        0         
    DBIx::Class::Schema                 0        0         
    DBIx::Class::Schema::ResultSetNames 0        1.02      
    ExtUtils::MakeMaker                 0        7.64      
    File::Spec                          0        3.75      
    HTTP::Request::Common               0        6.36      
    IO::Handle                          0        1.48      
    IPC::Open3                          0        1.20      
    JSON::MaybeXS                       0        1.004003  
    lib                                 0        0.63      
    Plack::Test                         0        0         
    strict                              0        1.11      
    Test2::V0                           0        0.000145  
    Test::More                          0        1.302190  
    warnings                            0        1.36      

configure_requires:

    Module                              Need     Have      
    ----------------------------------- -------- ----------
    ExtUtils::MakeMaker                 0        7.64      
    perl                                5.006    5.024001  


------------------------------
ENVIRONMENT AND OTHER CONTEXT
------------------------------

Environment variables:

    LC_ALL = de_DE.ISO8859-1
    PATH = /usr/local/bin:/usr/bin:/bin:/usr/local/sbin:/usr/sbin:/sbin:/home/cpansand/bin/freebsd10.3:/home/cpansand/bin/sh:/home/cpansand/bin:/usr/games:/home/cpansand/devel:/home/eserte/src/srezic-misc/scripts
    PERL5LIB = /home/cpansand/.cpan/build/2022052501/curry-2.000001-1/blib/arch:/home/cpansand/.cpan/build/2022052501/curry-2.000001-1/blib/lib
    PERL5OPT = 
    PERL5_CPANPLUS_IS_RUNNING = 11762
    PERL5_CPAN_IS_RUNNING = 11762
    PERL5_CPAN_IS_RUNNING_IN_RECURSION = 58423,11762
    PERLDOC = -MPod::Perldoc::ToTextOverstrike
    PERL_BATCH = yes
    PERL_CANARY_STABILITY_NOPROMPT = 1
    PERL_CPAN_REPORTER_CONFIG = /var/tmp/cpansmoker-1023/2022052420/cpanreporter_000_config.ini
    PERL_EXTUTILS_AUTOINSTALL = --defaultdeps
    PERL_USE_UNSAFE_INC = 1
    SHELL = /usr/local/bin/zsh
    TERM = screen
    TMPDIR = /var/tmp/cpansmoker-1023/2022052420

Perl special variables (and OS-specific diagnostics, for MSWin32):

    $^X = /usr/perl5.24.1p/bin/perl5.24.1
    $UID/$EUID = 1023 / 1023
    $GID = 1023 1023
    $EGID = 1023 1023

Perl module toolchain versions installed:

    Module              Have    
    ------------------- --------
    CPAN                2.34    
    CPAN::Meta          2.150010
    Cwd                 3.75    
    ExtUtils::CBuilder  0.280235
    ExtUtils::Command   7.64    
    ExtUtils::Install   2.20    
    ExtUtils::MakeMaker 7.64    
    ExtUtils::Manifest  1.71    
    ExtUtils::ParseXS   3.35    
    File::Spec          3.75    
    JSON                4.05    
    JSON::PP            4.08    
    Module::Build       0.4229  
    Module::Signature   0.87    
    Parse::CPAN::Meta   2.150010
    Test::Harness       3.44    
    Test::More          1.302190
    YAML                1.30    
    YAML::Syck          1.34    
    version             0.9928  


--

Summary of my perl5 (revision 5 version 24 subversion 1) configuration:
   
  Platform:
    osname=freebsd, osvers=10.1-release, archname=amd64-freebsd
    uname='freebsd cvrsnica-freebsd-101.herceg.de 10.1-release freebsd 10.1-release #0 r274401: tue nov 11 21:02:49 utc 2014 root@releng1.nyi.freebsd.org:usrobjusrsrcsysgeneric amd64 '
    config_args='-ds -e -Dprefix=/usr/perl5.24.1p -Dcf_email=srezic@cpan.org -Doptimize=-O2 -pipe'
    hint=recommended, useposix=true, d_sigaction=define
    useithreads=undef, usemultiplicity=undef
    use64bitint=define, use64bitall=define, uselongdouble=undef
    usemymalloc=n, bincompat5005=undef
  Compiler:
    cc='cc', ccflags ='-DHAS_FPSETMASK -DHAS_FLOATINGPOINT_H -fno-strict-aliasing -pipe -fstack-protector -I/usr/local/include -D_FORTIFY_SOURCE=2',
    optimize='-O2 -pipe',
    cppflags='-DHAS_FPSETMASK -DHAS_FLOATINGPOINT_H -fno-strict-aliasing -pipe -fstack-protector -I/usr/local/include'
    ccversion='', gccversion='4.2.1 Compatible FreeBSD Clang 3.4.1 (tags/RELEASE_34/dot1-final 208032)', gccosandvers=''
    intsize=4, longsize=8, ptrsize=8, doublesize=8, byteorder=12345678, doublekind=3
    d_longlong=define, longlongsize=8, d_longdbl=define, longdblsize=16, longdblkind=3
    ivtype='long', ivsize=8, nvtype='double', nvsize=8, Off_t='off_t', lseeksize=8
    alignbytes=8, prototype=define
  Linker and Libraries:
    ld='cc', ldflags ='-pthread -Wl,-E  -fstack-protector -L/usr/local/lib'
    libpth=/usr/lib /usr/local/lib /usr/include/clang/3.4.1 /usr/lib
    libs=-lpthread -lgdbm -lm -lcrypt -lutil -lc
    perllibs=-lpthread -lm -lcrypt -lutil -lc
    libc=, so=so, useshrplib=false, libperl=libperl.a
    gnulibc_version=''
  Dynamic Linking:
    dlsrc=dl_dlopen.xs, dlext=so, d_dlsymun=undef, ccdlflags=' '
    cccdlflags='-DPIC -fPIC', lddlflags='-shared  -L/usr/local/lib -fstack-protector'


Characteristics of this binary (from libperl): 
  Compile-time options: HAS_TIMES PERLIO_LAYERS PERL_COPY_ON_WRITE
                        PERL_DONT_CREATE_GVSV
                        PERL_HASH_FUNC_ONE_AT_A_TIME_HARD PERL_MALLOC_WRAP
                        PERL_PRESERVE_IVUV USE_64_BIT_ALL USE_64_BIT_INT
                        USE_LARGE_FILES USE_LOCALE USE_LOCALE_COLLATE
                        USE_LOCALE_CTYPE USE_LOCALE_NUMERIC USE_LOCALE_TIME
                        USE_PERLIO USE_PERL_ATOF
  Built under freebsd
  Compiled at Jan 15 2017 11:45:26
  %ENV:
    PERL5LIB="/home/cpansand/.cpan/build/2022052501/curry-2.000001-1/blib/arch:/home/cpansand/.cpan/build/2022052501/curry-2.000001-1/blib/lib"
    PERL5OPT=""
    PERL5_CPANPLUS_IS_RUNNING="11762"
    PERL5_CPAN_IS_RUNNING="11762"
    PERL5_CPAN_IS_RUNNING_IN_RECURSION="58423,11762"
    PERLDOC="-MPod::Perldoc::ToTextOverstrike"
    PERL_BATCH="yes"
    PERL_CANARY_STABILITY_NOPROMPT="1"
    PERL_CPAN_REPORTER_CONFIG="/var/tmp/cpansmoker-1023/2022052420/cpanreporter_000_config.ini"
    PERL_EXTUTILS_AUTOINSTALL="--defaultdeps"
    PERL_USE_UNSAFE_INC="1"
  @INC:
    /home/cpansand/.cpan/build/2022052501/curry-2.000001-1/blib/arch
    /home/cpansand/.cpan/build/2022052501/curry-2.000001-1/blib/lib
    /usr/perl5.24.1p/lib/site_perl/5.24.1/amd64-freebsd
    /usr/perl5.24.1p/lib/site_perl/5.24.1
    /usr/perl5.24.1p/lib/5.24.1/amd64-freebsd
    /usr/perl5.24.1p/lib/5.24.1
    .