Dancer2-Plugin-Auth-Extensible-Provider-DBIxClass v0.0902 Perl 5 v5.26.1 MSWin32-x86-multi-thread-64int

Status
Pass
From
Alexandr Ciornii (CHORNY)
Dist
Dancer2-Plugin-Auth-Extensible-Provider-DBIxClass v0.0902
Platform
Perl 5 v5.26.1 MSWin32-x86-multi-thread-64int
Date
2022-05-22 11:41:14
ID
078f8ec4-6bf4-1014-bf76-c38ba1fa37de
This distribution has been tested as part of the CPAN Testers
project, supporting the Perl programming language.  See
http://wiki.cpantesters.org/ for more information or email
questions to cpan-testers-discuss@perl.org


--
Dear D Ruth Holloway,

This is a computer-generated report for Dancer2-Plugin-Auth-Extensible-Provider-DBIxClass-0.0902
on perl 5.26.1, created by CPAN-Reporter-1.2018.

Thank you for uploading your work to CPAN.  Congratulations!
All tests were successful.

Sections of this report:

    * Tester comments
    * Program output
    * Prerequisites
    * Environment and other context

------------------------------
TESTER COMMENTS
------------------------------

Additional comments from tester:

this report is from an automated smoke testing program
and was not reviewed by a human for accuracy

------------------------------
PROGRAM OUTPUT
------------------------------

Output from 'C:\STRAWB~1\c\bin\gmake.exe test':

"C:\Strawberry261\perl\bin\perl.exe" "-MExtUtils::Command::MM" "-MTest::Harness" "-e" "undef *Test::Harness::Switches; test_harness(0, 'blib\lib', 'blib\arch')" t/*.t
t/00-compile.t ....................... ok
# 
# Versions for all modules listed in MYMETA.json (including optional ones):
# 
# === Configure Requires ===
# 
#     Module              Want Have
#     ------------------- ---- ----
#     ExtUtils::MakeMaker  any 7.34
# 
# === Build Requires ===
# 
#     Module              Want Have
#     ------------------- ---- ----
#     ExtUtils::MakeMaker  any 7.34
# 
# === Test Requires ===
# 
#     Module                                        Want        Have
#     -------------------------------------------- ----- -----------
#     DBIx::Class::Core                              any       undef
#     DBIx::Class::Schema                            any       undef
#     Dancer2                                        any 0.206000_02
#     Dancer2::Plugin::Auth::Extensible            0.620       0.705
#     Dancer2::Plugin::Auth::Extensible::Test        any       0.705
#     Dancer2::Plugin::Auth::Extensible::Test::App   any       0.705
#     Dancer2::Plugin::DBIx::Class                   any        1.06
#     DateTime::Format::SQLite                       any        0.11
#     ExtUtils::MakeMaker                            any        7.34
#     File::Spec                                     any        3.74
#     HTTP::Cookies                                  any        6.04
#     HTTP::Request::Common                          any        6.16
#     IO::Handle                                     any        1.36
#     IPC::Open3                                     any        1.20
#     Plack::Test                                    any       undef
#     SQL::Translator                                any     0.11024
#     Test::Deep                                     any       1.127
#     Test::MockObject                               any  1.20161202
#     Test::More                                     any    1.302135
#     Test::Warn                                     any        0.32
#     base                                           any        2.26
#     lib                                            any        0.64
#     strict                                         any        1.11
#     warnings                                       any        1.37
# 
# === Test Recommends ===
# 
#     Module         Want     Have
#     ---------- -------- --------
#     CPAN::Meta 2.120900 2.150010
# 
# === Runtime Requires ===
# 
#     Module                                            Want        Have
#     ------------------------------------------------- ---- -----------
#     Carp                                               any        1.42
#     DBIx::Class::ResultClass::HashRefInflator          any       undef
#     Dancer2::Core::Types                               any 0.206000_02
#     Dancer2::Plugin::Auth::Extensible::Role::Provider  any       0.705
#     DateTime                                           any        1.48
#     Modern::Perl                                       any  1.20170117
#     Moo                                                any    2.003004
#     Scalar::Util                                       any        1.50
#     String::CamelCase                                  any        0.04
#     namespace::clean                                   any        0.27
# 
t/00-report-prereqs.t ................ ok
t/01-deprecation.t ................... ok
Any::Moose is deprecated. Please use Moo instead at C:/Strawberry261/perl/site/lib/Crypt/Random/Source/Strong/Win32.pm line 3.
t/02-provider-dbixclass.t ............ ok
Any::Moose is deprecated. Please use Moo instead at C:/Strawberry261/perl/site/lib/Crypt/Random/Source/Strong/Win32.pm line 3.
t/03-provider-dbic-user_as_object.t .. ok
All tests successful.
Files=5, Tests=60, 32 wallclock secs ( 0.14 usr +  0.07 sys =  0.21 CPU)
Result: PASS

------------------------------
PREREQUISITES
------------------------------

Prerequisite modules loaded:

requires:

    Module                                            Need  Have       
    ------------------------------------------------- ----- -----------
    Carp                                              0     1.42       
    Dancer2::Core::Types                              0     0.206000_02
    Dancer2::Plugin::Auth::Extensible::Role::Provider 0     0.705      
    DateTime                                          0     1.48       
    DBIx::Class::ResultClass::HashRefInflator         0     0          
    Modern::Perl                                      0     1.20170117 
    Moo                                               0     2.003004   
    namespace::clean                                  0     0.27       
    perl                                              5.006 5.026001   
    Scalar::Util                                      0     1.50       
    String::CamelCase                                 0     0.04       

build_requires:

    Module                                            Need  Have       
    ------------------------------------------------- ----- -----------
    base                                              0     2.26       
    Dancer2                                           0     0.206000_02
    Dancer2::Plugin::Auth::Extensible                 0.620 0.705      
    Dancer2::Plugin::Auth::Extensible::Test           0     0.705      
  ! Dancer2::Plugin::Auth::Extensible::Test::App      0     broken     
    Dancer2::Plugin::DBIx::Class                      0     1.06       
    DateTime::Format::SQLite                          0     0.11       
    DBIx::Class::Core                                 0     0          
    DBIx::Class::Schema                               0     0          
    ExtUtils::MakeMaker                               0     7.34       
    File::Spec                                        0     3.74       
    HTTP::Cookies                                     0     6.04       
    HTTP::Request::Common                             0     6.16       
    IO::Handle                                        0     1.36       
    IPC::Open3                                        0     1.20       
    lib                                               0     0.64       
    Plack::Test                                       0     0          
    SQL::Translator                                   0     0.11024    
    strict                                            0     1.11       
    Test::Deep                                        0     1.127      
    Test::MockObject                                  0     1.20161202 
    Test::More                                        0     1.302135   
    Test::Warn                                        0     0.32       
    warnings                                          0     1.37       

configure_requires:

    Module                                            Need  Have       
    ------------------------------------------------- ----- -----------
    ExtUtils::MakeMaker                               0     7.34       
    perl                                              5.006 5.026001   


------------------------------
ENVIRONMENT AND OTHER CONTEXT
------------------------------

Environment variables:

    AUTOMATED_TESTING = 1
    COMSPEC = C:\WINDOWS\system32\cmd.exe
    NUMBER_OF_PROCESSORS = 1
    PATH = C:\WINDOWS\system32;C:\WINDOWS;C:\WINDOWS\System32\Wbem;C:\Git\cmd;C:\Strawberry261\c\bin;C:\Strawberry261\perl\site\bin;C:\Strawberry261\perl\bin
    PERL5LIB = C:\STRAWB~1\cpan\build\Dancer2-Plugin-DBIx-Class-1.06-0/blib/arch;C:\STRAWB~1\cpan\build\Dancer2-Plugin-DBIx-Class-1.06-0/blib/lib;C:\STRAWB~1\cpan\build\DBIx-Class-Schema-ResultSetNames-1.03-0/blib/arch;C:\STRAWB~1\cpan\build\DBIx-Class-Schema-ResultSetNames-1.03-0/blib/lib
    PERL5OPT = 
    PERL5_CPANPLUS_IS_RUNNING = 1788
    PERL5_CPAN_IS_RUNNING = 1788
    PERL5_CPAN_IS_RUNNING_IN_RECURSION = 1480,1788
    PERL_CR_SMOKER_CURRENT = Dancer2-Plugin-Auth-Extensible-Provider-DBIxClass-0.0902
    PERL_CR_SMOKER_RUNONCE = 1
    PERL_EXTUTILS_AUTOINSTALL = --defaultdeps
    PERL_HASH_SEED = 0x11111111
    PERL_MM_USE_DEFAULT = 1
    PERL_USE_UNSAFE_INC = 1
    PROCESSOR_IDENTIFIER = x86 Family 16 Model 5 Stepping 3, AuthenticAMD
    TEMP = C:\DOCUME~1\a\LOCALS~1\Temp

Perl special variables (and OS-specific diagnostics, for MSWin32):

    $^X = C:\Strawberry261\perl\bin\perl.exe
    $UID/$EUID = 0 / 0
    $GID = 0
    $EGID = 0
    Win32::GetOSName = WinXP/.Net
    Win32::GetOSVersion = Service Pack 3, 5, 1, 2600, 2, 3, 0, 256, 1
    Win32::FsType = NTFS
    Win32::IsAdminUser = 1

Perl module toolchain versions installed:

    Module              Have    
    ------------------- --------
    CPAN                2.18    
    CPAN::Meta          2.150010
    Cwd                 3.74    
    ExtUtils::CBuilder  0.280230
    ExtUtils::Command   7.34    
    ExtUtils::Install   2.14    
    ExtUtils::MakeMaker 7.34    
    ExtUtils::Manifest  1.70    
    ExtUtils::ParseXS   3.35    
    File::Spec          3.74    
    JSON                2.97001 
    JSON::PP            2.97001 
    Module::Build       0.4224  
    Module::Signature   0.81    
    Parse::CPAN::Meta   2.150010
    Test::Harness       3.42    
    Test::More          1.302135
    YAML                1.24    
    YAML::Syck          1.30    
    version             0.9918  


--

Summary of my perl5 (revision 5 version 26 subversion 1) configuration:
   
  Platform:
    osname=MSWin32
    osvers=4.0
    archname=MSWin32-x86-multi-thread-64int
    uname='Win32 strawberry-perl 5.26.1.1 #1 Mon Apr  2 23:57:52 2018 i386'
    config_args='undef'
    hint=recommended
    useposix=true
    d_sigaction=undef
    useithreads=define
    usemultiplicity=define
    use64bitint=define
    use64bitall=undef
    uselongdouble=undef
    usemymalloc=n
    default_inc_excludes_dot=define
    bincompat5005=undef
  Compiler:
    cc='gcc'
    ccflags =' -s -O2 -DWIN32 -D__USE_MINGW_ANSI_STDIO -DPERL_TEXTMODE_SCRIPTS -DPERL_IMPLICIT_CONTEXT -DPERL_IMPLICIT_SYS -DUSE_PERLIO -fwrapv -fno-strict-aliasing -mms-bitfields'
    optimize='-s -O2'
    cppflags='-DWIN32'
    ccversion=''
    gccversion='7.1.0'
    gccosandvers=''
    intsize=4
    longsize=4
    ptrsize=4
    doublesize=8
    byteorder=12345678
    doublekind=3
    d_longlong=define
    longlongsize=8
    d_longdbl=define
    longdblsize=12
    longdblkind=3
    ivtype='long long'
    ivsize=8
    nvtype='double'
    nvsize=8
    Off_t='long long'
    lseeksize=8
    alignbytes=8
    prototype=define
  Linker and Libraries:
    ld='g++'
    ldflags ='-s -L"C:\STRAWB~1\perl\lib\CORE" -L"C:\STRAWB~1\c\lib"'
    libpth=C:\STRAWB~1\c\lib C:\STRAWB~1\c\i686-w64-mingw32\lib C:\STRAWB~1\c\lib\gcc\i686-w64-mingw32\7.1.0
    libs= -lmoldname -lkernel32 -luser32 -lgdi32 -lwinspool -lcomdlg32 -ladvapi32 -lshell32 -lole32 -loleaut32 -lnetapi32 -luuid -lws2_32 -lmpr -lwinmm -lversion -lodbc32 -lodbccp32 -lcomctl32
    perllibs= -lmoldname -lkernel32 -luser32 -lgdi32 -lwinspool -lcomdlg32 -ladvapi32 -lshell32 -lole32 -loleaut32 -lnetapi32 -luuid -lws2_32 -lmpr -lwinmm -lversion -lodbc32 -lodbccp32 -lcomctl32
    libc=
    so=dll
    useshrplib=true
    libperl=libperl526.a
    gnulibc_version=''
  Dynamic Linking:
    dlsrc=dl_win32.xs
    dlext=xs.dll
    d_dlsymun=undef
    ccdlflags=' '
    cccdlflags=' '
    lddlflags='-mdll -s -L"C:\STRAWB~1\perl\lib\CORE" -L"C:\STRAWB~1\c\lib"'


Characteristics of this binary (from libperl): 
  Compile-time options:
    HAS_TIMES
    HAVE_INTERP_INTERN
    MULTIPLICITY
    PERLIO_LAYERS
    PERL_COPY_ON_WRITE
    PERL_DONT_CREATE_GVSV
    PERL_IMPLICIT_CONTEXT
    PERL_IMPLICIT_SYS
    PERL_MALLOC_WRAP
    PERL_OP_PARENT
    PERL_PRESERVE_IVUV
    USE_64_BIT_INT
    USE_ITHREADS
    USE_LARGE_FILES
    USE_LOCALE
    USE_LOCALE_COLLATE
    USE_LOCALE_CTYPE
    USE_LOCALE_NUMERIC
    USE_LOCALE_TIME
    USE_PERLIO
    USE_PERL_ATOF
  Built under MSWin32
  Compiled at Apr  3 2018 00:07:56
  %ENV:
    PERL5LIB="C:\STRAWB~1\cpan\build\Dancer2-Plugin-DBIx-Class-1.06-0/blib/arch;C:\STRAWB~1\cpan\build\Dancer2-Plugin-DBIx-Class-1.06-0/blib/lib;C:\STRAWB~1\cpan\build\DBIx-Class-Schema-ResultSetNames-1.03-0/blib/arch;C:\STRAWB~1\cpan\build\DBIx-Class-Schema-ResultSetNames-1.03-0/blib/lib"
    PERL5_CPANPLUS_IS_RUNNING="1788"
    PERL5_CPAN_IS_RUNNING="1788"
    PERL5_CPAN_IS_RUNNING_IN_RECURSION="1480,1788"
    PERL_CR_SMOKER_CURRENT="Dancer2-Plugin-Auth-Extensible-Provider-DBIxClass-0.0902"
    PERL_CR_SMOKER_RUNONCE="1"
    PERL_EXTUTILS_AUTOINSTALL="--defaultdeps"
    PERL_HASH_SEED="0x11111111"
    PERL_MM_USE_DEFAULT="1"
    PERL_USE_UNSAFE_INC="1"
  @INC:
    C:\STRAWB~1\cpan\build\Dancer2-Plugin-DBIx-Class-1.06-0/blib/arch
    C:\STRAWB~1\cpan\build\Dancer2-Plugin-DBIx-Class-1.06-0/blib/lib
    C:\STRAWB~1\cpan\build\DBIx-Class-Schema-ResultSetNames-1.03-0/blib/arch
    C:\STRAWB~1\cpan\build\DBIx-Class-Schema-ResultSetNames-1.03-0/blib/lib
    C:/Strawberry261/perl/site/lib
    C:/Strawberry261/perl/vendor/lib
    C:/Strawberry261/perl/lib
    .