Yancy v1.080 Perl 5 v5.24.0 x86_64-linux
- Status
- Pass
- From
- Slaven Rezić
- Dist
-
Yancy v1.080
- Platform
- Perl 5 v5.24.0 x86_64-linux
- Date
- 2021-10-25 01:01:03
- ID
- 06f8ff86-352f-11ec-abdf-bf3d1f24ea8f
This distribution has been tested as part of the CPAN Testers
project, supporting the Perl programming language. See
http://wiki.cpantesters.org/ for more information or email
questions to cpan-testers-discuss@perl.org
--
Dear Doug Bell,
This is a computer-generated report for Yancy-1.080
on perl 5.24.0, created by CPAN-Reporter-1.2018.
Thank you for uploading your work to CPAN. Congratulations!
All tests were successful.
Sections of this report:
* Tester comments
* Program output
* Prerequisites
* Environment and other context
------------------------------
TESTER COMMENTS
------------------------------
Additional comments from tester:
none provided
------------------------------
PROGRAM OUTPUT
------------------------------
Output from '/usr/bin/make test':
Skip blib/lib/auto/share/dist/Yancy/update_resources.sh (unchanged)
PERL_DL_NONLAZY=1 "/opt/perl-5.24.0/bin/perl" "-MExtUtils::Command::MM" "-MTest::Harness" "-e" "undef *Test::Harness::Switches; test_harness(0, 'blib/lib', 'blib/arch')" t/*.t t/backend/*.t t/command/backend/*.t t/controller/*.t t/examples/*.t t/plugin/*.t t/plugin/auth/*.t t/plugin/form/*.t
t/00-compile.t ............... ok
#
# Versions for all modules listed in MYMETA.json (including optional ones):
#
# === Configure Requires ===
#
# Module Want Have
# ----------------------- ---- ----
# ExtUtils::MakeMaker any 7.24
# File::ShareDir::Install 0.06 0.11
#
# === Configure Suggests ===
#
# Module Want Have
# -------- ------- -------
# JSON::PP 2.27300 2.27300
#
# === Build Requires ===
#
# Module Want Have
# ------------------- ---- ----
# ExtUtils::MakeMaker any 7.24
#
# === Test Requires ===
#
# Module Want Have
# ------------------- -------- --------
# ExtUtils::MakeMaker any 7.24
# File::Spec any 3.63
# File::Temp 0.2307 0.2311
# IO::Handle any 1.36
# IPC::Open3 any 1.20
# Test::More 1.001005 1.302052
#
# === Test Recommends ===
#
# Module Want Have
# ---------- -------- --------
# CPAN::Meta 2.120900 2.150010
#
# === Runtime Requires ===
#
# Module Want Have
# ---------------------------- -------- --------
# Class::Method::Modifiers any 2.12
# Digest any 1.17
# Exporter any 5.72
# File::Spec::Functions any 3.63
# FindBin any 1.51
# JSON::Validator 5.00 5.02
# Mojolicious 9 9.22
# Mojolicious::Plugin::I18N 1.6 1.6
# Mojolicious::Plugin::OpenAPI 5.00 5.00
# Role::Tiny 2.000001 2.000003
# Scalar::Util any 1.45
# Sys::Hostname any 1.20
# Text::Balanced any 2.03
#
t/00-report-prereqs.t ........ ok
x-view is deprecated and will be removed in v2. Use Yancy::Model or your database's CREATE VIEW instead. at /home/cpansand/.cpan/build/2021102502/Mojolicious-9.22-2/blib/lib/Mojolicious/Plugins.pm line 45.
t/api.t ...................... ok
t/app.t ...................... ok
t/backend/dbic.t ............. skipped: DBIx::Class >= 0.082842 required for this test
t/backend/mock.t ............. ok
t/backend/mysql.t ............ skipped: Mojo::mysql >= 1.0 required for this test
t/backend/pg.t ............... skipped: Mojo::Pg >= 3.0 required for this test
t/backend/sqlite.t ........... skipped: DBD::SQLite >= 1.56 required for this test
x-view is deprecated and will be removed in v2. Use Yancy::Model or your database's CREATE VIEW instead. at /home/cpansand/.cpan/build/2021102502/Mojolicious-9.22-2/blib/lib/Mojolicious/Plugins.pm line 45.
t/command/backend/copy.t ..... ok
x-view is deprecated and will be removed in v2. Use Yancy::Model or your database's CREATE VIEW instead. at /home/cpansand/.cpan/build/2021102502/Mojolicious-9.22-2/blib/lib/Mojolicious/Plugins.pm line 45.
t/config.t ................... ok
x-view is deprecated and will be removed in v2. Use Yancy::Model or your database's CREATE VIEW instead. at /home/cpansand/.cpan/build/2021102502/Mojolicious-9.22-2/blib/lib/Mojolicious/Plugins.pm line 45.
t/controller/multi_tenant.t .. ok
x-view is deprecated and will be removed in v2. Use Yancy::Model or your database's CREATE VIEW instead. at /home/cpansand/.cpan/build/2021102502/Mojolicious-9.22-2/blib/lib/Mojolicious/Plugins.pm line 45.
t/controller/yancy.t ......... ok
t/examples/doc-site.t ........ skipped: Set TEST_YANCY_EXAMPLES to run these tests
t/examples/limited-editor.t .. skipped: Set TEST_YANCY_EXAMPLES to run these tests
t/examples/test-app.t ........ skipped: Set TEST_YANCY_EXAMPLES to run these tests
t/examples/todo-app.t ........ skipped: Set TEST_YANCY_EXAMPLES to run these tests
x-view is deprecated and will be removed in v2. Use Yancy::Model or your database's CREATE VIEW instead. at /home/cpansand/.cpan/build/2021102502/Mojolicious-9.22-2/blib/lib/Mojolicious/Plugins.pm line 45.
[2021-10-25 02:59:56.69611] [4368] [fatal] [8MzIHz4JYJ9N] Unknown filter: DOES.NOT.EXIST (schema: user, field: email) at /home/cpansand/.cpan/build/2021102502/Yancy-1.080-2/blib/lib/Mojolicious/Plugin/Yancy.pm line 977.
t/filter.t ................... ok
x-view is deprecated and will be removed in v2. Use Yancy::Model or your database's CREATE VIEW instead. at /home/cpansand/.cpan/build/2021102502/Mojolicious-9.22-2/blib/lib/Mojolicious/Plugins.pm line 45.
t/helpers.t .................. ok
x-view is deprecated and will be removed in v2. Use Yancy::Model or your database's CREATE VIEW instead. at /home/cpansand/.cpan/build/2021102502/Mojolicious-9.22-2/blib/lib/Mojolicious/Plugins.pm line 45.
t/i18n.t ..................... ok
t/model.t .................... ok
x-view is deprecated and will be removed in v2. Use Yancy::Model or your database's CREATE VIEW instead. at /home/cpansand/.cpan/build/2021102502/Mojolicious-9.22-2/blib/lib/Mojolicious/Plugins.pm line 45.
t/plugin/auth.t .............. ok
x-view is deprecated and will be removed in v2. Use Yancy::Model or your database's CREATE VIEW instead. at /home/cpansand/.cpan/build/2021102502/Mojolicious-9.22-2/blib/lib/Mojolicious/Plugins.pm line 45.
The Auth::Basic plugin is deprecated and will be removed in Yancy v2.000. Please migrate to the Auth::Password module.
at /home/cpansand/.cpan/build/2021102502/Yancy-1.080-2/blib/lib/Yancy/Plugin/Auth/Basic.pm line 256.
t/plugin/auth/basic.t ........ ok
x-view is deprecated and will be removed in v2. Use Yancy::Model or your database's CREATE VIEW instead. at /home/cpansand/.cpan/build/2021102502/Mojolicious-9.22-2/blib/lib/Mojolicious/Plugins.pm line 45.
t/plugin/auth/github.t ....... ok
x-view is deprecated and will be removed in v2. Use Yancy::Model or your database's CREATE VIEW instead. at /home/cpansand/.cpan/build/2021102502/Mojolicious-9.22-2/blib/lib/Mojolicious/Plugins.pm line 45.
t/plugin/auth/oauth2.t ....... ok
x-view is deprecated and will be removed in v2. Use Yancy::Model or your database's CREATE VIEW instead. at /home/cpansand/.cpan/build/2021102502/Mojolicious-9.22-2/blib/lib/Mojolicious/Plugins.pm line 45.
t/plugin/auth/password.t ..... ok
x-view is deprecated and will be removed in v2. Use Yancy::Model or your database's CREATE VIEW instead. at /home/cpansand/.cpan/build/2021102502/Mojolicious-9.22-2/blib/lib/Mojolicious/Plugins.pm line 45.
t/plugin/auth/token.t ........ ok
t/plugin/editor.t ............ ok
x-view is deprecated and will be removed in v2. Use Yancy::Model or your database's CREATE VIEW instead. at /home/cpansand/.cpan/build/2021102502/Mojolicious-9.22-2/blib/lib/Mojolicious/Plugins.pm line 45.
[2021-10-25 03:00:05.04124] [4434] [warn] *** Cannot verify that admin editor is behind authentication.
Add a Yancy Auth plugin, add a `route` to the Yancy plugin config,
or set `editor.require_user => undef` to silence this warning
t/plugin/file.t .............. ok
x-view is deprecated and will be removed in v2. Use Yancy::Model or your database's CREATE VIEW instead. at /home/cpansand/.cpan/build/2021102502/Mojolicious-9.22-2/blib/lib/Mojolicious/Plugins.pm line 45.
[2021-10-25 03:00:05.89089] [4482] [warn] [m2o7JMmPAEdO] form_for() called with incomplete request. CSRF token may not validate!
t/plugin/form/bootstrap4.t ... ok
x-view is deprecated and will be removed in v2. Use Yancy::Model or your database's CREATE VIEW instead. at /home/cpansand/.cpan/build/2021102502/Mojolicious-9.22-2/blib/lib/Mojolicious/Plugins.pm line 45.
t/plugin/roles.t ............. ok
# Could not load SQLite backend: DBD::SQLite version 1.56 or higher required
# BEGIN failed--compilation aborted at /home/cpansand/.cpan/build/2021102502/Yancy-1.080-2/blib/lib/Yancy/Backend/Sqlite.pm line 116.
# Compilation failed in require at t/register.t line 21.
# Could not load Pg backend: Mojo::Pg version 4.03 or higher required
# BEGIN failed--compilation aborted at /home/cpansand/.cpan/build/2021102502/Yancy-1.080-2/blib/lib/Yancy/Backend/Pg.pm line 128.
# Compilation failed in require at t/register.t line 37.
# Could not load Mysql backend: Mojo::mysql version 1.05 or higher required
# BEGIN failed--compilation aborted at /home/cpansand/.cpan/build/2021102502/Yancy-1.080-2/blib/lib/Yancy/Backend/Mysql.pm line 119.
# Compilation failed in require at t/register.t line 53.
t/register.t ................. ok
t/util.t ..................... ok
All tests successful.
Files=33, Tests=200, 32 wallclock secs ( 0.05 usr 0.12 sys + 20.81 cusr 2.55 csys = 23.53 CPU)
Result: PASS
------------------------------
PREREQUISITES
------------------------------
Prerequisite modules loaded:
requires:
Module Need Have
---------------------------- -------- --------
Class::Method::Modifiers 0 2.12
Digest 0 1.17
Exporter 0 5.72
File::Spec::Functions 0 3.63
FindBin 0 1.51
JSON::Validator 5.00 5.02
Mojolicious 9 9.22
Mojolicious::Plugin::I18N 1.6 1.6
Mojolicious::Plugin::OpenAPI 5.00 5.00
perl 5.016 5.024000
Role::Tiny 2.000001 2.000003
Scalar::Util 0 1.45
Sys::Hostname 0 1.20
Text::Balanced 0 2.03
build_requires:
Module Need Have
---------------------------- -------- --------
ExtUtils::MakeMaker 0 7.24
File::Spec 0 3.63
File::Temp 0.2307 0.2311
IO::Handle 0 1.36
IPC::Open3 0 1.20
Test::More 1.001005 1.302052
configure_requires:
Module Need Have
---------------------------- -------- --------
ExtUtils::MakeMaker 0 7.24
File::ShareDir::Install 0.06 0.11
------------------------------
ENVIRONMENT AND OTHER CONTEXT
------------------------------
Environment variables:
LANG = en_US.UTF-8
LANGUAGE = en_US:en
LC_ALL = en_US.UTF-8
PATH = /usr/local/bin:/usr/bin:/bin:/usr/local/sbin:/usr/sbin:/sbin:/home/cpansand/bin/linux-gnu:/home/cpansand/bin/sh:/home/cpansand/bin:/usr/games:/home/cpansand/devel:/home/eserte/src/srezic-misc/scripts
PERL5LIB = /home/cpansand/.cpan/build/2021102502/Mojolicious-Plugin-OpenAPI-5.00-2/blib/arch:/home/cpansand/.cpan/build/2021102502/Mojolicious-Plugin-OpenAPI-5.00-2/blib/lib:/home/cpansand/.cpan/build/2021102502/Mojolicious-Plugin-I18N-1.6-2/blib/arch:/home/cpansand/.cpan/build/2021102502/Mojolicious-Plugin-I18N-1.6-2/blib/lib:/home/cpansand/.cpan/build/2021102502/JSON-Validator-5.02-2/blib/arch:/home/cpansand/.cpan/build/2021102502/JSON-Validator-5.02-2/blib/lib:/home/cpansand/.cpan/build/2021102502/YAML-LibYAML-0.83-2/blib/arch:/home/cpansand/.cpan/build/2021102502/YAML-LibYAML-0.83-2/blib/lib:/home/cpansand/.cpan/build/2021102502/Mojolicious-9.22-2/blib/arch:/home/cpansand/.cpan/build/2021102502/Mojolicious-9.22-2/blib/lib:/home/cpansand/.cpan/build/2021102502/File-Temp-0.2311-5/blib/arch:/home/cpansand/.cpan/build/2021102502/File-Temp-0.2311-5/blib/lib
PERL5OPT =
PERL5_CPANPLUS_IS_RUNNING = 3100
PERL5_CPAN_IS_RUNNING = 3100
PERL5_CPAN_IS_RUNNING_IN_RECURSION = 31874,3100
PERLDOC = -MPod::Perldoc::ToTextOverstrike
PERL_BATCH = yes
PERL_CANARY_STABILITY_NOPROMPT = 1
PERL_CPAN_REPORTER_CONFIG = /var/tmp/cpansmoker-1023/2021102502/cpanreporter_000_config.ini
PERL_EXTUTILS_AUTOINSTALL = --defaultdeps
PERL_USE_UNSAFE_INC = 1
SHELL = /bin/zsh
TERM = screen
TMPDIR = /var/tmp/cpansmoker-1023/2021102502
Perl special variables (and OS-specific diagnostics, for MSWin32):
$^X = /opt/perl-5.24.0/bin/perl
$UID/$EUID = 1023 / 1023
$GID = 1023 1023
$EGID = 1023 1023
Perl module toolchain versions installed:
Module Have
------------------- --------
CPAN 2.28
CPAN::Meta 2.150010
Cwd 3.63
ExtUtils::CBuilder 0.280225
ExtUtils::Command 7.24
ExtUtils::Install 2.04
ExtUtils::MakeMaker 7.24
ExtUtils::Manifest 1.70
ExtUtils::ParseXS 3.31
File::Spec 3.63
JSON 2.90
JSON::PP 2.27300
Module::Build 0.4220
Module::Signature 0.80
Parse::CPAN::Meta 2.150010
Test::Harness 3.36
Test::More 1.302052
YAML 1.17
YAML::Syck 1.29
version 0.9916
--
Summary of my perl5 (revision 5 version 24 subversion 0) configuration:
Platform:
osname=linux, osvers=3.2.0-4-amd64, archname=x86_64-linux
uname='linux cvrsnica-wheezy 3.2.0-4-amd64 #1 smp debian 3.2.54-2 x86_64 gnulinux '
config_args='-ds -e -Dprefix=/opt/perl-5.24.0 -Dcf_email=srezic@cpan.org'
hint=recommended, useposix=true, d_sigaction=define
useithreads=undef, usemultiplicity=undef
use64bitint=define, use64bitall=define, uselongdouble=undef
usemymalloc=n, bincompat5005=undef
Compiler:
cc='cc', ccflags ='-fwrapv -fno-strict-aliasing -pipe -fstack-protector -I/usr/local/include -D_LARGEFILE_SOURCE -D_FILE_OFFSET_BITS=64 -D_FORTIFY_SOURCE=2',
optimize='-O2',
cppflags='-fwrapv -fno-strict-aliasing -pipe -fstack-protector -I/usr/local/include'
ccversion='', gccversion='4.7.2', gccosandvers=''
intsize=4, longsize=8, ptrsize=8, doublesize=8, byteorder=12345678, doublekind=3
d_longlong=define, longlongsize=8, d_longdbl=define, longdblsize=16, longdblkind=3
ivtype='long', ivsize=8, nvtype='double', nvsize=8, Off_t='off_t', lseeksize=8
alignbytes=8, prototype=define
Linker and Libraries:
ld='cc', ldflags =' -fstack-protector -L/usr/local/lib'
libpth=/usr/local/lib /usr/lib/gcc/x86_64-linux-gnu/4.7/include-fixed /usr/include/x86_64-linux-gnu /usr/lib /lib/x86_64-linux-gnu /lib/../lib /usr/lib/x86_64-linux-gnu /usr/lib/../lib /lib
libs=-lpthread -lnsl -ldb -ldl -lm -lcrypt -lutil -lc
perllibs=-lpthread -lnsl -ldl -lm -lcrypt -lutil -lc
libc=libc-2.13.so, so=so, useshrplib=false, libperl=libperl.a
gnulibc_version='2.13'
Dynamic Linking:
dlsrc=dl_dlopen.xs, dlext=so, d_dlsymun=undef, ccdlflags='-Wl,-E'
cccdlflags='-fPIC', lddlflags='-shared -O2 -L/usr/local/lib -fstack-protector'
Characteristics of this binary (from libperl):
Compile-time options: HAS_TIMES PERLIO_LAYERS PERL_COPY_ON_WRITE
PERL_DONT_CREATE_GVSV
PERL_HASH_FUNC_ONE_AT_A_TIME_HARD PERL_MALLOC_WRAP
PERL_PRESERVE_IVUV USE_64_BIT_ALL USE_64_BIT_INT
USE_LARGE_FILES USE_LOCALE USE_LOCALE_COLLATE
USE_LOCALE_CTYPE USE_LOCALE_NUMERIC USE_LOCALE_TIME
USE_PERLIO USE_PERL_ATOF
Built under linux
Compiled at May 30 2016 08:43:25
%ENV:
PERL5LIB="/home/cpansand/.cpan/build/2021102502/Mojolicious-Plugin-OpenAPI-5.00-2/blib/arch:/home/cpansand/.cpan/build/2021102502/Mojolicious-Plugin-OpenAPI-5.00-2/blib/lib:/home/cpansand/.cpan/build/2021102502/Mojolicious-Plugin-I18N-1.6-2/blib/arch:/home/cpansand/.cpan/build/2021102502/Mojolicious-Plugin-I18N-1.6-2/blib/lib:/home/cpansand/.cpan/build/2021102502/JSON-Validator-5.02-2/blib/arch:/home/cpansand/.cpan/build/2021102502/JSON-Validator-5.02-2/blib/lib:/home/cpansand/.cpan/build/2021102502/YAML-LibYAML-0.83-2/blib/arch:/home/cpansand/.cpan/build/2021102502/YAML-LibYAML-0.83-2/blib/lib:/home/cpansand/.cpan/build/2021102502/Mojolicious-9.22-2/blib/arch:/home/cpansand/.cpan/build/2021102502/Mojolicious-9.22-2/blib/lib:/home/cpansand/.cpan/build/2021102502/File-Temp-0.2311-5/blib/arch:/home/cpansand/.cpan/build/2021102502/File-Temp-0.2311-5/blib/lib"
PERL5OPT=""
PERL5_CPANPLUS_IS_RUNNING="3100"
PERL5_CPAN_IS_RUNNING="3100"
PERL5_CPAN_IS_RUNNING_IN_RECURSION="31874,3100"
PERLDOC="-MPod::Perldoc::ToTextOverstrike"
PERL_BATCH="yes"
PERL_CANARY_STABILITY_NOPROMPT="1"
PERL_CPAN_REPORTER_CONFIG="/var/tmp/cpansmoker-1023/2021102502/cpanreporter_000_config.ini"
PERL_EXTUTILS_AUTOINSTALL="--defaultdeps"
PERL_USE_UNSAFE_INC="1"
@INC:
/home/cpansand/.cpan/build/2021102502/Mojolicious-Plugin-OpenAPI-5.00-2/blib/arch
/home/cpansand/.cpan/build/2021102502/Mojolicious-Plugin-OpenAPI-5.00-2/blib/lib
/home/cpansand/.cpan/build/2021102502/Mojolicious-Plugin-I18N-1.6-2/blib/arch
/home/cpansand/.cpan/build/2021102502/Mojolicious-Plugin-I18N-1.6-2/blib/lib
/home/cpansand/.cpan/build/2021102502/JSON-Validator-5.02-2/blib/arch
/home/cpansand/.cpan/build/2021102502/JSON-Validator-5.02-2/blib/lib
/home/cpansand/.cpan/build/2021102502/YAML-LibYAML-0.83-2/blib/arch
/home/cpansand/.cpan/build/2021102502/YAML-LibYAML-0.83-2/blib/lib
/home/cpansand/.cpan/build/2021102502/Mojolicious-9.22-2/blib/arch
/home/cpansand/.cpan/build/2021102502/Mojolicious-9.22-2/blib/lib
/home/cpansand/.cpan/build/2021102502/File-Temp-0.2311-5/blib/arch
/home/cpansand/.cpan/build/2021102502/File-Temp-0.2311-5/blib/lib
/opt/perl-5.24.0/lib/site_perl/5.24.0/x86_64-linux
/opt/perl-5.24.0/lib/site_perl/5.24.0
/opt/perl-5.24.0/lib/5.24.0/x86_64-linux
/opt/perl-5.24.0/lib/5.24.0
.