Catmandu-BagIt v0.260 Perl 5 v5.12.5 x86_64-linux
- Status
- Pass
- From
- Slaven Rezić (SREZIC)
- Dist
-
Catmandu-BagIt v0.260
- Platform
- Perl 5 v5.12.5 x86_64-linux
- Date
- 2020-05-13 08:30:38
- ID
- 061d3cee-94f4-11ea-87eb-f4811f24ea8f
This distribution has been tested as part of the CPAN Testers
project, supporting the Perl programming language. See
http://wiki.cpantesters.org/ for more information or email
questions to cpan-testers-discuss@perl.org
--
Dear Patrick Hochstenbach,
This is a computer-generated report for Catmandu-BagIt-0.260
on perl 5.12.5, created by CPAN-Reporter-1.2018.
Thank you for uploading your work to CPAN. Congratulations!
All tests were successful.
Sections of this report:
* Tester comments
* Program output
* Prerequisites
* Environment and other context
------------------------------
TESTER COMMENTS
------------------------------
Additional comments from tester:
none provided
------------------------------
PROGRAM OUTPUT
------------------------------
Output from './Build test':
t/Catmandu-BagIt.t ................... ok
t/Catmandu-Exporter-BagIt.t .......... ok
t/Catmandu-Importer-BagIt.t .......... ok
t/Catmandu-Store-File-BagIt-Bag.t .... ok
t/Catmandu-Store-File-BagIt-Index.t .. ok
t/Catmandu-Store-File-BagIt.t ........ ok
t/author-pod-syntax.t ................ skipped: these tests are for testing by the author
t/basic.t ............................ ok
All tests successful.
Files=8, Tests=328, 2 wallclock secs ( 0.04 usr 0.08 sys + 1.20 cusr 0.26 csys = 1.58 CPU)
Result: PASS
------------------------------
PREREQUISITES
------------------------------
Prerequisite modules loaded:
requires:
Module Need Have
-------------------- -------- --------
Catmandu 1.07 1.2011
Catmandu::FileStore 1.16 1.16
Digest::MD5 2.55 2.55
Digest::SHA 6.02 6.02
File::Copy 0 2.18
IO 0 1.42
IO::String 0 1.08
List::MoreUtils 0 0.428
LWP::Simple 6.00 6.44
Module::Build 0.4229 0.4231
Moo 0 2.004000
namespace::clean 0 0.27
Path::Iterator::Rule 1.0 1.014
Path::Naive 0.043 0.043
Path::Tiny 0.1 0.112
perl v5.10.1 5.012005
URI::Escape 0 3.31
build_requires:
Module Need Have
-------------------- -------- --------
IO::Callback 0 1.12
Role::Tiny 0 2.001004
Test::Deep 0.112 1.130
Test::Exception 0.32 0.43
Test::LWP::UserAgent 0 0.034
Test::More 1.001003 1.302174
Test::Pod 0 1.52
configure_requires:
Module Need Have
-------------------- -------- --------
Module::Build::Tiny 0.034 0.039
------------------------------
ENVIRONMENT AND OTHER CONTEXT
------------------------------
Environment variables:
LANG = en_US.UTF-8
PATH = /usr/local/bin:/usr/bin:/bin:/usr/local/sbin:/usr/sbin:/sbin:/home/cpansand/bin/linux-gnu:/home/cpansand/bin/sh:/home/cpansand/bin:/usr/games:/home/cpansand/devel:/home/eserte/src/srezic-misc/scripts
PERL5LIB = /home/cpansand/.cpan/build/2020051308/Catmandu-FileStore-1.16-0/blib/arch:/home/cpansand/.cpan/build/2020051308/Catmandu-FileStore-1.16-0/blib/lib:/home/cpansand/.cpan/build/2020051308/IO-Callback-1.12-0/blib/arch:/home/cpansand/.cpan/build/2020051308/IO-Callback-1.12-0/blib/lib
PERL5OPT =
PERL5_CPANPLUS_IS_RUNNING = 23312
PERL5_CPAN_IS_RUNNING = 23312
PERL5_CPAN_IS_RUNNING_IN_RECURSION = 23257,23312
PERLDOC = -MPod::Perldoc::ToTextOverstrike
PERL_BATCH = yes
PERL_CANARY_STABILITY_NOPROMPT = 1
PERL_CPAN_REPORTER_CONFIG = /var/tmp/cpansmoker-1023/2020051308/cpanreporter_000_config.ini
PERL_EXTUTILS_AUTOINSTALL = --defaultdeps
PERL_USE_UNSAFE_INC = 1
SHELL = /usr/bin/zsh
TERM = screen
TMPDIR = /var/tmp/cpansmoker-1023/2020051308
Perl special variables (and OS-specific diagnostics, for MSWin32):
$^X = /opt/perl-5.12.5/bin/perl
$UID/$EUID = 1023 / 1023
$GID = 1023 1023
$EGID = 1023 1023
Perl module toolchain versions installed:
Module Have
------------------- --------
CPAN 2.27
CPAN::Meta 2.150010
Cwd 3.75
ExtUtils::CBuilder 0.280234
ExtUtils::Command 7.44
ExtUtils::Install 2.06
ExtUtils::MakeMaker 7.44
ExtUtils::Manifest 1.70
ExtUtils::ParseXS 3.35
File::Spec 3.75
JSON 4.02
JSON::PP 4.04
Module::Build 0.4231
Module::Signature 0.83
Parse::CPAN::Meta 2.150010
Test::Harness 3.42
Test::More 1.302174
YAML 1.30
YAML::Syck 1.32
version 0.9924
--
Summary of my perl5 (revision 5 version 12 subversion 5) configuration:
Platform:
osname=linux, osvers=4.4.0-176-generic, archname=x86_64-linux
uname='linux ubuntu16 4.4.0-176-generic #206-ubuntu smp fri feb 28 05:02:04 utc 2020 x86_64 x86_64 x86_64 gnulinux '
config_args='-ds -e -Dprefix=/opt/perl-5.12.5 -Dcf_email=srezic@cpan.org'
hint=recommended, useposix=true, d_sigaction=define
useithreads=undef, usemultiplicity=undef
useperlio=define, d_sfio=undef, uselargefiles=define, usesocks=undef
use64bitint=define, use64bitall=define, uselongdouble=undef
usemymalloc=n, bincompat5005=undef
Compiler:
cc='cc', ccflags ='-fwrapv -fno-strict-aliasing -pipe -fstack-protector -I/usr/local/include -D_LARGEFILE_SOURCE -D_FILE_OFFSET_BITS=64',
optimize='-O2',
cppflags='-fwrapv -fno-strict-aliasing -pipe -fstack-protector -I/usr/local/include'
ccversion='', gccversion='5.4.0 20160609', gccosandvers=''
intsize=4, longsize=8, ptrsize=8, doublesize=8, byteorder=12345678
d_longlong=define, longlongsize=8, d_longdbl=define, longdblsize=16
ivtype='long', ivsize=8, nvtype='double', nvsize=8, Off_t='off_t', lseeksize=8
alignbytes=8, prototype=define
Linker and Libraries:
ld='cc', ldflags =' -fstack-protector -L/usr/local/lib'
libpth=/usr/local/lib /lib/x86_64-linux-gnu /lib/../lib /usr/lib/x86_64-linux-gnu /usr/lib/../lib /lib /usr/lib
libs=-lnsl -lgdbm -ldb -ldl -lm -lcrypt -lutil -lc -lgdbm_compat
perllibs=-lnsl -ldl -lm -lcrypt -lutil -lc
libc=libc-2.23.so, so=so, useshrplib=false, libperl=libperl.a
gnulibc_version='2.23'
Dynamic Linking:
dlsrc=dl_dlopen.xs, dlext=so, d_dlsymun=undef, ccdlflags='-Wl,-E'
cccdlflags='-fPIC', lddlflags='-shared -O2 -L/usr/local/lib -fstack-protector'
Characteristics of this binary (from libperl):
Compile-time options: PERL_DONT_CREATE_GVSV PERL_MALLOC_WRAP USE_64_BIT_ALL
USE_64_BIT_INT USE_LARGE_FILES USE_PERLIO
USE_PERL_ATOF
Locally applied patches:
Devel::PatchPerl 1.90
Built under linux
Compiled at Mar 31 2020 18:40:19
%ENV:
PERL5LIB="/home/cpansand/.cpan/build/2020051308/Catmandu-FileStore-1.16-0/blib/arch:/home/cpansand/.cpan/build/2020051308/Catmandu-FileStore-1.16-0/blib/lib:/home/cpansand/.cpan/build/2020051308/IO-Callback-1.12-0/blib/arch:/home/cpansand/.cpan/build/2020051308/IO-Callback-1.12-0/blib/lib"
PERL5OPT=""
PERL5_CPANPLUS_IS_RUNNING="23312"
PERL5_CPAN_IS_RUNNING="23312"
PERL5_CPAN_IS_RUNNING_IN_RECURSION="23257,23312"
PERLDOC="-MPod::Perldoc::ToTextOverstrike"
PERL_BATCH="yes"
PERL_CANARY_STABILITY_NOPROMPT="1"
PERL_CPAN_REPORTER_CONFIG="/var/tmp/cpansmoker-1023/2020051308/cpanreporter_000_config.ini"
PERL_EXTUTILS_AUTOINSTALL="--defaultdeps"
PERL_USE_UNSAFE_INC="1"
@INC:
/home/cpansand/.cpan/build/2020051308/Catmandu-FileStore-1.16-0/blib/arch
/home/cpansand/.cpan/build/2020051308/Catmandu-FileStore-1.16-0/blib/lib
/home/cpansand/.cpan/build/2020051308/IO-Callback-1.12-0/blib/arch
/home/cpansand/.cpan/build/2020051308/IO-Callback-1.12-0/blib/lib
/opt/perl-5.12.5/lib/site_perl/5.12.5/x86_64-linux
/opt/perl-5.12.5/lib/site_perl/5.12.5
/opt/perl-5.12.5/lib/5.12.5/x86_64-linux
/opt/perl-5.12.5/lib/5.12.5
.