FFI-Platypus v1.10 Perl 5 v5.8.9 amd64-netbsd-thread-multi

Status
Pass
From
Chris Williams (BINGOS)
Dist
FFI-Platypus v1.10
Platform
Perl 5 v5.8.9 amd64-netbsd-thread-multi
Date
2020-02-12 05:32:11
ID
04e819d0-4d59-11ea-9066-e374b0ba08e8
This distribution has been tested as part of the CPAN Testers
project, supporting the Perl programming language.  See
http://wiki.cpantesters.org/ for more information or email
questions to cpan-testers-discuss@perl.org


--

Dear Graham Ollis,

This is a computer-generated error report created automatically by
CPANPLUS, version 0.9906. Testers personal comments may appear
at the end of this report.


Thank you for uploading your work to CPAN.  Congratulations!
All tests were successful.

TEST RESULTS:

Below is the error stack from stage 'make test':

"/home/cpan/pit/thr/perl-5.8.9/bin/perl" -MExtUtils::Command::MM -e 'cp_nonempty' -- lib/FFI/Platypus.bs blib/arch/auto/FFI/Platypus/Platypus.bs 644
CC t/ffi/align.c
CC t/ffi/align_array.c
CC t/ffi/align_fixed.c
CC t/ffi/align_string.c
CC t/ffi/basic.c
CC t/ffi/closure.c
CC t/ffi/color.c
CC t/ffi/complex_double.c
CC t/ffi/complex_float.c
CC t/ffi/double.c
CC t/ffi/float.c
CC t/ffi/gh117.c
CC t/ffi/gh174.c
CC t/ffi/longdouble.c
CC t/ffi/memcmp4.c
CC t/ffi/meta.c
CC t/ffi/pointer.c
CC t/ffi/record.c
CC t/ffi/sint16.c
CC t/ffi/sint32.c
CC t/ffi/sint64.c
CC t/ffi/sint8.c
CC t/ffi/string.c
CC t/ffi/string_array.c
CC t/ffi/uint16.c
CC t/ffi/uint32.c
CC t/ffi/uint64.c
CC t/ffi/uint8.c
CC t/ffi/variadic.c
LD t/ffi/libtest.so
PERL_DL_NONLAZY=1 "/home/cpan/pit/thr/perl-5.8.9/bin/perl" "-MExtUtils::Command::MM" "-MTest::Harness" "-e" "undef *Test::Harness::Switches; test_harness(0, 'blib/lib', 'blib/arch')" t/*.t
# 
# 
# 
# HARNESS_ACTIVE=1
# HARNESS_VERSION=3.42
# PERL5LIB=/home/cpan/pit/thr/conf/perl-5.8.9/.cpanplus/5.8.9/build/LgerErQvy0/FFI-Platypus-1.10/blib/lib:/home/cpan/pit/thr/conf/perl-5.8.9/.cpanplus/5.8.9/build/LgerErQvy0/FFI-Platypus-1.10/blib/arch:/home/cpan/pit/jail/7_LLv3LwXx/lib/perl5/5.8.9/amd64-netbsd-thread-multi:/home/cpan/pit/jail/7_LLv3LwXx/lib/perl5/5.8.9:/home/cpan/pit/jail/7_LLv3LwXx/lib/perl5/amd64-netbsd-thread-multi:/home/cpan/pit/jail/7_LLv3LwXx/lib/perl5:/home/cpan/pit/jail/7_LLv3LwXx/lib/perl5:/home/cpan/pit/thr/conf/perl-5.8.9/.cpanplus/5.8.9/build/LgerErQvy0/FFI-Platypus-1.10/blib/lib:/home/cpan/pit/thr/conf/perl-5.8.9/.cpanplus/5.8.9/build/LgerErQvy0/FFI-Platypus-1.10/blib/arch
# PERL5_CPANPLUS_IS_RUNNING=7255
# PERL5_CPANPLUS_IS_VERSION=0.9906
# PERL5_MINISMOKEBOX=0.68
# PERL5_YACSMOKE_BASE=/home/cpan/pit/thr/conf/perl-5.8.9
# PERL_DL_NONLAZY=1
# PERL_EXTUTILS_AUTOINSTALL=--defaultdeps
# PERL_LOCAL_LIB_ROOT=/home/cpan/pit/jail/7_LLv3LwXx
# PERL_MB_OPT=--install_base "/home/cpan/pit/jail/7_LLv3LwXx"
# PERL_MM_OPT=INSTALL_BASE=/home/cpan/pit/jail/7_LLv3LwXx
# PERL_MM_USE_DEFAULT=1
# PERL_USE_UNSAFE_INC=0
# SHELL=/usr/pkg/bin/bash
# 
# 
# 
# PERL5LIB path
# /home/cpan/pit/thr/conf/perl-5.8.9/.cpanplus/5.8.9/build/LgerErQvy0/FFI-Platypus-1.10/blib/lib
# /home/cpan/pit/thr/conf/perl-5.8.9/.cpanplus/5.8.9/build/LgerErQvy0/FFI-Platypus-1.10/blib/arch
# /home/cpan/pit/jail/7_LLv3LwXx/lib/perl5/5.8.9/amd64-netbsd-thread-multi
# /home/cpan/pit/jail/7_LLv3LwXx/lib/perl5/5.8.9
# /home/cpan/pit/jail/7_LLv3LwXx/lib/perl5/amd64-netbsd-thread-multi
# /home/cpan/pit/jail/7_LLv3LwXx/lib/perl5
# /home/cpan/pit/jail/7_LLv3LwXx/lib/perl5
# /home/cpan/pit/thr/conf/perl-5.8.9/.cpanplus/5.8.9/build/LgerErQvy0/FFI-Platypus-1.10/blib/lib
# /home/cpan/pit/thr/conf/perl-5.8.9/.cpanplus/5.8.9/build/LgerErQvy0/FFI-Platypus-1.10/blib/arch
# 
# 
# 
# perl                5.008009
# Alien::Base         2.04
# Capture::Tiny       0.48
# Devel::Hide         -
# ExtUtils::CBuilder  0.280234
# ExtUtils::MakeMaker 7.44
# ExtUtils::ParseXS   3.35
# FFI::CheckLib       0.26
# IPC::Cmd            1.04
# JSON::PP            4.04
# List::Util          1.54
# Math::LongDouble    -
# PkgConfig           -
# Test::More          1.302171
# constant            1.33
# forks               -
# 
# 
# 
# mode : system
# Alien::FFI::pkgconfig->VERSION      = undef
# Alien::FFI::pkgconfig->install_type = system
# Alien::FFI::pkgconfig->cflags       = -I/usr/pkg/include 
# Alien::FFI::pkgconfig->libs         = -Wl,-R/usr/pkg/lib -L/usr/pkg/lib -lffi 
# Alien::FFI::pkgconfig->version      = 3.2.1
# 
# 
# 
# ffi.platypus.memory.strdup_impl =libc
# ffi.platypus.memory.strndup_impl=libc
# 
# 
# 
# Types:
#   double   : double, float complex
#   float    : float
#   longdouble : double complex, long double, long double complex
#   sint16   : int16_t, short, signed short
#   sint32   : blksize_t, int, int32_t, senum, signed int, wchar_t, wint_t
#   sint64   : blkcnt_t, int64_t, intptr_t, long, long long, off_t, ptrdiff_t, signed long, signed long long, ssize_t, time_t
#   sint8    : char, int8_t, signed char
#   uint16   : uint16_t, unsigned short, ushort
#   uint32   : enum, gid_t, mode_t, nlink_t, uid_t, uint, uint32_t, unsigned int
#   uint64   : dev_t, ino_t, size_t, uint64_t, uintptr_t, ulong, unsigned long, unsigned long long
#   uint8    : bool, uchar, uint8_t, unsigned char
# 
# 
# 
# ABIs:
#   default_abi          2
#   fastcall             4
#   pascal               6
#   register             7
#   stdcall              5
#   sysv                 1
#   thiscall             3
#   unix64               2
# 
# 
# 
# Probes:
#   variadic             1
#   bigendian64          0
#   recordvalue          1
#   longdouble           1
#   abi                  1
#   bigendian            0
#   alloca               1
# 
# 
# 
# CPU Info:
#   model name	: Intel(R) Celeron(R) CPU 1017U @ 1.60GHz
#   flags		: fpu vme de pse tsc msr pae mce cx8 apic sep mtrr pge mca cmov pat pse36 clflush mmx fxsr sse sse2 ht syscall nx rdtscp lm pni pclmulqdq monitor ssse3 cx16 pcid sse4_1 sse4_2 popcnt xsave lahf_lm fsgsbase md_clear flush_l1d 
# 
# 
# 
# [PLATFORM]
# osname            : netbsd
# cc                : cc
# cxx               : c++
# for               : ---
# ld                : cc
# ccflags           : -DPIC -fPIC -fwrapv -fno-strict-aliasing -pipe -I/usr/pkg/include -O -I/home/cpan/pit/thr/conf/perl-5.8.9/.cpanplus/5.8.9/build/LgerErQvy0/FFI-Platypus-1.10/blib/lib/auto/share/dist/FFI-Platypus/include
# ldflags           : -shared -L/usr/pkg/lib
# object suffix     : .o
# library prefix    : lib
# library suffix    : .so
# cc mm works       : -MM
# 
# 
# 
t/00_diag.t .............................. ok
t/01_use.t ............................... ok
t/ffi_build.t ............................ ok
t/ffi_build_file_base.t .................. ok
t/ffi_build_file_c.t ..................... ok
t/ffi_build_file_cxx.t ................... ok
t/ffi_build_file_library.t ............... ok
t/ffi_build_file_object.t ................ ok
t/ffi_build_mm.t ......................... ok
t/ffi_build_platform.t ................... ok
t/ffi_platypus.t ......................... ok
t/ffi_platypus_api.t ..................... ok
t/ffi_platypus_buffer.t .................. ok
t/ffi_platypus_bundle.t .................. ok
t/ffi_platypus_closure.t ................. ok
t/ffi_platypus_constant.t ................ ok
t/ffi_platypus_declare.t ................. ok
t/ffi_platypus_dl.t ...................... ok
t/ffi_platypus_function.t ................ ok
t/ffi_platypus_function_wrapper.t ........ ok
t/ffi_platypus_internal.t ................ ok
t/ffi_platypus_lang.t .................... ok
t/ffi_platypus_lang_asm.t ................ ok
t/ffi_platypus_lang_c.t .................. ok
t/ffi_platypus_lang_win32.t .............. ok
t/ffi_platypus_legacy.t .................. ok
t/ffi_platypus_memory.t .................. ok
t/ffi_platypus_record.t .................. ok
t/ffi_platypus_record_meta.t ............. ok
t/ffi_platypus_record_tiearray.t ......... ok
t/ffi_platypus_shareconfig.t ............. ok
t/ffi_platypus_type.t .................... ok
t/ffi_platypus_type_pointersizebuffer.t .. ok
t/ffi_platypus_type_stringarray.t ........ ok
t/ffi_platypus_type_stringpointer.t ...... ok
t/ffi_platypus_typeparser.t .............. ok
t/ffi_platypus_typeparser_version0.t ..... ok
t/ffi_platypus_typeparser_version1.t ..... ok
t/ffi_probe.t ............................ ok
t/ffi_probe_runner.t ..................... ok
t/ffi_probe_runner_builder.t ............. ok
t/ffi_probe_runner_result.t .............. ok
t/ffi_temp.t ............................. ok
t/forks.t ................................ skipped: Test requires forks
t/gh117.t ................................ ok
t/gh129.t ................................ ok
t/memory.t ............................... skipped: tested only in CI
t/threads.t .............................. ok
t/type_complex_double.t .................. skipped: Test requires support for double complex
t/type_complex_float.t ................... skipped: Test requires support for float complex
t/type_custom.t .......................... ok
t/type_double.t .......................... ok
t/type_float.t ........................... ok
t/type_longdouble.t ...................... ok
t/type_longdouble__array.t ............... ok
t/type_longdouble__hide.t ................ skipped: test requires Devel::Hide 0.0010
t/type_longdouble__ptr.t ................. ok
t/type_opaque.t .......................... ok
t/type_record.t .......................... ok
t/type_record_value.t .................... ok
t/type_sint16.t .......................... ok
t/type_sint32.t .......................... ok
t/type_sint64.t .......................... ok
t/type_sint8.t ........................... ok
t/type_string.t .......................... ok
t/type_uint16.t .......................... ok
t/type_uint32.t .......................... ok
t/type_uint64.t .......................... ok
t/type_uint8.t ........................... ok
All tests successful.
Files=69, Tests=340, 26 wallclock secs ( 0.86 usr  0.52 sys + 15.13 cusr  8.56 csys = 25.07 CPU)
Result: PASS


PREREQUISITES:

Here is a list of prerequisites you specified and versions we
managed to load:

	  Module Name                        Have     Want
	  Capture::Tiny                      0.48        0
	  ExtUtils::CBuilder             0.280234        0
	  ExtUtils::MakeMaker                7.44     7.12
	  FFI::CheckLib                      0.26     0.05
	  IPC::Cmd                           1.04        0
	  JSON::PP                           4.04        0
	  List::Util                         1.54     1.45
	  Test::More                     1.302171     0.98
	  constant                           1.33     1.32

Perl module toolchain versions installed:
	Module Name                        Have
	CPANPLUS                         0.9906
	CPANPLUS::Dist::Build              0.90
	Cwd                                3.75
	ExtUtils::CBuilder             0.280234
	ExtUtils::Command                  7.44
	ExtUtils::Install                  2.14
	ExtUtils::MakeMaker                7.44
	ExtUtils::Manifest                 1.72
	ExtUtils::ParseXS                  3.35
	File::Spec                         3.75
	Module::Build                    0.4231
	Pod::Parser                        1.35
	Pod::Simple                        3.39
	Test2                          1.302171
	Test::Harness                      3.42
	Test::More                     1.302171
	version                          0.9924

******************************** NOTE ********************************
The comments above are created mechanically, possibly without manual
checking by the sender.  As there are many people performing automatic
tests on each upload to CPAN, it is likely that you will receive
identical messages about the same problem.

If you believe that the message is mistaken, please reply to the first
one with correction and/or additional informations, and do not take
it personally.  We appreciate your patience. :)
**********************************************************************

Additional comments:


This report was machine-generated by CPANPLUS::Dist::YACSmoke 1.08.
Powered by minismokebox version 0.68

CPANPLUS is prefering Build.PL

------------------------------
ENVIRONMENT AND OTHER CONTEXT
------------------------------

Environment variables:

    AUTOMATED_TESTING = 1
    NONINTERACTIVE_TESTING = 1
    PATH = /home/cpan/bin:/bin:/sbin:/usr/bin:/usr/sbin:/usr/X11R7/bin:/usr/pkg/bin:/usr/pkg/sbin:/usr/games:/usr/local/bin:/usr/local/sbin
    PERL5LIB = /home/cpan/pit/jail/7_LLv3LwXx/lib/perl5:/home/cpan/pit/thr/conf/perl-5.8.9/.cpanplus/5.8.9/build/LgerErQvy0/FFI-Platypus-1.10/blib/lib:/home/cpan/pit/thr/conf/perl-5.8.9/.cpanplus/5.8.9/build/LgerErQvy0/FFI-Platypus-1.10/blib/arch
    PERL5_CPANPLUS_IS_RUNNING = 7255
    PERL5_CPANPLUS_IS_VERSION = 0.9906
    PERL5_MINISMOKEBOX = 0.68
    PERL5_YACSMOKE_BASE = /home/cpan/pit/thr/conf/perl-5.8.9
    PERL_EXTUTILS_AUTOINSTALL = --defaultdeps
    PERL_LOCAL_LIB_ROOT = /home/cpan/pit/jail/7_LLv3LwXx
    PERL_MB_OPT = --install_base "/home/cpan/pit/jail/7_LLv3LwXx"
    PERL_MM_OPT = INSTALL_BASE=/home/cpan/pit/jail/7_LLv3LwXx
    PERL_MM_USE_DEFAULT = 1
    PERL_USE_UNSAFE_INC = 0
    SHELL = /usr/pkg/bin/bash
    TERM = screen

Perl special variables (and OS-specific diagnostics, for MSWin32):

    Perl: $^X = /home/cpan/pit/thr/perl-5.8.9/bin/perl
    UID:  $<  = 1001
    EUID: $>  = 1001
    GID:  $(  = 100 100
    EGID: $)  = 100 100


-------------------------------


--

Summary of my perl5 (revision 5 version 8 subversion 9) configuration:
  Platform:
    osname=netbsd, osvers=8.1, archname=amd64-netbsd-thread-multi
    uname='netbsd nephilim.bingosnet.co.uk 8.1 netbsd 8.1 (generic) #0: fri may 31 08:43:59 utc 2019 mkrepro@mkrepro.netbsd.org:usrsrcsysarchamd64compilegeneric amd64 '
    config_args='-des -Dprefix=/home/cpan/pit/thr/perl-5.8.9 -Dusethreads'
    hint=recommended, useposix=true, d_sigaction=define
    usethreads=define use5005threads=undef useithreads=define usemultiplicity=define
    useperlio=define d_sfio=undef uselargefiles=define usesocks=undef
    use64bitint=define use64bitall=define uselongdouble=undef
    usemymalloc=n, bincompat5005=undef
  Compiler:
    cc='cc', ccflags ='-fwrapv -fno-strict-aliasing -pipe -I/usr/pkg/include',
    optimize='-O',
    cppflags='-fwrapv -fno-strict-aliasing -pipe -I/usr/pkg/include'
    ccversion='', gccversion='5.5.0', gccosandvers=''
    intsize=4, longsize=8, ptrsize=8, doublesize=8, byteorder=12345678
    d_longlong=define, longlongsize=8, d_longdbl=define, longdblsize=16
    ivtype='long', ivsize=8, nvtype='double', nvsize=8, Off_t='off_t', lseeksize=8
    alignbytes=8, prototype=define
  Linker and Libraries:
    ld='cc', ldflags =' -Wl,-rpath,/usr/pkg/lib -Wl,-rpath,/usr/local/lib -L/usr/pkg/lib'
    libpth=/usr/pkg/lib /lib /usr/lib
    libs=-lgdbm -lm -lcrypt -lutil -lc -lposix -lpthread
    perllibs=-lm -lcrypt -lutil -lc -lposix -lpthread
    libc=/lib/libc.so, so=so, useshrplib=false, libperl=libperl.a
    gnulibc_version=''
  Dynamic Linking:
    dlsrc=dl_dlopen.xs, dlext=so, d_dlsymun=undef, ccdlflags='-Wl,-E '
    cccdlflags='-DPIC -fPIC ', lddlflags='-shared  -L/usr/pkg/lib'


Characteristics of this binary (from libperl): 
  Compile-time options: MULTIPLICITY PERL_IMPLICIT_CONTEXT PERL_MALLOC_WRAP
                        USE_64_BIT_ALL USE_64_BIT_INT USE_FAST_STDIO
                        USE_ITHREADS USE_LARGE_FILES USE_PERLIO
                        USE_REENTRANT_API
  Locally applied patches:
	Devel::PatchPerl 1.64
  Built under netbsd
  Compiled at Jul 24 2019 12:37:26
  %ENV:
    PERL5LIB="/home/cpan/pit/jail/7_LLv3LwXx/lib/perl5:/home/cpan/pit/thr/conf/perl-5.8.9/.cpanplus/5.8.9/build/LgerErQvy0/FFI-Platypus-1.10/blib/lib:/home/cpan/pit/thr/conf/perl-5.8.9/.cpanplus/5.8.9/build/LgerErQvy0/FFI-Platypus-1.10/blib/arch"
    PERL5_CPANPLUS_IS_RUNNING="7255"
    PERL5_CPANPLUS_IS_VERSION="0.9906"
    PERL5_MINISMOKEBOX="0.68"
    PERL5_YACSMOKE_BASE="/home/cpan/pit/thr/conf/perl-5.8.9"
    PERL_EXTUTILS_AUTOINSTALL="--defaultdeps"
    PERL_LOCAL_LIB_ROOT="/home/cpan/pit/jail/7_LLv3LwXx"
    PERL_MB_OPT="--install_base "/home/cpan/pit/jail/7_LLv3LwXx""
    PERL_MM_OPT="INSTALL_BASE=/home/cpan/pit/jail/7_LLv3LwXx"
    PERL_MM_USE_DEFAULT="1"
    PERL_USE_UNSAFE_INC="0"
  @INC:
    /home/cpan/pit/jail/7_LLv3LwXx/lib/perl5/5.8.9/amd64-netbsd-thread-multi
    /home/cpan/pit/jail/7_LLv3LwXx/lib/perl5/5.8.9
    /home/cpan/pit/jail/7_LLv3LwXx/lib/perl5/amd64-netbsd-thread-multi
    /home/cpan/pit/jail/7_LLv3LwXx/lib/perl5
    /home/cpan/pit/thr/conf/perl-5.8.9/.cpanplus/5.8.9/build/LgerErQvy0/FFI-Platypus-1.10/blib/lib
    /home/cpan/pit/thr/conf/perl-5.8.9/.cpanplus/5.8.9/build/LgerErQvy0/FFI-Platypus-1.10/blib/arch
    /home/cpan/pit/thr/perl-5.8.9/lib/5.8.9/amd64-netbsd-thread-multi
    /home/cpan/pit/thr/perl-5.8.9/lib/5.8.9
    /home/cpan/pit/thr/perl-5.8.9/lib/site_perl/5.8.9/amd64-netbsd-thread-multi
    /home/cpan/pit/thr/perl-5.8.9/lib/site_perl/5.8.9
    .