URL-Normalize v0.38 Perl 5 v5.24.0 darwin-2level

Status
Pass
From
Gregor Goldbach
Dist
URL-Normalize v0.38
Platform
Perl 5 v5.24.0 darwin-2level
Date
2018-06-05 14:16:18
ID
03998f88-68cb-11e8-86b5-261edfb47a39
This distribution has been tested as part of the CPAN Testers
project, supporting the Perl programming language.  See
http://wiki.cpantesters.org/ for more information or email
questions to cpan-testers-discuss@perl.org


--
Dear Tore Aursand,

This is a computer-generated report for URL-Normalize-0.38
on perl 5.24.0, created by CPAN-Reporter-1.2018.

Thank you for uploading your work to CPAN.  Congratulations!
All tests were successful.

Sections of this report:

    * Tester comments
    * Program output
    * Prerequisites
    * Environment and other context

------------------------------
TESTER COMMENTS
------------------------------

Additional comments from tester:

this report is from an automated smoke testing program
and was not reviewed by a human for accuracy

------------------------------
PROGRAM OUTPUT
------------------------------

Output from '/usr/bin/make test':

PERL_DL_NONLAZY=1 "/Users/glauschwuffel/perl5/perlbrew/perls/perl-5.24.0/bin/perl" "-Iblib/lib" "-Iblib/arch" test.pl
http://www.example.com/path/page/#anchor1#anchor2/#anchor3
PERL_DL_NONLAZY=1 "/Users/glauschwuffel/perl5/perlbrew/perls/perl-5.24.0/bin/perl" "-MExtUtils::Command::MM" "-MTest::Harness" "-e" "undef *Test::Harness::Switches; test_harness(0, 'blib/lib', 'blib/arch')" t/*.t
# Testing URL::Normalize 0.38, Perl 5.024000, /Users/glauschwuffel/perl5/perlbrew/perls/perl-5.24.0/bin/perl
t/00-load.t ............................... ok
t/10-canonical.t .......................... ok
t/15-remove-dot-segments.t ................ ok
t/20-remove-directory-index.t ............. ok
t/25-sort-query-parameters.t .............. ok
t/30-remove-empty-query.t ................. ok
t/35-remove-fragment.t .................... ok
t/40-remove-duplicate-slashes.t ........... ok
t/45-remove-duplicate-query-parameters.t .. ok
t/50-remove-empty-query-parameters.t ...... ok
t/60-remove-social-query-parameters.t ..... ok
t/70-remove-query-parameter.t ............. ok
t/manifest.t .............................. skipped: Author tests not required for installation
t/pod-coverage.t .......................... ok
t/pod.t ................................... ok
All tests successful.
Files=15, Tests=167,  4 wallclock secs ( 0.06 usr  0.03 sys +  3.04 cusr  0.35 csys =  3.48 CPU)
Result: PASS

------------------------------
PREREQUISITES
------------------------------

Prerequisite modules loaded:

requires:

    Module               Need     Have    
    -------------------- -------- --------
    Moose                2.2011   2.2011  
    namespace::autoclean 0.28     0.28    
    URI                  1.74     1.74    

build_requires:

    Module               Need     Have    
    -------------------- -------- --------
    ExtUtils::MakeMaker  7.34     7.34    
    Test::More           1.302136 1.302136

configure_requires:

    Module               Need     Have    
    -------------------- -------- --------
    ExtUtils::MakeMaker  0        7.34    


------------------------------
ENVIRONMENT AND OTHER CONTEXT
------------------------------

Environment variables:

    AUTOMATED_TESTING = 1
    LANG = de_DE.UTF-8
    MANPATH_WITHOUT_PERLBREW = /usr/local/share/man/de:/usr/local/share/man:/usr/share/man:/Library/TeX/texbin/man:/Applications/Xcode.app/Contents/Developer/Platforms/MacOSX.platform/Developer/SDKs/MacOSX10.13.sdk/usr/share/man:/Applications/Xcode.app/Contents/Developer/usr/share/man:/Applications/Xcode.app/Contents/Developer/Toolchains/XcodeDefault.xctoolchain/usr/share/man
    PATH = /Users/glauschwuffel/.rvm/gems/ruby-head/bin:/Users/glauschwuffel/.rvm/gems/ruby-head@global/bin:/Users/glauschwuffel/.rvm/rubies/ruby-head/bin:/Users/glauschwuffel/.rakudobrew/bin:/Users/glauschwuffel/perl5/perlbrew/bin:/Users/glauschwuffel/perl5/perlbrew/perls/perl-5.24.0/bin:/usr/local/bin:/usr/bin:/bin:/usr/sbin:/sbin:/Library/TeX/texbin:/Users/glauschwuffel/.rvm/bin:/Users/glauschwuffel/.rvm/bin
    PATH_WITHOUT_PERLBREW = /usr/local/bin:/usr/bin:/bin:/usr/sbin:/sbin:/Library/TeX/texbin
    PERL5LIB = /Users/glauschwuffel/.cpan/build/ExtUtils-MakeMaker-7.34-XhMl2Q/blib/arch:/Users/glauschwuffel/.cpan/build/ExtUtils-MakeMaker-7.34-XhMl2Q/blib/lib:/Users/glauschwuffel/.cpan/build/Moose-2.2011-O9YEdc/blib/arch:/Users/glauschwuffel/.cpan/build/Moose-2.2011-O9YEdc/blib/lib:/Users/glauschwuffel/.cpan/build/Sub-Name-0.21-8dMa_3/blib/arch:/Users/glauschwuffel/.cpan/build/Sub-Name-0.21-8dMa_3/blib/lib:/Users/glauschwuffel/.cpan/build/Devel-StackTrace-2.03-6E96mw/blib/arch:/Users/glauschwuffel/.cpan/build/Devel-StackTrace-2.03-6E96mw/blib/lib:/Users/glauschwuffel/.cpan/build/Devel-OverloadInfo-0.005-LLpxGZ/blib/arch:/Users/glauschwuffel/.cpan/build/Devel-OverloadInfo-0.005-LLpxGZ/blib/lib:/Users/glauschwuffel/.cpan/build/URI-1.74-2WPfZj/blib/arch:/Users/glauschwuffel/.cpan/build/URI-1.74-2WPfZj/blib/lib:/Users/glauschwuffel/.cpan/build/Test-Simple-1.302136-_69x4x/blib/arch:/Users/glauschwuffel/.cpan/build/Test-Simple-1.302136-_69x4x/blib/lib
    PERL5OPT = 
    PERL5_CPANPLUS_IS_RUNNING = 44167
    PERL5_CPAN_IS_RUNNING = 44167
    PERL5_CPAN_IS_RUNNING_IN_RECURSION = 66002,44167
    PERLBREW_BASHRC_VERSION = 0.46
    PERLBREW_HOME = /Users/glauschwuffel/.perlbrew
    PERLBREW_MANPATH = /Users/glauschwuffel/perl5/perlbrew/perls/perl-5.24.0/man
    PERLBREW_PATH = /Users/glauschwuffel/perl5/perlbrew/bin:/Users/glauschwuffel/perl5/perlbrew/perls/perl-5.24.0/bin
    PERLBREW_PERL = perl-5.24.0
    PERLBREW_ROOT = /Users/glauschwuffel/perl5/perlbrew
    PERLBREW_VERSION = 0.46
    PERL_CR_SMOKER_CURRENT = URL-Normalize-0.38
    PERL_EXTUTILS_AUTOINSTALL = --defaultdeps
    PERL_MM_USE_DEFAULT = 1
    SHELL = /bin/bash
    TERM = xterm-256color
    TMPDIR = /var/folders/vt/gpl7slvn6016nqcbkrdb0pj40000gp/T/

Perl special variables (and OS-specific diagnostics, for MSWin32):

    $^X = /Users/glauschwuffel/perl5/perlbrew/perls/perl-5.24.0/bin/perl
    $UID/$EUID = 502 / 502
    $GID = 20 20 12 61 79 80 81 98 701 33 100 204 395 398 399
    $EGID = 20 20 12 61 79 80 81 98 701 33 100 204 395 398 399

Perl module toolchain versions installed:

    Module              Have    
    ------------------- --------
    CPAN                2.11    
    CPAN::Meta          2.150005
    Cwd                 3.63    
    ExtUtils::CBuilder  0.280225
    ExtUtils::Command   7.34    
    ExtUtils::Install   2.06    
    ExtUtils::MakeMaker 7.34    
    ExtUtils::Manifest  1.70    
    ExtUtils::ParseXS   3.31    
    File::Spec          3.63    
    JSON                2.97000 
    JSON::PP            2.27300 
    Module::Build       0.4218  
    Module::Signature   n/a     
    Parse::CPAN::Meta   1.4417  
    Test::Harness       3.36    
    Test::More          1.302136
    YAML                1.18    
    YAML::Syck          1.29    
    version             0.9916  


--

Summary of my perl5 (revision 5 version 24 subversion 0) configuration:
   
  Platform:
    osname=darwin, osvers=15.5.0, archname=darwin-2level
    uname='darwin gregorgoldbachmbp.local 15.5.0 darwin kernel version 15.5.0: tue apr 19 18:36:36 pdt 2016; root:xnu-3248.50.21~8release_x86_64 x86_64 '
    config_args='-de -Dprefix=/Users/glauschwuffel/perl5/perlbrew/perls/perl-5.24.0 -Aeval:scriptdir=/Users/glauschwuffel/perl5/perlbrew/perls/perl-5.24.0/bin'
    hint=recommended, useposix=true, d_sigaction=define
    useithreads=undef, usemultiplicity=undef
    use64bitint=define, use64bitall=define, uselongdouble=undef
    usemymalloc=n, bincompat5005=undef
  Compiler:
    cc='cc', ccflags ='-fno-common -DPERL_DARWIN -fno-strict-aliasing -pipe -fstack-protector-strong -I/usr/local/include',
    optimize='-O3',
    cppflags='-fno-common -DPERL_DARWIN -fno-strict-aliasing -pipe -fstack-protector-strong -I/usr/local/include'
    ccversion='', gccversion='4.2.1 Compatible Apple LLVM 7.0.2 (clang-700.1.81)', gccosandvers=''
    intsize=4, longsize=8, ptrsize=8, doublesize=8, byteorder=12345678, doublekind=3
    d_longlong=define, longlongsize=8, d_longdbl=define, longdblsize=16, longdblkind=3
    ivtype='long', ivsize=8, nvtype='double', nvsize=8, Off_t='off_t', lseeksize=8
    alignbytes=8, prototype=define
  Linker and Libraries:
    ld='env MACOSX_DEPLOYMENT_TARGET=10.3 cc', ldflags =' -fstack-protector-strong -L/usr/local/lib'
    libpth=/Applications/Xcode.app/Contents/Developer/Toolchains/XcodeDefault.xctoolchain/usr/bin/../lib/clang/7.0.2/lib /Applications/Xcode.app/Contents/Developer/Toolchains/XcodeDefault.xctoolchain/usr/lib /Applications/Xcode.app/Contents/Developer/Platforms/MacOSX.platform/Developer/SDKs/MacOSX10.11.sdk/usr/lib /usr/local/lib /usr/lib
    libs=-lpthread -ldbm -ldl -lm -lutil -lc
    perllibs=-lpthread -ldl -lm -lutil -lc
    libc=, so=dylib, useshrplib=false, libperl=libperl.a
    gnulibc_version=''
  Dynamic Linking:
    dlsrc=dl_dlopen.xs, dlext=bundle, d_dlsymun=undef, ccdlflags=' '
    cccdlflags=' ', lddlflags=' -bundle -undefined dynamic_lookup -L/usr/local/lib -fstack-protector-strong'


Characteristics of this binary (from libperl): 
  Compile-time options: HAS_TIMES PERLIO_LAYERS PERL_COPY_ON_WRITE
                        PERL_DONT_CREATE_GVSV
                        PERL_HASH_FUNC_ONE_AT_A_TIME_HARD PERL_MALLOC_WRAP
                        PERL_PRESERVE_IVUV USE_64_BIT_ALL USE_64_BIT_INT
                        USE_LARGE_FILES USE_LOCALE USE_LOCALE_COLLATE
                        USE_LOCALE_CTYPE USE_LOCALE_NUMERIC USE_LOCALE_TIME
                        USE_PERLIO USE_PERL_ATOF
  Built under darwin
  Compiled at Jun 11 2016 12:31:20
  %ENV:
    PERL5LIB="/Users/glauschwuffel/.cpan/build/ExtUtils-MakeMaker-7.34-XhMl2Q/blib/arch:/Users/glauschwuffel/.cpan/build/ExtUtils-MakeMaker-7.34-XhMl2Q/blib/lib:/Users/glauschwuffel/.cpan/build/Moose-2.2011-O9YEdc/blib/arch:/Users/glauschwuffel/.cpan/build/Moose-2.2011-O9YEdc/blib/lib:/Users/glauschwuffel/.cpan/build/Sub-Name-0.21-8dMa_3/blib/arch:/Users/glauschwuffel/.cpan/build/Sub-Name-0.21-8dMa_3/blib/lib:/Users/glauschwuffel/.cpan/build/Devel-StackTrace-2.03-6E96mw/blib/arch:/Users/glauschwuffel/.cpan/build/Devel-StackTrace-2.03-6E96mw/blib/lib:/Users/glauschwuffel/.cpan/build/Devel-OverloadInfo-0.005-LLpxGZ/blib/arch:/Users/glauschwuffel/.cpan/build/Devel-OverloadInfo-0.005-LLpxGZ/blib/lib:/Users/glauschwuffel/.cpan/build/URI-1.74-2WPfZj/blib/arch:/Users/glauschwuffel/.cpan/build/URI-1.74-2WPfZj/blib/lib:/Users/glauschwuffel/.cpan/build/Test-Simple-1.302136-_69x4x/blib/arch:/Users/glauschwuffel/.cpan/build/Test-Simple-1.302136-_69x4x/blib/lib"
    PERL5OPT=""
    PERL5_CPANPLUS_IS_RUNNING="44167"
    PERL5_CPAN_IS_RUNNING="44167"
    PERL5_CPAN_IS_RUNNING_IN_RECURSION="66002,44167"
    PERLBREW_BASHRC_VERSION="0.46"
    PERLBREW_HOME="/Users/glauschwuffel/.perlbrew"
    PERLBREW_MANPATH="/Users/glauschwuffel/perl5/perlbrew/perls/perl-5.24.0/man"
    PERLBREW_PATH="/Users/glauschwuffel/perl5/perlbrew/bin:/Users/glauschwuffel/perl5/perlbrew/perls/perl-5.24.0/bin"
    PERLBREW_PERL="perl-5.24.0"
    PERLBREW_ROOT="/Users/glauschwuffel/perl5/perlbrew"
    PERLBREW_VERSION="0.46"
    PERL_CR_SMOKER_CURRENT="URL-Normalize-0.38"
    PERL_EXTUTILS_AUTOINSTALL="--defaultdeps"
    PERL_MM_USE_DEFAULT="1"
  @INC:
    /Users/glauschwuffel/.cpan/build/ExtUtils-MakeMaker-7.34-XhMl2Q/blib/arch
    /Users/glauschwuffel/.cpan/build/ExtUtils-MakeMaker-7.34-XhMl2Q/blib/lib
    /Users/glauschwuffel/.cpan/build/Moose-2.2011-O9YEdc/blib/arch
    /Users/glauschwuffel/.cpan/build/Moose-2.2011-O9YEdc/blib/lib
    /Users/glauschwuffel/.cpan/build/Sub-Name-0.21-8dMa_3/blib/arch
    /Users/glauschwuffel/.cpan/build/Sub-Name-0.21-8dMa_3/blib/lib
    /Users/glauschwuffel/.cpan/build/Devel-StackTrace-2.03-6E96mw/blib/arch
    /Users/glauschwuffel/.cpan/build/Devel-StackTrace-2.03-6E96mw/blib/lib
    /Users/glauschwuffel/.cpan/build/Devel-OverloadInfo-0.005-LLpxGZ/blib/arch
    /Users/glauschwuffel/.cpan/build/Devel-OverloadInfo-0.005-LLpxGZ/blib/lib
    /Users/glauschwuffel/.cpan/build/URI-1.74-2WPfZj/blib/arch
    /Users/glauschwuffel/.cpan/build/URI-1.74-2WPfZj/blib/lib
    /Users/glauschwuffel/.cpan/build/Test-Simple-1.302136-_69x4x/blib/arch
    /Users/glauschwuffel/.cpan/build/Test-Simple-1.302136-_69x4x/blib/lib
    /Users/glauschwuffel/perl5/perlbrew/perls/perl-5.24.0/lib/site_perl/5.24.0/darwin-2level
    /Users/glauschwuffel/perl5/perlbrew/perls/perl-5.24.0/lib/site_perl/5.24.0
    /Users/glauschwuffel/perl5/perlbrew/perls/perl-5.24.0/lib/5.24.0/darwin-2level
    /Users/glauschwuffel/perl5/perlbrew/perls/perl-5.24.0/lib/5.24.0
    .