Net-STOMP-Client v1.1_2 Perl 5 v5.12.0 amd64-freebsd-thread-multi
- Status
- Pass
- From
- Chris Williams (BINGOS)
- Dist
-
Net-STOMP-Client v1.1_2
- Platform
- Perl 5 v5.12.0 amd64-freebsd-thread-multi
- Date
- 2011-09-19 23:42:18
- ID
- 03254b08-e319-11e0-bbec-9aeec8b7ec30
This distribution has been tested as part of the CPAN Testers
project, supporting the Perl programming language. See
http://wiki.cpantesters.org/ for more information or email
questions to cpan-testers-discuss@perl.org
--
Dear LCONS,
This is a computer-generated error report created automatically by
CPANPLUS, version 0.9111. Testers personal comments may appear
at the end of this report.
MAKE TEST passed: PERL_DL_NONLAZY=1 /usr/home/cpan/pit/thr/perl-5.12.0/bin/perl "-MExtUtils::Command::MM" "-e" "test_harness(0, 'blib/lib', 'blib/arch')" t/*.t
t/1check.t ... ok
t/1frame.t ... ok
t/1parse.t ... ok
t/2broker.t .. skipped: A STOMP broker is required for this test, see t/2broker.t
t/3pod.t ..... skipped: Test::Pod 1.22 required for testing POD
t/4podcov.t .. skipped: Test::Pod::Coverage 1.08 required for testing POD coverage
All tests successful.
Files=6, Tests=97, 1 wallclock secs ( 0.07 usr 0.02 sys + 0.30 cusr 0.07 csys = 0.46 CPU)
Result: PASS
[MSG] [Tue Sep 20 00:40:58 2011] Sending test report for 'Net-STOMP-Client-1.1_2'
This report was machine-generated by CPANPLUS::Dist::YACSmoke 0.64.
Powered by minismokebox version 0.54
------------------------------
ENVIRONMENT AND OTHER CONTEXT
------------------------------
Environment variables:
AUTOMATED_TESTING = 1
PATH = /sbin:/bin:/usr/sbin:/usr/bin:/usr/games:/usr/local/sbin:/usr/local/bin:/home/cpan/bin
PERL5LIB = :/usr/home/cpan/pit/thr/conf/perl-5.12.0/.cpanplus/5.12.0/build/Net-STOMP-Client-1.1_2/blib/lib:/usr/home/cpan/pit/thr/conf/perl-5.12.0/.cpanplus/5.12.0/build/Net-STOMP-Client-1.1_2/blib/arch
PERL5_CPANPLUS_IS_RUNNING = 92623
PERL5_CPANPLUS_IS_VERSION = 0.9111
PERL5_MINISMOKEBOX = 0.54
PERL5_YACSMOKE_BASE = /usr/home/cpan/pit/thr/conf/perl-5.12.0
PERL_EXTUTILS_AUTOINSTALL = --defaultdeps
PERL_MM_USE_DEFAULT = 1
SHELL = /usr/local/bin/bash
TERM = screen
Perl special variables (and OS-specific diagnostics, for MSWin32):
Perl: $^X = /usr/home/cpan/pit/thr/perl-5.12.0/bin/perl
UID: $< = 1002
EUID: $> = 1002
GID: $( = 1002 1002
EGID: $) = 1002 1002
-------------------------------
--
Summary of my perl5 (revision 5 version 12 subversion 0) configuration:
Platform:
osname=freebsd, osvers=9.0-current-201101, archname=amd64-freebsd-thread-multi
uname='freebsd flooble.bingosnet.co.uk 9.0-current-201101 freebsd 9.0-current-201101 #0: mon jan 3 22:15:39 utc 2011 root@farrell.cse.buffalo.edu:usrobjusrsrcsysgeneric amd64 '
config_args='-des -Dprefix=/usr/home/cpan/pit/thr/perl-5.12.0 -Dusethreads'
hint=recommended, useposix=true, d_sigaction=define
useithreads=define, usemultiplicity=define
useperlio=define, d_sfio=undef, uselargefiles=define, usesocks=undef
use64bitint=define, use64bitall=define, uselongdouble=undef
usemymalloc=n, bincompat5005=undef
Compiler:
cc='cc', ccflags ='-DHAS_FPSETMASK -DHAS_FLOATINGPOINT_H -fno-strict-aliasing -pipe -fstack-protector -I/usr/local/include',
optimize='-O',
cppflags='-DHAS_FPSETMASK -DHAS_FLOATINGPOINT_H -fno-strict-aliasing -pipe -fstack-protector -I/usr/local/include'
ccversion='', gccversion='4.2.1 20070719 [FreeBSD]', gccosandvers=''
intsize=4, longsize=8, ptrsize=8, doublesize=8, byteorder=12345678
d_longlong=define, longlongsize=8, d_longdbl=define, longdblsize=16
ivtype='long', ivsize=8, nvtype='double', nvsize=8, Off_t='off_t', lseeksize=8
alignbytes=8, prototype=define
Linker and Libraries:
ld='cc', ldflags ='-pthread -Wl,-E -fstack-protector -L/usr/local/lib'
libpth=/usr/lib /usr/local/lib
libs=-lgdbm -lm -lcrypt
perllibs=-lm -lcrypt
libc=, so=so, useshrplib=false, libperl=libperl.a
gnulibc_version=''
Dynamic Linking:
dlsrc=dl_dlopen.xs, dlext=so, d_dlsymun=undef, ccdlflags=' '
cccdlflags='-DPIC -fPIC', lddlflags='-shared -L/usr/local/lib -fstack-protector'
Characteristics of this binary (from libperl):
Compile-time options: MULTIPLICITY PERL_DONT_CREATE_GVSV
PERL_IMPLICIT_CONTEXT PERL_MALLOC_WRAP USE_64_BIT_ALL
USE_64_BIT_INT USE_ITHREADS USE_LARGE_FILES
USE_PERLIO USE_PERL_ATOF USE_REENTRANT_API
Built under freebsd
Compiled at Apr 29 2011 05:20:04
%ENV:
PERL5LIB=":/usr/home/cpan/pit/thr/conf/perl-5.12.0/.cpanplus/5.12.0/build/Net-STOMP-Client-1.1_2/blib/lib:/usr/home/cpan/pit/thr/conf/perl-5.12.0/.cpanplus/5.12.0/build/Net-STOMP-Client-1.1_2/blib/arch"
PERL5_CPANPLUS_IS_RUNNING="92623"
PERL5_CPANPLUS_IS_VERSION="0.9111"
PERL5_MINISMOKEBOX="0.54"
PERL5_YACSMOKE_BASE="/usr/home/cpan/pit/thr/conf/perl-5.12.0"
PERL_EXTUTILS_AUTOINSTALL="--defaultdeps"
PERL_MM_USE_DEFAULT="1"
@INC:
/usr/home/cpan/pit/thr/conf/perl-5.12.0/.cpanplus/5.12.0/build/Net-STOMP-Client-1.1_2/blib/lib
/usr/home/cpan/pit/thr/conf/perl-5.12.0/.cpanplus/5.12.0/build/Net-STOMP-Client-1.1_2/blib/arch
/usr/home/cpan/pit/thr/perl-5.12.0/lib/site_perl/5.12.0/amd64-freebsd-thread-multi
/usr/home/cpan/pit/thr/perl-5.12.0/lib/site_perl/5.12.0
/usr/home/cpan/pit/thr/perl-5.12.0/lib/5.12.0/amd64-freebsd-thread-multi
/usr/home/cpan/pit/thr/perl-5.12.0/lib/5.12.0
.