CHI v0.56 Perl 5 v5.12.2 amd64-freebsd-thread-multi

Status
Pass
From
Nigel Horne
Dist
CHI v0.56
Platform
Perl 5 v5.12.2 amd64-freebsd-thread-multi
Date
2012-11-21 01:58:57
ID
02e73a22-337f-11e2-b186-b7b60814cada
This distribution has been tested as part of the CPAN Testers
project, supporting the Perl programming language.  See
http://wiki.cpantesters.org/ for more information or email
questions to cpan-testers-discuss@perl.org


--
Dear Jonathan Swartz,

This is a computer-generated report for CHI-0.56
on perl 5.12.2, created by CPAN-Reporter-1.2006.

Thank you for uploading your work to CPAN.  Congratulations!
All tests were successful.

Sections of this report:

    * Tester comments
    * Program output
    * Prerequisites
    * Environment and other context

------------------------------
TESTER COMMENTS
------------------------------

Additional comments from tester:

this report is from an automated smoke testing program
and was not reviewed by a human for accuracy

------------------------------
PROGRAM OUTPUT
------------------------------

Output from '/usr/bin/make test':

PERL_DL_NONLAZY=1 /home/njh/perl5/perlbrew/perls/perl-5.12.2/bin/perl "-MExtUtils::Command::MM" "-e" "test_harness(0, 'blib/lib', 'blib/arch')" t/*.t
# Testing CHI 0.56, Perl 5.012002, /home/njh/perl5/perlbrew/perls/perl-5.12.2/bin/perl
t/00-load.t ............................. ok
t/author-03-pod.t ....................... skipped: these tests are for testing by the author
t/author-file-driver.t .................. skipped: these tests are for testing by the author
t/author-no-data-serializer.t ........... skipped: these tests are for testing by the author
t/author-RequiredModules.t .............. skipped: these tests are for testing by the author
t/Bugs.t ................................ ok
t/Config.t .............................. ok
t/Constants.t ........................... ok
t/Driver-Memory.t ....................... ok
t/Driver-RawMemory.t .................... ok
t/GetError.t ............................ ok
t/Initialize.t .......................... ok
t/Sanity.t .............................. ok
t/SetError.t ............................ ok
t/smoke-Driver-CacheCache.t ............. skipped: one of required modules not installed: Cache::FileCache
t/smoke-Driver-FastMmap.t ............... skipped: one of required modules not installed: Cache::FastMmap
t/smoke-Driver-File-DepthZero.t ......... ok
t/smoke-Driver-File.t ................... ok
t/smoke-Driver-NonMoose.t ............... ok
t/smoke-Driver-Subcache-l1_cache.t ...... ok
t/smoke-Driver-Subcache-mirror_cache.t .. ok
t/smoke-Null.t .......................... ok
t/Subcache.t ............................ ok
t/Subclass.t ............................ ok
t/Util.t ................................ ok
All tests successful.
Files=25, Tests=5215, 33 wallclock secs ( 1.60 usr  0.66 sys + 24.45 cusr  6.00 csys = 32.70 CPU)
Result: PASS

------------------------------
PREREQUISITES
------------------------------

Prerequisite modules loaded:

requires:

    Module                Need Have  
    --------------------- ---- ------
    Carp::Assert          0.20 0.20  
    Data::UUID            0    1.218 
    Digest::JHash         0    0.07  
    Digest::MD5           0    2.52  
    File::Spec            0.80 3.33  
    Hash::MoreUtils       0    0.02  
    JSON                  0    2.53  
    List::MoreUtils       0.13 0.33  
    Log::Any              0.08 0.14  
    Moose                 0.66 2.0604
    Storable              0    2.39  
    String::RewritePrefix 0    0.006 
    Task::Weaken          0    1.04  
    Time::Duration        1.06 1.06  
    Time::Duration::Parse 0.03 0.06  
    Time::HiRes           1.30 1.9725
    Try::Tiny             0.05 0.11  

build_requires:

    Module                Need Have  
    --------------------- ---- ------
    Date::Parse           0    2.30  
    Test::Builder         0    0.98  
    Test::Class           0    0.37  
    Test::Deep            0    0.110 
    Test::Exception       0    0.31  
    Test::More            0    0.98  
    Test::Warn            0    0.24  

configure_requires:

    Module                Need Have  
    --------------------- ---- ------
    ExtUtils::MakeMaker   6.30 6.62  


------------------------------
ENVIRONMENT AND OTHER CONTEXT
------------------------------

Environment variables:

    AUTOMATED_TESTING = 1
    LD_LIBRARY_PATH = /usr/local/lib:
    MANPATH_WITHOUT_PERLBREW = /usr/share/man:/usr/local/man:/usr/share/openssl/man:/usr/local/lib/perl5/5.12.4/man:/usr/local/lib/perl5/5.12.4/perl/man
    PATH = /home/njh/perl5/perlbrew/bin:/home/njh/perl5/perlbrew/perls/perl-5.12.2/bin:/home/njh/perl5/perlbrew/bin:/sbin:/bin:/usr/sbin:/usr/bin:/usr/games:/usr/local/sbin:/usr/local/bin:/home/njh/bin
    PATH_WITHOUT_PERLBREW = /sbin:/bin:/usr/sbin:/usr/bin:/usr/games:/usr/local/sbin:/usr/local/bin:/home/njh/bin
    PERL5LIB = /home/njh/.cpan/build/Moose-2.0604-jjVjMH/blib/arch:/home/njh/.cpan/build/Moose-2.0604-jjVjMH/blib/lib:/home/njh/.cpan/build/Class-Load-XS-0.06-zdGGiU/blib/arch:/home/njh/.cpan/build/Class-Load-XS-0.06-zdGGiU/blib/lib:/home/njh/.cpan/build/Class-Load-0.20-LBLIpa/blib/arch:/home/njh/.cpan/build/Class-Load-0.20-LBLIpa/blib/lib:/home/njh/.cpan/build/Package-Stash-0.33-6LkLiu/blib/arch:/home/njh/.cpan/build/Package-Stash-0.33-6LkLiu/blib/lib:/home/njh/.cpan/build/Package-Stash-XS-0.25-zUf6OD/blib/arch:/home/njh/.cpan/build/Package-Stash-XS-0.25-zUf6OD/blib/lib
    PERL5OPT = 
    PERL5_CPANPLUS_IS_RUNNING = 47198
    PERL5_CPAN_IS_RUNNING = 47198
    PERL5_MINISMOKEBOX = 0.54
    PERLBREW_BASHRC_VERSION = 0.50
    PERLBREW_HOME = /home/njh/.perlbrew
    PERLBREW_LIB = 
    PERLBREW_MANPATH = /home/njh/perl5/perlbrew/perls/perl-5.12.2/man
    PERLBREW_PATH = /home/njh/perl5/perlbrew/bin:/home/njh/perl5/perlbrew/perls/perl-5.12.2/bin
    PERLBREW_PERL = perl-5.12.2
    PERLBREW_ROOT = /home/njh/perl5/perlbrew
    PERLBREW_VERSION = 0.50
    PERL_EXTUTILS_AUTOINSTALL = --defaultdeps
    PERL_MM_USE_DEFAULT = 1
    SHELL = /usr/local/bin/bash
    TERM = xterm

Perl special variables (and OS-specific diagnostics, for MSWin32):

    $^X = /home/njh/perl5/perlbrew/perls/perl-5.12.2/bin/perl
    $UID/$EUID = 1001 / 1001
    $GID = 1001 1001 0
    $EGID = 1001 1001 0

Perl module toolchain versions installed:

    Module              Have    
    ------------------- --------
    CPAN                1.9800  
    CPAN::Meta          2.120921
    Cwd                 3.33    
    ExtUtils::CBuilder  0.280205
    ExtUtils::Command   1.17    
    ExtUtils::Install   1.55    
    ExtUtils::MakeMaker 6.62    
    ExtUtils::Manifest  1.61    
    ExtUtils::ParseXS   3.15    
    File::Spec          3.33    
    JSON                2.53    
    JSON::PP            2.27200 
    Module::Build       0.4003  
    Module::Signature   n/a     
    Parse::CPAN::Meta   1.4404  
    Test::Harness       3.25    
    Test::More          0.98    
    YAML                0.84    
    YAML::Syck          1.21    
    version             0.9901  


--

Summary of my perl5 (revision 5 version 12 subversion 2) configuration:
   
  Platform:
    osname=freebsd, osvers=9.0-release, archname=amd64-freebsd-thread-multi
    uname='freebsd qemu 9.0-release freebsd 9.0-release #0: tue jan 3 07:46:30 utc 2012 root@farrell.cse.buffalo.edu:usrobjusrsrcsysgeneric amd64 '
    config_args='-de -Dprefix=/home/njh/perl5/perlbrew/perls/perl-5.12.2 -Duseithreads -Dusemultiplicity -Accflags=-O2 -W -Wformat=2 -Wswitch -Wshadow -Wwrite-strings -Wuninitialized -Wall -pipe -mtune=native -march=native -fomit-frame-pointer -msse2 -msse -mmmx -mfpmath=sse -pedantic -D_FORTIFY_SOURCE=2 -Wpointer-arith -Wstrict-prototypes -fstack-protector -Wstack-protector -Wextra -Wbad-function-cast -Wcast-align -Wcast-qual -Wdisabled-optimization -Wendif-labels -Wfloat-equal -Wformat-nonliteral -Winline -Wmissing-declarations -Wmissing-prototypes -Wnested-externs -Wpointer-arith -Wundef -Wformat-security -Aeval:scriptdir=/home/njh/perl5/perlbrew/perls/perl-5.12.2/bin'
    hint=recommended, useposix=true, d_sigaction=define
    useithreads=define, usemultiplicity=define
    useperlio=define, d_sfio=undef, uselargefiles=define, usesocks=undef
    use64bitint=define, use64bitall=define, uselongdouble=undef
    usemymalloc=n, bincompat5005=undef
  Compiler:
    cc='cc', ccflags ='-DHAS_FPSETMASK -DHAS_FLOATINGPOINT_H -O2 -W -Wformat=2 -Wswitch -Wshadow -Wwrite-strings -Wuninitialized -Wall -pipe -mtune=native -march=native -fomit-frame-pointer -msse2 -msse -mmmx -mfpmath=sse -pedantic -D_FORTIFY_SOURCE=2 -Wpointer-arith -Wstrict-prototypes -fstack-protector -Wstack-protector -Wextra -Wbad-function-cast -Wcast-align -Wcast-qual -Wdisabled-optimization -Wendif-labels -Wfloat-equal -Wformat-nonliteral -Winline -Wmissing-declarations -Wmissing-prototypes -Wnested-externs -Wpointer-arith -Wundef -Wformat-security -fno-strict-aliasing -I/usr/local/include',
    optimize='-O',
    cppflags='-DHAS_FPSETMASK -DHAS_FLOATINGPOINT_H -O2 -W -Wformat=2 -Wswitch -Wshadow -Wwrite-strings -Wuninitialized -Wall -pipe -mtune=native -march=native -fomit-frame-pointer -msse2 -msse -mmmx -mfpmath=sse -pedantic -D_FORTIFY_SOURCE=2 -Wpointer-arith -Wstrict-prototypes -fstack-protector -Wstack-protector -Wextra -Wbad-function-cast -Wcast-align -Wcast-qual -Wdisabled-optimization -Wendif-labels -Wfloat-equal -Wformat-nonliteral -Winline -Wmissing-declarations -Wmissing-prototypes -Wnested-externs -Wpointer-arith -Wundef -Wformat-security -fno-strict-aliasing -I/usr/local/include'
    ccversion='', gccversion='4.2.1 20070831 patched [FreeBSD]', gccosandvers=''
    intsize=4, longsize=8, ptrsize=8, doublesize=8, byteorder=12345678
    d_longlong=define, longlongsize=8, d_longdbl=define, longdblsize=16
    ivtype='long', ivsize=8, nvtype='double', nvsize=8, Off_t='off_t', lseeksize=8
    alignbytes=8, prototype=define
  Linker and Libraries:
    ld='cc', ldflags ='-pthread -Wl,-E  -fstack-protector -L/usr/local/lib'
    libpth=/usr/lib /usr/local/lib
    libs=-lm -lcrypt
    perllibs=-lm -lcrypt
    libc=, so=so, useshrplib=false, libperl=libperl.a
    gnulibc_version=''
  Dynamic Linking:
    dlsrc=dl_dlopen.xs, dlext=so, d_dlsymun=undef, ccdlflags=' '
    cccdlflags='-DPIC -fPIC', lddlflags='-shared  -L/usr/local/lib -fstack-protector'


Characteristics of this binary (from libperl): 
  Compile-time options: MULTIPLICITY PERL_DONT_CREATE_GVSV
                        PERL_IMPLICIT_CONTEXT PERL_MALLOC_WRAP USE_64_BIT_ALL
                        USE_64_BIT_INT USE_ITHREADS USE_LARGE_FILES
                        USE_PERLIO USE_PERL_ATOF USE_REENTRANT_API
  Built under freebsd
  Compiled at Oct 11 2012 09:21:25
  %ENV:
    PERL5LIB="/home/njh/.cpan/build/Moose-2.0604-jjVjMH/blib/arch:/home/njh/.cpan/build/Moose-2.0604-jjVjMH/blib/lib:/home/njh/.cpan/build/Class-Load-XS-0.06-zdGGiU/blib/arch:/home/njh/.cpan/build/Class-Load-XS-0.06-zdGGiU/blib/lib:/home/njh/.cpan/build/Class-Load-0.20-LBLIpa/blib/arch:/home/njh/.cpan/build/Class-Load-0.20-LBLIpa/blib/lib:/home/njh/.cpan/build/Package-Stash-0.33-6LkLiu/blib/arch:/home/njh/.cpan/build/Package-Stash-0.33-6LkLiu/blib/lib:/home/njh/.cpan/build/Package-Stash-XS-0.25-zUf6OD/blib/arch:/home/njh/.cpan/build/Package-Stash-XS-0.25-zUf6OD/blib/lib"
    PERL5OPT=""
    PERL5_CPANPLUS_IS_RUNNING="47198"
    PERL5_CPAN_IS_RUNNING="47198"
    PERL5_MINISMOKEBOX="0.54"
    PERLBREW_BASHRC_VERSION="0.50"
    PERLBREW_HOME="/home/njh/.perlbrew"
    PERLBREW_LIB=""
    PERLBREW_MANPATH="/home/njh/perl5/perlbrew/perls/perl-5.12.2/man"
    PERLBREW_PATH="/home/njh/perl5/perlbrew/bin:/home/njh/perl5/perlbrew/perls/perl-5.12.2/bin"
    PERLBREW_PERL="perl-5.12.2"
    PERLBREW_ROOT="/home/njh/perl5/perlbrew"
    PERLBREW_VERSION="0.50"
    PERL_EXTUTILS_AUTOINSTALL="--defaultdeps"
    PERL_MM_USE_DEFAULT="1"
  @INC:
    /home/njh/.cpan/build/Moose-2.0604-jjVjMH/blib/arch
    /home/njh/.cpan/build/Moose-2.0604-jjVjMH/blib/lib
    /home/njh/.cpan/build/Class-Load-XS-0.06-zdGGiU/blib/arch
    /home/njh/.cpan/build/Class-Load-XS-0.06-zdGGiU/blib/lib
    /home/njh/.cpan/build/Class-Load-0.20-LBLIpa/blib/arch
    /home/njh/.cpan/build/Class-Load-0.20-LBLIpa/blib/lib
    /home/njh/.cpan/build/Package-Stash-0.33-6LkLiu/blib/arch
    /home/njh/.cpan/build/Package-Stash-0.33-6LkLiu/blib/lib
    /home/njh/.cpan/build/Package-Stash-XS-0.25-zUf6OD/blib/arch
    /home/njh/.cpan/build/Package-Stash-XS-0.25-zUf6OD/blib/lib
    /home/njh/perl5/perlbrew/perls/perl-5.12.2/lib/site_perl/5.12.2/amd64-freebsd-thread-multi
    /home/njh/perl5/perlbrew/perls/perl-5.12.2/lib/site_perl/5.12.2
    /home/njh/perl5/perlbrew/perls/perl-5.12.2/lib/5.12.2/amd64-freebsd-thread-multi
    /home/njh/perl5/perlbrew/perls/perl-5.12.2/lib/5.12.2
    .