Statocles v0.046 Perl 5 v5.22.0 RC2 x86_64-linux
- Status
- Pass
- From
- Andreas J. König (ANDK)
- Dist
-
Statocles v0.046
- Platform
- Perl 5 v5.22.0 RC2 x86_64-linux
- Date
- 2015-05-25 02:01:52
- ID
- 02d99a46-0282-11e5-9f04-eb64f292232d
This distribution has been tested as part of the CPAN Testers
project, supporting the Perl programming language. See
http://wiki.cpantesters.org/ for more information or email
questions to cpan-testers-discuss@perl.org
--
Dear Doug Bell,
This is a computer-generated report for Statocles-0.046
on perl 5.22.0, created by CPAN-Reporter-1.2014.
Thank you for uploading your work to CPAN. Congratulations!
All tests were successful.
Sections of this report:
* Tester comments
* Program output
* Prerequisites
* Environment and other context
------------------------------
TESTER COMMENTS
------------------------------
Additional comments from tester:
this report is from an automated smoke testing program
and was not reviewed by a human for accuracy
------------------------------
PROGRAM OUTPUT
------------------------------
Output from '/usr/bin/make test':
Skip blib/lib/auto/share/dist/Statocles/zsh/_statocles (unchanged)
Skip blib/lib/auto/share/dist/Statocles/theme/default/site/head_after.html.ep (unchanged)
Skip blib/lib/auto/share/dist/Statocles/theme/default/css/statocles-default.css (unchanged)
Skip blib/lib/auto/share/dist/Statocles/theme/default/site/layout.html.ep (unchanged)
Skip blib/lib/auto/share/dist/Statocles/create/site.yml (unchanged)
Skip blib/lib/auto/share/dist/Statocles/theme/default/site/style.html (unchanged)
Skip blib/lib/auto/share/dist/Statocles/theme/default/perldoc/pod.html.ep (unchanged)
Skip blib/lib/auto/share/dist/Statocles/theme/default/perldoc/source.html.ep (unchanged)
Skip blib/lib/auto/share/dist/Statocles/theme/default/site/header_after.html.ep (unchanged)
Skip blib/lib/auto/share/dist/Statocles/theme/default/blog/index.html.ep (unchanged)
Skip blib/lib/auto/share/dist/Statocles/theme/default/site/robots.txt.ep (unchanged)
Skip blib/lib/auto/share/dist/Statocles/theme/default/site/footer.html.ep (unchanged)
Skip blib/lib/auto/share/dist/Statocles/theme/default/blog/index.rss.ep (unchanged)
Skip blib/lib/auto/share/dist/Statocles/theme/default/css/skeleton.css (unchanged)
Skip blib/lib/auto/share/dist/Statocles/theme/default/site/sitemap.xml.ep (unchanged)
Skip blib/lib/auto/share/dist/Statocles/create/script.yml (unchanged)
Skip blib/lib/auto/share/dist/Statocles/theme/default/css/normalize.css (unchanged)
Skip blib/lib/auto/share/dist/Statocles/theme/default/site/sidebar_before.html.ep (unchanged)
Skip blib/lib/auto/share/dist/Statocles/theme/default/blog/index.atom.ep (unchanged)
Skip blib/lib/auto/share/dist/Statocles/theme/default/blog/post.html.ep (unchanged)
PERL_DL_NONLAZY=1 "/home/sand/src/perl/repoperls/installed-perls/perl/v5.22.0-RC2/165a/bin/perl" "-MExtUtils::Command::MM" "-MTest::Harness" "-e" "undef *Test::Harness::Switches; test_harness(0, 'blib/lib', 'blib/arch')" t/*.t t/app/*.t t/app/blog/*.t t/app/perldoc/*.t t/app/plain/*.t t/app/static/*.t t/bin/*.t t/command/*.t t/deploy/*.t t/page/*.t t/plugin/*.t t/site/*.t t/store/file/*.t t/template/*.t t/theme/*.t
t/00-compile.t ................ ok
#
# Versions for all modules listed in MYMETA.json (including optional ones):
#
# === Configure Requires ===
#
# Module Want Have
# ----------------------- ---- -------
# ExtUtils::MakeMaker any 7.04_01
# File::ShareDir::Install 0.06 0.10
#
# === Build Requires ===
#
# Module Want Have
# ------------------- ---- -------
# ExtUtils::MakeMaker any 7.04_01
#
# === Test Requires ===
#
# Module Want Have
# ------------------- -------- --------
# Capture::Tiny any 0.30
# Dir::Self any 0.11
# ExtUtils::MakeMaker any 7.04_01
# File::Spec any 3.56
# IO::Handle any 1.35
# IPC::Open3 any 1.18
# Storable any 2.53
# Test::Deep any 0.115
# Test::Differences any 0.63
# Test::Exception any 0.38
# Test::More 1.001005 1.001014
#
# === Test Recommends ===
#
# Module Want Have
# ---------- -------- --------
# CPAN::Meta 2.120900 2.150001
#
# === Runtime Requires ===
#
# Module Want Have
# --------------------- -------- --------
# Beam::Emitter 0.007 1.000
# Beam::Wire 1.013 1.013
# Encode any 2.72
# File::Copy::Recursive any 0.38
# File::Share any 0.25
# Git::Repository any 1.314
# Import::Base 0.009 0.012
# List::MoreUtils any 0.412
# Mojolicious 6.0 6.11
# Moo 2.000001 2.000001
# Path::Tiny 0.060 0.068
# Pod::Usage::Return any 0.003
# Text::Markdown any 1.000031
# Time::Piece any 1.30
# Type::Tiny any 1.000005
# Types::Path::Tiny any 0.005
# YAML any 1.15
# strict any 1.09
# warnings any 1.32
#
# === Runtime Recommends ===
#
# Module Want Have
# -------------- ---- --------
# PPI any 1.220
# Pod::Elemental any 0.103004
# Pod::Weaver any 4.012
#
t/00-report-prereqs.t ......... ok
# Before test: STDIN is interactive
# After Test: STDIN is not interactive
# Before test: STDIN is interactive
# After Test: STDIN is not interactive
t/app/blog/command.t .......... ok
t/app/blog/constructor.t ...... ok
# Current LC_TIME locale: en_US.UTF-8
# Could not set locale to ru_RU. Still
t/app/blog/pages.t ............ ok
t/app/blog/recent_posts.t ..... ok
t/app/perldoc/constructor.t ... ok
t/app/perldoc/pages.t ......... ok
t/app/plain.t ................. ok
t/app/plain/constructor.t ..... ok
t/app/plain/pages.t ........... ok
t/app/static/constructor.t .... ok
t/app/static/pages.t .......... ok
t/bin/statocles.t ............. ok
t/command/apps.t .............. ok
t/command/build_and_deploy.t .. ok
t/command/bundle.t ............ ok
# Git version: 2.001004
t/command/create.t ............ ok
t/command/daemon.t ............ ok
t/command/error.t ............. ok
t/command/help_and_version.t .. ok
t/command/mojo_app.t .......... ok
t/deploy/file.t ............... ok
# Git version: 2.001004
t/deploy/git.t ................ ok
t/link.t ...................... ok
t/page/document.t ............. ok
t/page/feed.t ................. ok
t/page/file.t ................. ok
t/page/list.t ................. ok
t/page/plain.t ................ ok
[Mon May 25 04:01:16 2015] [warn] URL broken on /blog/2014/06/02/more_tags.html: '/images/with spaces.png' not found
[Mon May 25 04:01:16 2015] [warn] URL broken on /blog/2014/06/02/more_tags.html: '/blog/2014/06/02/does_not_exist' not found
[Mon May 25 04:01:16 2015] [warn] URL broken on /blog/2014/06/02/more_tags.html: '/does_not_exist' not found
[Mon May 25 04:01:16 2015] [warn] URL broken on /blog/2014/06/02/more_tags.html: '/does_not_exist.jpg' not found
[Mon May 25 04:01:17 2015] [warn] URL broken on /blog/2014/06/02/more_tags.html: '/blog/2014/06/02/does_not_exist' not found
[Mon May 25 04:01:17 2015] [warn] URL broken on /blog/2014/06/02/more_tags.html: '/images/with spaces.png' not found
t/plugin/link_check.t ......... ok
t/site/build_and_deploy.t ..... ok
t/site/constructor.t .......... ok
t/site/data.t ................. ok
t/site/events.t ............... ok
t/site/index.t ................ ok
t/site/nav.t .................. ok
t/site/sitemap_and_robots.t ... ok
t/site/url.t .................. ok
t/site/warnings.t ............. ok
t/store/file/constructor.t .... ok
t/store/file/document.t ....... ok
t/store/file/file.t ........... ok
t/template/basic.t ............ ok
t/template/include.t .......... ok
t/theme.t ..................... ok
t/theme/check.t ............... ok
t/types.t ..................... ok
All tests successful.
Files=48, Tests=235, 126 wallclock secs ( 0.25 usr 0.31 sys + 55.02 cusr 11.06 csys = 66.64 CPU)
Result: PASS
------------------------------
PREREQUISITES
------------------------------
Prerequisite modules loaded:
requires:
Module Need Have
----------------------- -------- --------
Beam::Emitter 0.007 1.000
Beam::Wire 1.013 1.013
Encode 0 2.72
File::Copy::Recursive 0 0.38
File::Share 0 0.25
Git::Repository 0 1.314
Import::Base 0.009 0.012
List::MoreUtils 0 0.412
Mojolicious 6.0 6.11
Moo 2.000001 2.000001
Path::Tiny 0.060 0.068
perl 5.010 5.022000
Pod::Usage::Return 0 0.003
strict 0 1.09
Text::Markdown 0 1.000031
Time::Piece 0 1.30
Type::Tiny 0 1.000005
Types::Path::Tiny 0 0.005
warnings 0 1.32
YAML 0 1.15
build_requires:
Module Need Have
----------------------- -------- --------
Capture::Tiny 0 0.30
Dir::Self 0 0.11
ExtUtils::MakeMaker 0 7.04_01
File::Spec 0 3.56
IO::Handle 0 1.35
IPC::Open3 0 1.18
Storable 0 2.53
Test::Deep 0 0.115
Test::Differences 0 0.63
Test::Exception 0 0.38
Test::More 1.001005 1.001014
configure_requires:
Module Need Have
----------------------- -------- --------
ExtUtils::MakeMaker 0 7.04_01
File::ShareDir::Install 0.06 0.10
------------------------------
ENVIRONMENT AND OTHER CONTEXT
------------------------------
Environment variables:
AUTOMATED_TESTING = 1
LANG = en_US.UTF-8
LANGUAGE = en_US:en
PATH = /home/sand/bin:/usr/local/bin:/usr/bin:/bin:/usr/games:/usr/local/perl/bin:/usr/X11/bin:/sbin:/usr/sbin
PERL5LIB =
PERL5OPT =
PERL5_CPANPLUS_IS_RUNNING = 26252
PERL5_CPAN_IS_RUNNING = 26252
PERL_MM_USE_DEFAULT = 1
SHELL = /usr/bin/zsh
TERM = screen
Perl special variables (and OS-specific diagnostics, for MSWin32):
$^X = /home/sand/src/perl/repoperls/installed-perls/perl/v5.22.0-RC2/165a/bin/perl
$UID/$EUID = 1005 / 1005
$GID = 1005 1005
$EGID = 1005 1005
Perl module toolchain versions installed:
Module Have
------------------- --------
CPAN 2.10
CPAN::Meta 2.150001
Cwd 3.56
ExtUtils::CBuilder 0.280221
ExtUtils::Command 1.20
ExtUtils::Install 2.04
ExtUtils::MakeMaker 7.04_01
ExtUtils::Manifest 1.70
ExtUtils::ParseXS 3.28
File::Spec 3.56
JSON 2.90
JSON::PP 2.27300
Module::Build 0.4212
Module::Signature 0.79
Parse::CPAN::Meta 1.4414
Test::Harness 3.35
Test::More 1.001014
YAML 1.15
YAML::Syck 1.29
version 0.9909
--
Summary of my perl5 (revision 5 version 22 subversion 0) configuration:
Commit id: 6378109479f5b474e8205c8478f484b209078772
Platform:
osname=linux, osvers=4.0.0-1-amd64, archname=x86_64-linux
uname='linux k83 4.0.0-1-amd64 #1 smp debian 4.0.2-1 (2015-05-11) x86_64 gnulinux '
config_args='-Dprefix=/home/sand/src/perl/repoperls/installed-perls/perl/v5.22.0-RC2/165a -Dmyhostname=k83 -Dinstallusrbinperl=n -Uversiononly -Dusedevel -des -Ui_db -Uuseithreads -Uuselongdouble -DDEBUGGING=-g'
hint=recommended, useposix=true, d_sigaction=define
useithreads=undef, usemultiplicity=undef
use64bitint=define, use64bitall=define, uselongdouble=undef
usemymalloc=n, bincompat5005=undef
Compiler:
cc='cc', ccflags ='-fwrapv -fno-strict-aliasing -pipe -fstack-protector-strong -I/usr/local/include -D_LARGEFILE_SOURCE -D_FILE_OFFSET_BITS=64 -D_FORTIFY_SOURCE=2',
optimize='-O2 -g',
cppflags='-fwrapv -fno-strict-aliasing -pipe -fstack-protector-strong -I/usr/local/include'
ccversion='', gccversion='4.9.2', gccosandvers=''
intsize=4, longsize=8, ptrsize=8, doublesize=8, byteorder=12345678, doublekind=3
d_longlong=define, longlongsize=8, d_longdbl=define, longdblsize=16, longdblkind=3
ivtype='long', ivsize=8, nvtype='double', nvsize=8, Off_t='off_t', lseeksize=8
alignbytes=8, prototype=define
Linker and Libraries:
ld='cc', ldflags =' -fstack-protector-strong -L/usr/local/lib'
libpth=/usr/local/lib /usr/lib/gcc/x86_64-linux-gnu/4.9/include-fixed /usr/include/x86_64-linux-gnu /usr/lib /lib/x86_64-linux-gnu /lib/../lib /usr/lib/x86_64-linux-gnu /usr/lib/../lib /lib
libs=-lpthread -lnsl -lgdbm -ldb -ldl -lm -lcrypt -lutil -lc -lgdbm_compat
perllibs=-lpthread -lnsl -ldl -lm -lcrypt -lutil -lc
libc=libc-2.19.so, so=so, useshrplib=false, libperl=libperl.a
gnulibc_version='2.19'
Dynamic Linking:
dlsrc=dl_dlopen.xs, dlext=so, d_dlsymun=undef, ccdlflags='-Wl,-E'
cccdlflags='-fPIC', lddlflags='-shared -O2 -g -L/usr/local/lib -fstack-protector-strong'
Characteristics of this binary (from libperl):
Compile-time options: HAS_TIMES PERLIO_LAYERS PERL_DONT_CREATE_GVSV
PERL_HASH_FUNC_ONE_AT_A_TIME_HARD PERL_MALLOC_WRAP
PERL_NEW_COPY_ON_WRITE PERL_PRESERVE_IVUV
PERL_USE_DEVEL USE_64_BIT_ALL USE_64_BIT_INT
USE_LARGE_FILES USE_LOCALE USE_LOCALE_COLLATE
USE_LOCALE_CTYPE USE_LOCALE_NUMERIC USE_LOCALE_TIME
USE_PERLIO USE_PERL_ATOF
Locally applied patches:
RC2
Built under linux
Compiled at May 22 2015 01:09:33
%ENV:
PERL5LIB=""
PERL5OPT=""
PERL5_CPANPLUS_IS_RUNNING="26252"
PERL5_CPAN_IS_RUNNING="26252"
PERL_MM_USE_DEFAULT="1"
@INC:
/home/sand/src/perl/repoperls/installed-perls/perl/v5.22.0-RC2/165a/lib/site_perl/5.22.0/x86_64-linux
/home/sand/src/perl/repoperls/installed-perls/perl/v5.22.0-RC2/165a/lib/site_perl/5.22.0
/home/sand/src/perl/repoperls/installed-perls/perl/v5.22.0-RC2/165a/lib/5.22.0/x86_64-linux
/home/sand/src/perl/repoperls/installed-perls/perl/v5.22.0-RC2/165a/lib/5.22.0
.