Config-Validator v1.0_1 Perl 5 v5.10.1 i86pc-solaris-64int
- Status
- Pass
- From
- Jost Krieger
- Dist
-
Config-Validator v1.0_1
- Platform
- Perl 5 v5.10.1 i86pc-solaris-64int
- Date
- 2013-11-21 22:26:48
- ID
- 02ce41dc-52fc-11e3-8bdd-fcdbea693a36
This distribution has been tested as part of the CPAN Testers
project, supporting the Perl programming language. See
http://wiki.cpantesters.org/ for more information or email
questions to cpan-testers-discuss@perl.org
--
Dear Lionel Cons,
This is a computer-generated report for Config-Validator-1.0_1
on perl 5.10.1, created by CPAN-Reporter-1.2010.
Thank you for uploading your work to CPAN. Congratulations!
All tests were successful.
Sections of this report:
* Tester comments
* Program output
* Prerequisites
* Environment and other context
------------------------------
TESTER COMMENTS
------------------------------
Additional comments from tester:
this report is from an automated smoke testing program
and was not reviewed by a human for accuracy
------------------------------
PROGRAM OUTPUT
------------------------------
Output from '/usr/local/bin/make test':
PERL_DL_NONLAZY=1 /export/home/cpantest/perl5/bin/perl "-MExtUtils::Command::MM" "-MTest::Harness" "-e" "undef *Test::Harness::Switches; test_harness(0, 'blib/lib', 'blib/arch')" t/*.t
t/1group.t ..... ok
t/1misc.t ...... ok
t/1ref.t ....... ok
t/1simple.t .... ok
t/1tree.t ...... ok
t/2hostname.t .. ok
t/2ipv4.t ...... ok
t/2ipv6.t ...... ok
t/2schema.t .... ok
t/2size.t ...... ok
t/2traverse.t .. ok
t/3pod.t ....... ok
t/4podcov.t .... skipped: Test::Pod::Coverage 1.08 required for testing POD coverage
All tests successful.
Files=13, Tests=613, 4 wallclock secs ( 0.18 usr 0.12 sys + 0.92 cusr 0.37 csys = 1.59 CPU)
Result: PASS
------------------------------
PREREQUISITES
------------------------------
Prerequisite modules loaded:
requires:
Module Need Have
------------------- ---- --------
No::Worries 0.7 1.0
Scalar::Util 0 1.35
URI::Escape 0 3.31
build_requires:
Module Need Have
------------------- ---- --------
Test::More 0 1.001002
configure_requires:
Module Need Have
------------------- ---- --------
ExtUtils::MakeMaker 0 6.82
------------------------------
ENVIRONMENT AND OTHER CONTEXT
------------------------------
Environment variables:
AUTOMATED_TESTING = 1
LANG = C
LD_LIBRARY_PATH = /usr/local/lib:
PATH = /export/home/cpantest/perl5/bin:/usr/local/bin:/usr/bin
PERL5LIB = /export/home/cpantest/.cpan/build/No-Worries-1.0-R5GPak/blib/arch:/export/home/cpantest/.cpan/build/No-Worries-1.0-R5GPak/blib/lib
PERL5OPT =
PERL5_CPANPLUS_IS_RUNNING = 76
PERL5_CPAN_IS_RUNNING = 76
PERL5_CPAN_IS_RUNNING_IN_RECURSION = 21415,76
PERL_CR_SMOKER_CURRENT = Config-Validator-1.0_1
PERL_EXTUTILS_AUTOINSTALL = --defaultdeps
PERL_MM_USE_DEFAULT = 1
SHELL = /usr/bin/bash
TERM = xterm
Perl special variables (and OS-specific diagnostics, for MSWin32):
$^X = /export/home/cpantest/perl5/bin/perl
$UID/$EUID = 100 / 100
$GID = 1 1
$EGID = 1 1
Perl module toolchain versions installed:
Module Have
------------------- --------
CPAN 2.00
CPAN::Meta 2.132830
Cwd 3.40
ExtUtils::CBuilder 0.280212
ExtUtils::Command 1.18
ExtUtils::Install 1.54
ExtUtils::MakeMaker 6.82
ExtUtils::Manifest 1.63
ExtUtils::ParseXS 3.22
File::Spec 3.40
JSON 2.90
JSON::PP 2.27203
Module::Build 0.4202
Module::Signature n/a
Parse::CPAN::Meta 1.4409
Test::Harness 3.30
Test::More 1.001002
YAML 0.84
YAML::Syck 1.27
version 0.9904
--
Summary of my perl5 (revision 5 version 10 subversion 1) configuration:
Platform:
osname=solaris, osvers=2.10, archname=i86pc-solaris-64int
uname='sunos vmrz0046 5.10 generic_141445-09 i86pc i386 i86pc '
config_args='-Dcc=gcc -Dprefix=~/perl5 -Duse64bitint -d'
hint=recommended, useposix=true, d_sigaction=define
useithreads=undef, usemultiplicity=undef
useperlio=define, d_sfio=undef, uselargefiles=define, usesocks=undef
use64bitint=define, use64bitall=undef, uselongdouble=undef
usemymalloc=n, bincompat5005=undef
Compiler:
cc='gcc', ccflags ='-DPTR_IS_LONG -fno-strict-aliasing -pipe -I/usr/local/include -D_LARGEFILE_SOURCE -D_FILE_OFFSET_BITS=64 -DPERL_USE_SAFE_PUTENV -DPERL_USE_SAFE_PUTENV',
optimize='-O',
cppflags='-DPTR_IS_LONG -fno-strict-aliasing -pipe -I/usr/local/include'
ccversion='', gccversion='3.4.6', gccosandvers='solaris2.10'
intsize=4, longsize=4, ptrsize=4, doublesize=8, byteorder=12345678
d_longlong=define, longlongsize=8, d_longdbl=define, longdblsize=12
ivtype='long long', ivsize=8, nvtype='double', nvsize=8, Off_t='off_t', lseeksize=8
alignbytes=4, prototype=define
Linker and Libraries:
ld='gcc', ldflags =' -L/usr/local/lib '
libpth=/usr/local/lib /usr/lib /usr/ccs/lib
libs=-lsocket -lnsl -ldl -lm -lc
perllibs=-lsocket -lnsl -ldl -lm -lc
libc=/lib/libc.so, so=so, useshrplib=false, libperl=libperl.a
gnulibc_version=''
Dynamic Linking:
dlsrc=dl_dlopen.xs, dlext=so, d_dlsymun=undef, ccdlflags=' '
cccdlflags='-fPIC', lddlflags='-G -L/usr/local/lib'
Characteristics of this binary (from libperl):
Compile-time options: PERL_DONT_CREATE_GVSV PERL_MALLOC_WRAP
PERL_USE_SAFE_PUTENV USE_64_BIT_INT USE_LARGE_FILES
USE_PERLIO
Built under solaris
Compiled at Mar 1 2011 16:15:56
%ENV:
PERL5LIB="/export/home/cpantest/.cpan/build/No-Worries-1.0-R5GPak/blib/arch:/export/home/cpantest/.cpan/build/No-Worries-1.0-R5GPak/blib/lib"
PERL5OPT=""
PERL5_CPANPLUS_IS_RUNNING="76"
PERL5_CPAN_IS_RUNNING="76"
PERL5_CPAN_IS_RUNNING_IN_RECURSION="21415,76"
PERL_CR_SMOKER_CURRENT="Config-Validator-1.0_1"
PERL_EXTUTILS_AUTOINSTALL="--defaultdeps"
PERL_MM_USE_DEFAULT="1"
@INC:
/export/home/cpantest/.cpan/build/No-Worries-1.0-R5GPak/blib/arch
/export/home/cpantest/.cpan/build/No-Worries-1.0-R5GPak/blib/lib
/export/home/cpantest/perl5/lib/5.10.1/i86pc-solaris-64int
/export/home/cpantest/perl5/lib/5.10.1
/export/home/cpantest/perl5/lib/site_perl/5.10.1/i86pc-solaris-64int
/export/home/cpantest/perl5/lib/site_perl/5.10.1
/export/home/cpantest/perl5/lib/site_perl
.