Weather-YR v0.36 Perl 5 v5.12.5 x86_64-linux
- Status
- Pass
- From
- Slaven Rezić (SREZIC)
- Dist
-
Weather-YR v0.36
- Platform
- Perl 5 v5.12.5 x86_64-linux
- Date
- 2015-04-17 12:12:25
- ID
- 027fefa4-e4fb-11e4-9c68-98a3e0bfc7aa
This distribution has been tested as part of the CPAN Testers
project, supporting the Perl programming language. See
http://wiki.cpantesters.org/ for more information or email
questions to cpan-testers-discuss@perl.org
--
Dear Tore Aursand,
This is a computer-generated report for Weather-YR-0.36
on perl 5.12.5, created by CPAN-Reporter-1.2011.
Thank you for uploading your work to CPAN. Congratulations!
All tests were successful.
Sections of this report:
* Tester comments
* Program output
* Prerequisites
* Environment and other context
------------------------------
TESTER COMMENTS
------------------------------
Additional comments from tester:
none provided
------------------------------
PROGRAM OUTPUT
------------------------------
Output from '/usr/bin/make test':
PERL_DL_NONLAZY=1 "/bbbike/perl-5.12.5/bin/perl5.12.5" "-MExtUtils::Command::MM" "-MTest::Harness" "-e" "undef *Test::Harness::Switches; test_harness(0, 'blib/lib', 'blib/arch')" t/*.t
# Testing Weather::YR 0.36, Perl 5.012005, /bbbike/perl-5.12.5/bin/perl5.12.5
t/00-load.t ............... ok
t/10-basic.t .............. ok
t/20-location-forecast.t .. ok
All tests successful.
Files=3, Tests=12, 3 wallclock secs ( 0.03 usr 0.01 sys + 2.35 cusr 0.27 csys = 2.66 CPU)
Result: PASS
------------------------------
PREREQUISITES
------------------------------
Prerequisite modules loaded:
requires:
Module Need Have
------------------------- ----- --------
DateTime 0 1.18
DateTime::Format::ISO8601 0 0.08
DateTime::TimeZone 0 1.85
LWP::UserAgent 0 6.13
Moose 0 2.1403
namespace::autoclean 0 0.24
perl 5.010 5.012005
XML::Bare 0 0.53
XML::LibXML 0 2.0116
build_requires:
Module Need Have
------------------------- ----- --------
ExtUtils::MakeMaker 6.64 7.04
File::Slurp 0 9999.19
FindBin 0 1.50
strict 0 1.04
Test::More 0.98 1.001014
warnings 0 1.09
configure_requires:
Module Need Have
------------------------- ----- --------
ExtUtils::MakeMaker 0 7.04
------------------------------
ENVIRONMENT AND OTHER CONTEXT
------------------------------
Environment variables:
DBIC_NO_WARN_BAD_PERL = 1
LANG = C
LC_ALL = de_DE.UTF-8
PATH = /usr/local/bin:/usr/bin:/bin:/usr/local/sbin:/usr/sbin:/sbin:/home/eserte/bin/linux-gnu:/home/eserte/bin/sh:/home/eserte/bin:/usr/games:/home/eserte/devel:/home/eserte/src/srezic-misc/scripts
PERL5LIB = /home/eserte/.cpan/build/CPAN-Testers-WWW-Statistics-1.21-SdJHQs/blib/arch:/home/eserte/.cpan/build/CPAN-Testers-WWW-Statistics-1.21-SdJHQs/blib/lib
PERL5OPT =
PERL5_CPANPLUS_IS_RUNNING = 32595
PERL5_CPAN_IS_RUNNING = 32595
PERL5_CPAN_IS_RUNNING_IN_RECURSION = 32534,32595
PERLDOC = -MPod::Perldoc::ToTextOverstrike
PERL_BATCH = yes
PERL_CPAN_REPORTER_CONFIG = /var/tmp/cpansmoker-1001/wEedVTFy6I_config.ini
PERL_EXTUTILS_AUTOINSTALL = --defaultdeps
PERL_HTML_DISPLAY_CLASS = HTML::Display::Mozilla
PERL_PARALLEL_SMOKER = yes
SHELL = /bin/zsh
TERM = screen
TMPDIR = /var/tmp/cpansmoker-1001
Perl special variables (and OS-specific diagnostics, for MSWin32):
$^X = /bbbike/perl-5.12.5/bin/perl5.12.5
$UID/$EUID = 1001 / 1001
$GID = 1001 109 1001
$EGID = 1001 109 1001
Perl module toolchain versions installed:
Module Have
------------------- --------
CPAN 2.05
CPAN::Meta 2.150001
Cwd 3.47
ExtUtils::CBuilder 0.280219
ExtUtils::Command 1.16
ExtUtils::Install 2.04
ExtUtils::MakeMaker 7.04
ExtUtils::Manifest 1.68
ExtUtils::ParseXS 3.24
File::Spec 3.47
JSON 2.90
JSON::PP 2.27203
Module::Build 0.4211
Module::Signature 0.78
Parse::CPAN::Meta 1.4414
Test::Harness 3.35
Test::More 1.001014
YAML 1.14
YAML::Syck 1.29
version 0.9912
--
Summary of my perl5 (revision 5 version 12 subversion 5) configuration:
Platform:
osname=linux, osvers=3.2.0-4-amd64, archname=x86_64-linux
uname='linux eserte 3.2.0-4-amd64 #1 smp debian 3.2.57-3 x86_64 gnulinux '
config_args='-ds -e -Dprefix=/opt/perl-5.12.5'
hint=recommended, useposix=true, d_sigaction=define
useithreads=undef, usemultiplicity=undef
useperlio=define, d_sfio=undef, uselargefiles=define, usesocks=undef
use64bitint=define, use64bitall=define, uselongdouble=undef
usemymalloc=n, bincompat5005=undef
Compiler:
cc='cc', ccflags ='-fno-strict-aliasing -pipe -fstack-protector -I/usr/local/include -D_LARGEFILE_SOURCE -D_FILE_OFFSET_BITS=64',
optimize='-O2',
cppflags='-fno-strict-aliasing -pipe -fstack-protector -I/usr/local/include'
ccversion='', gccversion='4.7.2', gccosandvers=''
intsize=4, longsize=8, ptrsize=8, doublesize=8, byteorder=12345678
d_longlong=define, longlongsize=8, d_longdbl=define, longdblsize=16
ivtype='long', ivsize=8, nvtype='double', nvsize=8, Off_t='off_t', lseeksize=8
alignbytes=8, prototype=define
Linker and Libraries:
ld='cc', ldflags =' -fstack-protector -L/usr/local/lib'
libpth=/usr/local/lib /lib/x86_64-linux-gnu /lib/../lib /usr/lib/x86_64-linux-gnu /usr/lib/../lib /lib /usr/lib
libs=-lnsl -ldb -ldl -lm -lcrypt -lutil -lc
perllibs=-lnsl -ldl -lm -lcrypt -lutil -lc
libc=, so=so, useshrplib=false, libperl=libperl.a
gnulibc_version='2.13'
Dynamic Linking:
dlsrc=dl_dlopen.xs, dlext=so, d_dlsymun=undef, ccdlflags='-Wl,-E'
cccdlflags='-fPIC', lddlflags='-shared -O2 -L/usr/local/lib -fstack-protector'
Characteristics of this binary (from libperl):
Compile-time options: PERL_DONT_CREATE_GVSV PERL_MALLOC_WRAP USE_64_BIT_ALL
USE_64_BIT_INT USE_LARGE_FILES USE_PERLIO
USE_PERL_ATOF
Built under linux
Compiled at May 15 2014 14:26:58
%ENV:
PERL5LIB="/home/eserte/.cpan/build/CPAN-Testers-WWW-Statistics-1.21-SdJHQs/blib/arch:/home/eserte/.cpan/build/CPAN-Testers-WWW-Statistics-1.21-SdJHQs/blib/lib"
PERL5OPT=""
PERL5_CPANPLUS_IS_RUNNING="32595"
PERL5_CPAN_IS_RUNNING="32595"
PERL5_CPAN_IS_RUNNING_IN_RECURSION="32534,32595"
PERLDOC="-MPod::Perldoc::ToTextOverstrike"
PERL_BATCH="yes"
PERL_CPAN_REPORTER_CONFIG="/var/tmp/cpansmoker-1001/wEedVTFy6I_config.ini"
PERL_EXTUTILS_AUTOINSTALL="--defaultdeps"
PERL_HTML_DISPLAY_CLASS="HTML::Display::Mozilla"
PERL_PARALLEL_SMOKER="yes"
@INC:
/home/eserte/.cpan/build/CPAN-Testers-WWW-Statistics-1.21-SdJHQs/blib/arch
/home/eserte/.cpan/build/CPAN-Testers-WWW-Statistics-1.21-SdJHQs/blib/lib
/opt/perl-5.12.5/lib/site_perl/5.12.5/x86_64-linux
/opt/perl-5.12.5/lib/site_perl/5.12.5
/opt/perl-5.12.5/lib/5.12.5/x86_64-linux
/opt/perl-5.12.5/lib/5.12.5
.