Org-Parser v0.555 Perl 5 v5.32.0 i686-linux-64int-quadmath

Status
Pass
From
David Cantrell (DCANTRELL)
Dist
Org-Parser v0.555
Platform
Perl 5 v5.32.0 i686-linux-64int-quadmath
Date
2021-06-29 05:51:12
ID
025b5f16-d89e-11eb-acf8-dcf365f710c6
This distribution has been tested as part of the CPAN Testers
project, supporting the Perl programming language.  See
http://wiki.cpantesters.org/ for more information or email
questions to cpan-testers-discuss@perl.org


--
Dear perlancar,

This is a computer-generated report for Org-Parser-0.555
on perl 5.32.0, created by CPAN-Reporter-1.2018.

Thank you for uploading your work to CPAN.  Congratulations!
All tests were successful.

Sections of this report:

    * Tester comments
    * Program output
    * Prerequisites
    * Environment and other context

------------------------------
TESTER COMMENTS
------------------------------

Additional comments from tester:

this report is from an automated smoke testing program
and was not reviewed by a human for accuracy

------------------------------
PROGRAM OUTPUT
------------------------------

Output from '/usr/bin/make test':

PERL_DL_NONLAZY=1 "/home/david/cpantesting/perl-5.32.0-quadmath-int64/bin/perl" "-MExtUtils::Command::MM" "-MTest::Harness" "-e" "undef *Test::Harness::Switches; test_harness(0, 'blib/lib', 'blib/arch')" t/*.t
t/00-compile.t ............... ok
t/01-basics.t ................ ok
t/author-critic.t ............ skipped: these tests are for testing by the author
t/author-pod-coverage.t ...... skipped: these tests are for testing by the author
t/author-pod-syntax.t ........ skipped: these tests are for testing by the author
t/base_element-field_name.t .. ok
t/base_element.t ............. ok
t/block.t .................... ok
t/comment.t .................. ok
t/document.t ................. ok
t/drawer.t ................... ok
t/fixed_width_section.t ...... ok
t/footnote.t ................. ok
t/headline-get_property.t .... ok
t/headline.t ................. ok
t/link_and_target.t .......... ok
t/list.t ..................... ok
t/radio_target.t ............. ok
t/regression-rt68443.t ....... ok
t/rt98375.t .................. ok
t/setting-todo.t ............. ok
t/setting.t .................. ok
t/table.t .................... ok
t/text.t ..................... ok
t/timerange.t ................ ok
t/timestamp.t ................ ok
t/unicode.t .................. ok
t/various.t .................. ok
All tests successful.
Files=28, Tests=120, 179 wallclock secs ( 0.94 usr  0.14 sys + 52.04 cusr  3.94 csys = 57.06 CPU)
Result: PASS

------------------------------
PREREQUISITES
------------------------------

Prerequisite modules loaded:

requires:

    Module                      Need     Have    
    --------------------------- -------- --------
    Cwd                         0        3.78    
    DateTime                    0        1.54    
    DateTime::Event::Recurrence 0        0.19    
    Digest::MD5                 0        2.55_01 
    experimental                0        0.020   
    File::Slurper               0        0.012   
    if                          0        0.0608  
    List::MoreUtils             0        0.430   
    locale                      0        1.09    
    Log::ger                    0.038    0.038   
    Module::List                0        0.004   
    Module::Load                0        0.34    
    Moo                         0        2.005004
    Moo::Role                   0        2.005004
    perl                        5.010001 5.032000
    Scalar::Util                0        1.55    
    Storable                    3.08     3.21    
    Time::HiRes                 0        1.9764  
    utf8                        0        1.22    
    warnings                    0        1.47    

build_requires:

    Module                      Need     Have    
    --------------------------- -------- --------
    ExtUtils::MakeMaker         0        7.44    
    File::Spec                  0        3.78    
    File::Temp                  0.2307   0.2309  
    FindBin                     0        1.51    
    IO::Handle                  0        1.42    
    IPC::Open3                  0        1.21    
    lib                         0        0.65    
    Module::Loaded              0        0.08    
    Org::Dump                   0.551    0.552   
    strict                      0        1.11    
    Test::Exception             0        0.43    
    Test::More                  0.98     1.302185

configure_requires:

    Module                      Need     Have    
    --------------------------- -------- --------
    ExtUtils::MakeMaker         0        7.44    


------------------------------
ENVIRONMENT AND OTHER CONTEXT
------------------------------

Environment variables:

    AUTOMATED_TESTING = 1
    LANG = en_GB.UTF-8
    LANGUAGE = en_GB:en
    LC_TERMINAL = iTerm2
    LC_TERMINAL_VERSION = 3.4.8
    NONINTERACTIVE_TESTING = 1
    PATH = /home/david/perl5/perlbrew/bin:/home/david/perl5/perlbrew/perls/perl-5.32.0/bin:/usr/local/bin:/usr/bin:/bin:/usr/local/games:/usr/games
    PERL = 5.32.0-quadmath-int64
    PERL5LIB = 
    PERL5OPT = 
    PERL5_CPANPLUS_IS_RUNNING = 2659
    PERL5_CPAN_IS_RUNNING = 2659
    PERLBREW_HOME = /home/david/.perlbrew
    PERLBREW_MANPATH = /home/david/perl5/perlbrew/perls/perl-5.32.0/man
    PERLBREW_PATH = /home/david/perl5/perlbrew/bin:/home/david/perl5/perlbrew/perls/perl-5.32.0/bin
    PERLBREW_PERL = perl-5.32.0
    PERLBREW_ROOT = /home/david/perl5/perlbrew
    PERLBREW_SHELLRC_VERSION = 0.89
    PERLBREW_VERSION = 0.89
    PERLVER = 5.32.0-quadmath-int64
    PERL_INLINE_DIRECTORY = /home/david/.Inline-5.32.0-quadmath-int64
    PERL_MM_USE_DEFAULT = 1
    PERL_USE_UNSAFE_INC = 0
    SHELL = /bin/bash
    TERM = screen

Perl special variables (and OS-specific diagnostics, for MSWin32):

    $^X = /home/david/cpantesting/perl-5.32.0-quadmath-int64/bin/perl
    $UID/$EUID = 1000 / 1000
    $GID = 1000 24 25 27 29 30 44 46 109 1000
    $EGID = 1000 24 25 27 29 30 44 46 109 1000

Perl module toolchain versions installed:

    Module              Have    
    ------------------- --------
    CPAN                2.27    
    CPAN::Meta          2.150010
    Cwd                 3.78    
    ExtUtils::CBuilder  0.280234
    ExtUtils::Command   7.44    
    ExtUtils::Install   2.14    
    ExtUtils::MakeMaker 7.44    
    ExtUtils::Manifest  1.72    
    ExtUtils::ParseXS   3.40    
    File::Spec          3.78    
    JSON                4.03    
    JSON::PP            4.04    
    Module::Build       0.4231  
    Module::Signature   n/a     
    Parse::CPAN::Meta   2.150010
    Test::Harness       3.42    
    Test::More          1.302185
    YAML                n/a     
    YAML::Syck          n/a     
    version             0.9924  


--

Summary of my perl5 (revision 5 version 32 subversion 0) configuration:
   
  Platform:
    osname=linux
    osvers=4.19.0-13-686
    archname=i686-linux-64int-quadmath
    uname='linux cpantesting-linux-32bit 4.19.0-13-686 #1 smp debian 4.19.160-2 (2020-11-28) i686 gnulinux '
    config_args='-de -Dprefix=/home/david/cpantesting/perl-5.32.0-quadmath-int64 -Dusequadmath -Duse64bitint'
    hint=recommended
    useposix=true
    d_sigaction=define
    useithreads=undef
    usemultiplicity=undef
    use64bitint=define
    use64bitall=undef
    uselongdouble=undef
    usemymalloc=n
    default_inc_excludes_dot=define
    bincompat5005=undef
  Compiler:
    cc='cc'
    ccflags ='-fwrapv -fno-strict-aliasing -pipe -fstack-protector-strong -I/usr/local/include -D_LARGEFILE_SOURCE -D_FILE_OFFSET_BITS=64 -D_FORTIFY_SOURCE=2'
    optimize='-O2'
    cppflags='-fwrapv -fno-strict-aliasing -pipe -fstack-protector-strong -I/usr/local/include'
    ccversion=''
    gccversion='8.3.0'
    gccosandvers=''
    intsize=4
    longsize=4
    ptrsize=4
    doublesize=8
    byteorder=12345678
    doublekind=3
    d_longlong=define
    longlongsize=8
    d_longdbl=define
    longdblsize=12
    longdblkind=3
    ivtype='long long'
    ivsize=8
    nvtype='__float128'
    nvsize=16
    Off_t='off_t'
    lseeksize=8
    alignbytes=16
    prototype=define
  Linker and Libraries:
    ld='cc'
    ldflags =' -fstack-protector-strong -L/usr/local/lib'
    libpth=/usr/local/lib /usr/lib/gcc/i686-linux-gnu/8/include-fixed /usr/include/i386-linux-gnu /usr/lib /lib/i386-linux-gnu /lib/../lib /usr/lib/i386-linux-gnu /usr/lib/../lib /lib /lib64 /usr/lib64
    libs=-lpthread -lnsl -ldl -lm -lcrypt -lutil -lc -lquadmath
    perllibs=-lpthread -lnsl -ldl -lm -lcrypt -lutil -lc -lquadmath
    libc=libc-2.28.so
    so=so
    useshrplib=false
    libperl=libperl.a
    gnulibc_version='2.28'
  Dynamic Linking:
    dlsrc=dl_dlopen.xs
    dlext=so
    d_dlsymun=undef
    ccdlflags='-Wl,-E'
    cccdlflags='-fPIC'
    lddlflags='-shared -O2 -L/usr/local/lib -fstack-protector-strong'


Characteristics of this binary (from libperl): 
  Compile-time options:
    HAS_TIMES
    PERLIO_LAYERS
    PERL_COPY_ON_WRITE
    PERL_DONT_CREATE_GVSV
    PERL_MALLOC_WRAP
    PERL_OP_PARENT
    PERL_PRESERVE_IVUV
    USE_64_BIT_INT
    USE_LARGE_FILES
    USE_LOCALE
    USE_LOCALE_COLLATE
    USE_LOCALE_CTYPE
    USE_LOCALE_NUMERIC
    USE_LOCALE_TIME
    USE_PERLIO
    USE_PERL_ATOF
    USE_QUADMATH
  Built under linux
  Compiled at Jun  6 2021 23:44:14
  %ENV:
    PERL="5.32.0-quadmath-int64"
    PERL5LIB=""
    PERL5OPT=""
    PERL5_CPANPLUS_IS_RUNNING="2659"
    PERL5_CPAN_IS_RUNNING="2659"
    PERLBREW_HOME="/home/david/.perlbrew"
    PERLBREW_MANPATH="/home/david/perl5/perlbrew/perls/perl-5.32.0/man"
    PERLBREW_PATH="/home/david/perl5/perlbrew/bin:/home/david/perl5/perlbrew/perls/perl-5.32.0/bin"
    PERLBREW_PERL="perl-5.32.0"
    PERLBREW_ROOT="/home/david/perl5/perlbrew"
    PERLBREW_SHELLRC_VERSION="0.89"
    PERLBREW_VERSION="0.89"
    PERLVER="5.32.0-quadmath-int64"
    PERL_INLINE_DIRECTORY="/home/david/.Inline-5.32.0-quadmath-int64"
    PERL_MM_USE_DEFAULT="1"
    PERL_USE_UNSAFE_INC="0"
  @INC:
    /home/david/cpantesting/perl-5.32.0-quadmath-int64/lib/site_perl/5.32.0/i686-linux-64int-quadmath
    /home/david/cpantesting/perl-5.32.0-quadmath-int64/lib/site_perl/5.32.0
    /home/david/cpantesting/perl-5.32.0-quadmath-int64/lib/5.32.0/i686-linux-64int-quadmath
    /home/david/cpantesting/perl-5.32.0-quadmath-int64/lib/5.32.0