Statocles v0.046 Perl 5 v5.20.1 x86_64-linux
- Status
- Pass
- From
- Slaven Rezić (SREZIC)
- Dist
-
Statocles v0.046
- Platform
- Perl 5 v5.20.1 x86_64-linux
- Date
- 2015-05-25 02:01:51
- ID
- 02325b46-0282-11e5-afc6-8713e0bfc7aa
This distribution has been tested as part of the CPAN Testers
project, supporting the Perl programming language. See
http://wiki.cpantesters.org/ for more information or email
questions to cpan-testers-discuss@perl.org
--
Dear Doug Bell,
This is a computer-generated report for Statocles-0.046
on perl 5.20.1, created by CPAN-Reporter-1.2011.
Thank you for uploading your work to CPAN. Congratulations!
All tests were successful.
Sections of this report:
* Tester comments
* Program output
* Prerequisites
* Environment and other context
------------------------------
TESTER COMMENTS
------------------------------
Additional comments from tester:
none provided
------------------------------
PROGRAM OUTPUT
------------------------------
Output from '/usr/bin/make test':
Skip blib/lib/auto/share/dist/Statocles/theme/default/blog/index.atom.ep (unchanged)
Skip blib/lib/auto/share/dist/Statocles/theme/default/site/sidebar_before.html.ep (unchanged)
Skip blib/lib/auto/share/dist/Statocles/theme/default/blog/index.rss.ep (unchanged)
Skip blib/lib/auto/share/dist/Statocles/theme/default/site/footer.html.ep (unchanged)
Skip blib/lib/auto/share/dist/Statocles/theme/default/css/statocles-default.css (unchanged)
Skip blib/lib/auto/share/dist/Statocles/theme/default/blog/index.html.ep (unchanged)
Skip blib/lib/auto/share/dist/Statocles/zsh/_statocles (unchanged)
Skip blib/lib/auto/share/dist/Statocles/theme/default/perldoc/source.html.ep (unchanged)
Skip blib/lib/auto/share/dist/Statocles/create/script.yml (unchanged)
Skip blib/lib/auto/share/dist/Statocles/theme/default/blog/post.html.ep (unchanged)
Skip blib/lib/auto/share/dist/Statocles/theme/default/site/layout.html.ep (unchanged)
Skip blib/lib/auto/share/dist/Statocles/theme/default/site/style.html (unchanged)
Skip blib/lib/auto/share/dist/Statocles/theme/default/css/skeleton.css (unchanged)
Skip blib/lib/auto/share/dist/Statocles/create/site.yml (unchanged)
Skip blib/lib/auto/share/dist/Statocles/theme/default/css/normalize.css (unchanged)
Skip blib/lib/auto/share/dist/Statocles/theme/default/site/header_after.html.ep (unchanged)
Skip blib/lib/auto/share/dist/Statocles/theme/default/site/robots.txt.ep (unchanged)
Skip blib/lib/auto/share/dist/Statocles/theme/default/perldoc/pod.html.ep (unchanged)
Skip blib/lib/auto/share/dist/Statocles/theme/default/site/sitemap.xml.ep (unchanged)
Skip blib/lib/auto/share/dist/Statocles/theme/default/site/head_after.html.ep (unchanged)
PERL_DL_NONLAZY=1 "/bbbike/perl-5.20.1/bin/perl5.20.1" "-MExtUtils::Command::MM" "-MTest::Harness" "-e" "undef *Test::Harness::Switches; test_harness(0, 'blib/lib', 'blib/arch')" t/*.t t/app/*.t t/app/blog/*.t t/app/perldoc/*.t t/app/plain/*.t t/app/static/*.t t/bin/*.t t/command/*.t t/deploy/*.t t/page/*.t t/plugin/*.t t/site/*.t t/store/file/*.t t/template/*.t t/theme/*.t
t/00-compile.t ................ ok
#
# Versions for all modules listed in MYMETA.json (including optional ones):
#
# === Configure Requires ===
#
# Module Want Have
# ----------------------- ---- ----
# ExtUtils::MakeMaker any 7.04
# File::ShareDir::Install 0.06 0.10
#
# === Build Requires ===
#
# Module Want Have
# ------------------- ---- ----
# ExtUtils::MakeMaker any 7.04
#
# === Test Requires ===
#
# Module Want Have
# ------------------- -------- --------
# Capture::Tiny any 0.30
# Dir::Self any 0.11
# ExtUtils::MakeMaker any 7.04
# File::Spec any 3.47
# IO::Handle any 1.35
# IPC::Open3 any 1.16
# Storable any 2.51
# Test::Deep any 0.115
# Test::Differences any 0.63
# Test::Exception any 0.38
# Test::More 1.001005 1.001014
#
# === Test Recommends ===
#
# Module Want Have
# ---------- -------- --------
# CPAN::Meta 2.120900 2.150001
#
# === Runtime Requires ===
#
# Module Want Have
# --------------------- -------- --------
# Beam::Emitter 0.007 1.000
# Beam::Wire 1.013 1.013
# Encode any 2.72
# File::Copy::Recursive any 0.38
# File::Share any 0.25
# Git::Repository any 1.314
# Import::Base 0.009 0.012
# List::MoreUtils any 0.410
# Mojolicious 6.0 6.11
# Moo 2.000001 2.000001
# Path::Tiny 0.060 0.068
# Pod::Usage::Return any 0.003
# Text::Markdown any 1.000031
# Time::Piece any 1.29
# Type::Tiny any 1.000005
# Types::Path::Tiny any 0.005
# YAML any 1.14
# strict any 1.08
# warnings any 1.23
#
# === Runtime Recommends ===
#
# Module Want Have
# -------------- ---- --------
# PPI any 1.220
# Pod::Elemental any 0.103004
# Pod::Weaver any 4.011
#
t/00-report-prereqs.t ......... ok
# Before test: STDIN is interactive
# After test: STDIN is interactive
# Before test: STDIN is interactive
# After test: STDIN is interactive
t/app/blog/command.t .......... ok
t/app/blog/constructor.t ...... ok
# Current LC_TIME locale: de_DE.UTF-8
# Could not set locale to ru_RU. Still
t/app/blog/pages.t ............ ok
t/app/blog/recent_posts.t ..... ok
t/app/perldoc/constructor.t ... ok
t/app/perldoc/pages.t ......... ok
t/app/plain.t ................. ok
t/app/plain/constructor.t ..... ok
t/app/plain/pages.t ........... ok
t/app/static/constructor.t .... ok
t/app/static/pages.t .......... ok
t/bin/statocles.t ............. ok
t/command/apps.t .............. ok
t/command/build_and_deploy.t .. ok
t/command/bundle.t ............ ok
# Git version: 1.007010
t/command/create.t ............ ok
t/command/daemon.t ............ ok
t/command/error.t ............. ok
t/command/help_and_version.t .. ok
t/command/mojo_app.t .......... ok
t/deploy/file.t ............... ok
# Git version: 1.007010
t/deploy/git.t ................ ok
t/link.t ...................... ok
t/page/document.t ............. ok
t/page/feed.t ................. ok
t/page/file.t ................. ok
t/page/list.t ................. ok
t/page/plain.t ................ ok
[Mon May 25 02:01:11 2015] [warn] URL broken on /blog/2014/06/02/more_tags.html: '/does_not_exist.jpg' not found
[Mon May 25 02:01:11 2015] [warn] URL broken on /blog/2014/06/02/more_tags.html: '/does_not_exist' not found
[Mon May 25 02:01:11 2015] [warn] URL broken on /blog/2014/06/02/more_tags.html: '/images/with spaces.png' not found
[Mon May 25 02:01:11 2015] [warn] URL broken on /blog/2014/06/02/more_tags.html: '/blog/2014/06/02/does_not_exist' not found
[Mon May 25 02:01:12 2015] [warn] URL broken on /blog/2014/06/02/more_tags.html: '/images/with spaces.png' not found
[Mon May 25 02:01:12 2015] [warn] URL broken on /blog/2014/06/02/more_tags.html: '/blog/2014/06/02/does_not_exist' not found
t/plugin/link_check.t ......... ok
t/site/build_and_deploy.t ..... ok
t/site/constructor.t .......... ok
t/site/data.t ................. ok
t/site/events.t ............... ok
t/site/index.t ................ ok
t/site/nav.t .................. ok
t/site/sitemap_and_robots.t ... ok
t/site/url.t .................. ok
t/site/warnings.t ............. ok
t/store/file/constructor.t .... ok
t/store/file/document.t ....... ok
t/store/file/file.t ........... ok
t/template/basic.t ............ ok
t/template/include.t .......... ok
t/theme.t ..................... ok
t/theme/check.t ............... ok
t/types.t ..................... ok
All tests successful.
Files=48, Tests=235, 41 wallclock secs ( 0.15 usr 0.28 sys + 31.67 cusr 6.18 csys = 38.28 CPU)
Result: PASS
------------------------------
PREREQUISITES
------------------------------
Prerequisite modules loaded:
requires:
Module Need Have
----------------------- -------- --------
Beam::Emitter 0.007 1.000
Beam::Wire 1.013 1.013
Encode 0 2.72
File::Copy::Recursive 0 0.38
File::Share 0 0.25
Git::Repository 0 1.314
Import::Base 0.009 0.012
List::MoreUtils 0 0.410
Mojolicious 6.0 6.11
Moo 2.000001 2.000001
Path::Tiny 0.060 0.068
perl 5.010 5.020001
Pod::Usage::Return 0 0.003
strict 0 1.08
Text::Markdown 0 1.000031
Time::Piece 0 1.29
Type::Tiny 0 1.000005
Types::Path::Tiny 0 0.005
warnings 0 1.23
YAML 0 1.14
build_requires:
Module Need Have
----------------------- -------- --------
Capture::Tiny 0 0.30
Dir::Self 0 0.11
ExtUtils::MakeMaker 0 7.04
File::Spec 0 3.47
IO::Handle 0 1.35
IPC::Open3 0 1.16
Storable 0 2.51
Test::Deep 0 0.115
Test::Differences 0 0.63
Test::Exception 0 0.38
Test::More 1.001005 1.001014
configure_requires:
Module Need Have
----------------------- -------- --------
ExtUtils::MakeMaker 0 7.04
File::ShareDir::Install 0.06 0.10
------------------------------
ENVIRONMENT AND OTHER CONTEXT
------------------------------
Environment variables:
DBIC_NO_WARN_BAD_PERL = 1
LANG = C
LC_ALL = de_DE.UTF-8
PATH = /usr/local/bin:/usr/bin:/bin:/usr/local/sbin:/usr/sbin:/sbin:/home/eserte/bin/linux-gnu:/home/eserte/bin/sh:/home/eserte/bin:/usr/games:/home/eserte/devel:/home/eserte/src/srezic-misc/scripts
PERL5LIB =
PERL5OPT =
PERL5_CPANPLUS_IS_RUNNING = 31944
PERL5_CPAN_IS_RUNNING = 31944
PERL5_CPAN_IS_RUNNING_IN_RECURSION = 31877,31944
PERLDOC = -MPod::Perldoc::ToTextOverstrike
PERL_BATCH = yes
PERL_CPAN_REPORTER_CONFIG = /var/tmp/cpansmoker-1001/cpanreporter_003_config.ini
PERL_EXTUTILS_AUTOINSTALL = --defaultdeps
PERL_HTML_DISPLAY_CLASS = HTML::Display::Mozilla
PERL_PARALLEL_SMOKER = yes
SHELL = /bin/zsh
TERM = screen
TMPDIR = /var/tmp/cpansmoker-1001
Perl special variables (and OS-specific diagnostics, for MSWin32):
$^X = /bbbike/perl-5.20.1/bin/perl5.20.1
$UID/$EUID = 1001 / 1001
$GID = 1001 109 1001
$EGID = 1001 109 1001
Perl module toolchain versions installed:
Module Have
------------------- --------
CPAN 2.05
CPAN::Meta 2.150001
Cwd 3.47
ExtUtils::CBuilder 0.280219
ExtUtils::Command 1.18
ExtUtils::Install 2.04
ExtUtils::MakeMaker 7.04
ExtUtils::Manifest 1.68
ExtUtils::ParseXS 3.24
File::Spec 3.47
JSON 2.90
JSON::PP 2.27203
Module::Build 0.4211
Module::Signature 0.78
Parse::CPAN::Meta 1.4414
Test::Harness 3.34
Test::More 1.001014
YAML 1.14
YAML::Syck 1.29
version 0.9912
--
Summary of my perl5 (revision 5 version 20 subversion 1) configuration:
Platform:
osname=linux, osvers=3.2.0-4-amd64, archname=x86_64-linux
uname='linux eserte 3.2.0-4-amd64 #1 smp debian 3.2.60-1+deb7u3 x86_64 gnulinux '
config_args='-ds -e -Dprefix=/opt/perl-5.20.1'
hint=recommended, useposix=true, d_sigaction=define
useithreads=undef, usemultiplicity=undef
use64bitint=define, use64bitall=define, uselongdouble=undef
usemymalloc=n, bincompat5005=undef
Compiler:
cc='cc', ccflags ='-fwrapv -fno-strict-aliasing -pipe -fstack-protector -I/usr/local/include -D_LARGEFILE_SOURCE -D_FILE_OFFSET_BITS=64',
optimize='-O2',
cppflags='-fwrapv -fno-strict-aliasing -pipe -fstack-protector -I/usr/local/include'
ccversion='', gccversion='4.7.2', gccosandvers=''
intsize=4, longsize=8, ptrsize=8, doublesize=8, byteorder=12345678
d_longlong=define, longlongsize=8, d_longdbl=define, longdblsize=16
ivtype='long', ivsize=8, nvtype='double', nvsize=8, Off_t='off_t', lseeksize=8
alignbytes=8, prototype=define
Linker and Libraries:
ld='cc', ldflags =' -fstack-protector -L/usr/local/lib'
libpth=/usr/local/lib /usr/lib/gcc/x86_64-linux-gnu/4.7/include-fixed /usr/include/x86_64-linux-gnu /usr/lib /lib/x86_64-linux-gnu /lib/../lib /usr/lib/x86_64-linux-gnu /usr/lib/../lib /lib
libs=-lnsl -ldb -ldl -lm -lcrypt -lutil -lc
perllibs=-lnsl -ldl -lm -lcrypt -lutil -lc
libc=libc-2.13.so, so=so, useshrplib=false, libperl=libperl.a
gnulibc_version='2.13'
Dynamic Linking:
dlsrc=dl_dlopen.xs, dlext=so, d_dlsymun=undef, ccdlflags='-Wl,-E'
cccdlflags='-fPIC', lddlflags='-shared -O2 -L/usr/local/lib -fstack-protector'
Characteristics of this binary (from libperl):
Compile-time options: HAS_TIMES PERLIO_LAYERS PERL_DONT_CREATE_GVSV
PERL_HASH_FUNC_ONE_AT_A_TIME_HARD PERL_MALLOC_WRAP
PERL_NEW_COPY_ON_WRITE PERL_PRESERVE_IVUV
USE_64_BIT_ALL USE_64_BIT_INT USE_LARGE_FILES
USE_LOCALE USE_LOCALE_COLLATE USE_LOCALE_CTYPE
USE_LOCALE_NUMERIC USE_PERLIO USE_PERL_ATOF
Built under linux
Compiled at Sep 14 2014 15:24:49
%ENV:
PERL5LIB=""
PERL5OPT=""
PERL5_CPANPLUS_IS_RUNNING="31944"
PERL5_CPAN_IS_RUNNING="31944"
PERL5_CPAN_IS_RUNNING_IN_RECURSION="31877,31944"
PERLDOC="-MPod::Perldoc::ToTextOverstrike"
PERL_BATCH="yes"
PERL_CPAN_REPORTER_CONFIG="/var/tmp/cpansmoker-1001/cpanreporter_003_config.ini"
PERL_EXTUTILS_AUTOINSTALL="--defaultdeps"
PERL_HTML_DISPLAY_CLASS="HTML::Display::Mozilla"
PERL_PARALLEL_SMOKER="yes"
@INC:
/opt/perl-5.20.1/lib/site_perl/5.20.1/x86_64-linux
/opt/perl-5.20.1/lib/site_perl/5.20.1
/opt/perl-5.20.1/lib/5.20.1/x86_64-linux
/opt/perl-5.20.1/lib/5.20.1
.