Portable-Dist v1.05 Perl 5 v5.8.9 i386-freebsd

Status
Pass
From
Slaven Rezić (SREZIC)
Dist
Portable-Dist v1.05
Platform
Perl 5 v5.8.9 i386-freebsd
Date
2012-05-07 19:01:10
ID
02265b02-9877-11e1-b9ec-e455cf7921ea
This distribution has been tested as part of the CPAN Testers
project, supporting the Perl programming language.  See
http://wiki.cpantesters.org/ for more information or email
questions to cpan-testers-discuss@perl.org


--
Dear kmx,

This is a computer-generated report for Portable-Dist-1.05
on perl 5.8.9, created by CPAN-Reporter-1.2005.

Thank you for uploading your work to CPAN.  Congratulations!
All tests were successful.

Sections of this report:

    * Tester comments
    * Program output
    * Prerequisites
    * Environment and other context

------------------------------
TESTER COMMENTS
------------------------------

Additional comments from tester:

none provided

------------------------------
PROGRAM OUTPUT
------------------------------

Output from '/usr/bin/make test':

PERL_DL_NONLAZY=1 /usr/perl5.8.9/bin/perl5.8.9 "-MExtUtils::Command::MM" "-e" "test_harness(0, 'inc', 'blib/lib', 'blib/arch')" t/*.t
t/01_compile.t .. ok
t/02_run.t ...... ok
t/03_batch.t .... skipped: Tests only runnable on Win32
All tests successful.
Files=3, Tests=44,  1 wallclock secs ( 0.03 usr  0.02 sys +  0.20 cusr  0.06 csys =  0.31 CPU)
Result: PASS

------------------------------
PREREQUISITES
------------------------------

Prerequisite modules loaded:

requires:

    Module                Need    Have    
    --------------------- ------- --------
    File::chmod           0.32    0.32    
    File::Find::Rule      0.30    0.33    
    File::IgnoreReadonly  0.01    0.01    
    File::Slurp           9999.13 9999.19 
    File::Spec            0.80    3.33    
    Object::Tiny          1.04    1.08    
    Params::Util          0.31    1.04    
    perl                  5.008   5.008009

build_requires:

    Module                Need    Have    
    --------------------- ------- --------
    ExtUtils::MakeMaker   6.59    6.62    
    File::Copy::Recursive 0.35    0.38    
    File::Remove          1.42    1.52    
    Test::More            0.47    0.98    

configure_requires:

    Module                Need    Have    
    --------------------- ------- --------
    ExtUtils::MakeMaker   6.59    6.62    


------------------------------
ENVIRONMENT AND OTHER CONTEXT
------------------------------

Environment variables:

    DBIC_NO_WARN_BAD_PERL = 1
    PATH = /usr/local/bin:/usr/X11R6/bin:/usr/X11/bin:/usr/perl5.8.0/bin:/usr/bin:/bin:/usr/local/sbin:/usr/sbin:/sbin:/usr/local/pilot/bin:/home/cpansand/bin/freebsd8.0:/home/cpansand/bin/sh:/home/cpansand/bin:/usr/X386/bin:/usr/games:/home/cpansand/devel:/usr/home/e/eserte/work/srezic-misc/scripts
    PERL5LIB = /usr/local/src/CPAN/build/File-IgnoreReadonly-0.01-D2wQdq/blib/arch:/usr/local/src/CPAN/build/File-IgnoreReadonly-0.01-D2wQdq/blib/lib:/usr/local/src/CPAN/build/Catalyst-Model-PayPal-API-0.3-5c019g/blib/arch:/usr/local/src/CPAN/build/Catalyst-Model-PayPal-API-0.3-5c019g/blib/lib:/usr/local/src/CPAN/build/Business-PayPal-API-0.69-M_HIUH/blib/arch:/usr/local/src/CPAN/build/Business-PayPal-API-0.69-M_HIUH/blib/lib:/usr/local/src/CPAN/build/Number-Phone-JP-0.20120502-kgnOYH/blib/arch:/usr/local/src/CPAN/build/Number-Phone-JP-0.20120502-kgnOYH/blib/lib:/usr/local/src/CPAN/build/App-epic-0.014-sotiva/blib/arch:/usr/local/src/CPAN/build/App-epic-0.014-sotiva/blib/lib
    PERL5OPT = 
    PERL5_CPANPLUS_IS_RUNNING = 91925
    PERL5_CPAN_IS_RUNNING = 91925
    PERL5_CPAN_IS_RUNNING_IN_RECURSION = 91820,91925
    PERL_BATCH = yes
    PERL_CPAN_REPORTER_CONFIG = /var/tmp/cpansmoker-1023/9prvAoXCXb_config.ini
    PERL_EXTUTILS_AUTOINSTALL = --defaultdeps
    PERL_HTML_DISPLAY_CLASS = HTML::Display::Mozilla
    SHELL = /usr/local/bin/zsh
    TERM = screen
    TMPDIR = /var/tmp/cpansmoker-1023

Perl special variables (and OS-specific diagnostics, for MSWin32):

    $^X = /usr/perl5.8.9/bin/perl5.8.9
    $UID/$EUID = 1023 / 1023
    $GID = 1023 1023
    $EGID = 1023 1023

Perl module toolchain versions installed:

    Module              Have    
    ------------------- --------
    CPAN                1.9800  
    CPAN::Meta          2.112150
    Cwd                 3.33    
    ExtUtils::CBuilder  0.280205
    ExtUtils::Command   1.16    
    ExtUtils::Install   1.52    
    ExtUtils::MakeMaker 6.62    
    ExtUtils::Manifest  1.58    
    ExtUtils::ParseXS   3.15    
    File::Spec          3.33    
    JSON                2.53    
    JSON::PP            2.27200 
    Module::Build       0.40    
    Module::Signature   0.66    
    Parse::CPAN::Meta   1.4403  
    Test::Harness       3.23    
    Test::More          0.98    
    YAML                0.79    
    YAML::Syck          1.20    
    version             0.96    


--

Summary of my perl5 (revision 5 version 8 subversion 9) configuration:
  Platform:
    osname=freebsd, osvers=8.0-release, archname=i386-freebsd
    uname='freebsd biokovo.herceg.de 8.0-release freebsd 8.0-release #0: sat nov 21 15:48:17 utc 2009 root@almeida.cse.buffalo.edu:usrobjusrsrcsysgeneric i386 '
    config_args='-Dprefix=/usr/perl5.8.9 -Dusemymalloc=n -D cc=ccache cc -Dgccansipedantic -Duse64bit -de -D hintfile=myfreebsd'
    hint=recommended, useposix=true, d_sigaction=define
    usethreads=undef use5005threads=undef useithreads=undef usemultiplicity=undef
    useperlio=define d_sfio=undef uselargefiles=define usesocks=undef
    use64bitint=undef use64bitall=undef uselongdouble=undef
    usemymalloc=n, bincompat5005=undef
  Compiler:
    cc='ccache cc', ccflags ='-DHAS_FPSETMASK -DHAS_FLOATINGPOINT_H -fno-strict-aliasing -pipe -I/usr/local/include',
    optimize='-O2 -mtune=athlon64 -pipe',
    cppflags='-DHAS_FPSETMASK -DHAS_FLOATINGPOINT_H -fno-strict-aliasing -pipe -I/usr/local/include'
    ccversion='', gccversion='4.2.1 20070719  [FreeBSD]', gccosandvers=''
    intsize=4, longsize=4, ptrsize=4, doublesize=8, byteorder=1234
    d_longlong=define, longlongsize=8, d_longdbl=define, longdblsize=12
    ivtype='long', ivsize=4, nvtype='double', nvsize=8, Off_t='off_t', lseeksize=8
    alignbytes=4, prototype=define
  Linker and Libraries:
    ld='ccache cc', ldflags ='-Wl,-E  -L/usr/local/lib'
    libpth=/usr/lib /usr/local/lib
    libs=-lgdbm -lm -lcrypt -lutil -lc
    perllibs=-lm -lcrypt -lutil -lc
    libc=, so=so, useshrplib=false, libperl=libperl.a
    gnulibc_version=''
  Dynamic Linking:
    dlsrc=dl_dlopen.xs, dlext=so, d_dlsymun=undef, ccdlflags=' '
    cccdlflags='-DPIC -fPIC', lddlflags='-shared  -L/usr/local/lib'


Characteristics of this binary (from libperl): 
  Compile-time options: PERL_MALLOC_WRAP USE_FAST_STDIO USE_LARGE_FILES
                        USE_PERLIO
  Built under freebsd
  Compiled at Jan 28 2011 08:40:05
  %ENV:
    PERL5LIB="/usr/local/src/CPAN/build/File-IgnoreReadonly-0.01-D2wQdq/blib/arch:/usr/local/src/CPAN/build/File-IgnoreReadonly-0.01-D2wQdq/blib/lib:/usr/local/src/CPAN/build/Catalyst-Model-PayPal-API-0.3-5c019g/blib/arch:/usr/local/src/CPAN/build/Catalyst-Model-PayPal-API-0.3-5c019g/blib/lib:/usr/local/src/CPAN/build/Business-PayPal-API-0.69-M_HIUH/blib/arch:/usr/local/src/CPAN/build/Business-PayPal-API-0.69-M_HIUH/blib/lib:/usr/local/src/CPAN/build/Number-Phone-JP-0.20120502-kgnOYH/blib/arch:/usr/local/src/CPAN/build/Number-Phone-JP-0.20120502-kgnOYH/blib/lib:/usr/local/src/CPAN/build/App-epic-0.014-sotiva/blib/arch:/usr/local/src/CPAN/build/App-epic-0.014-sotiva/blib/lib"
    PERL5OPT=""
    PERL5_CPANPLUS_IS_RUNNING="91925"
    PERL5_CPAN_IS_RUNNING="91925"
    PERL5_CPAN_IS_RUNNING_IN_RECURSION="91820,91925"
    PERL_BATCH="yes"
    PERL_CPAN_REPORTER_CONFIG="/var/tmp/cpansmoker-1023/9prvAoXCXb_config.ini"
    PERL_EXTUTILS_AUTOINSTALL="--defaultdeps"
    PERL_HTML_DISPLAY_CLASS="HTML::Display::Mozilla"
  @INC:
    /usr/local/src/CPAN/build/File-IgnoreReadonly-0.01-D2wQdq/blib/arch
    /usr/local/src/CPAN/build/File-IgnoreReadonly-0.01-D2wQdq/blib/lib
    /usr/local/src/CPAN/build/Catalyst-Model-PayPal-API-0.3-5c019g/blib/arch
    /usr/local/src/CPAN/build/Catalyst-Model-PayPal-API-0.3-5c019g/blib/lib
    /usr/local/src/CPAN/build/Business-PayPal-API-0.69-M_HIUH/blib/arch
    /usr/local/src/CPAN/build/Business-PayPal-API-0.69-M_HIUH/blib/lib
    /usr/local/src/CPAN/build/Number-Phone-JP-0.20120502-kgnOYH/blib/arch
    /usr/local/src/CPAN/build/Number-Phone-JP-0.20120502-kgnOYH/blib/lib
    /usr/local/src/CPAN/build/App-epic-0.014-sotiva/blib/arch
    /usr/local/src/CPAN/build/App-epic-0.014-sotiva/blib/lib
    /usr/perl5.8.9/lib/5.8.9/i386-freebsd
    /usr/perl5.8.9/lib/5.8.9
    /usr/perl5.8.9/lib/site_perl/5.8.9/i386-freebsd
    /usr/perl5.8.9/lib/site_perl/5.8.9
    .