Math-Symbolic v0.606 Perl 5 v5.10.1 i686-linux

Status
Pass
From
Marc Alexander Lehmann
Dist
Math-Symbolic v0.606
Platform
Perl 5 v5.10.1 i686-linux
Date
2011-07-03 10:27:09
ID
020a1584-a55f-11e0-9e54-c57a641c9bbe
This distribution has been tested as part of the CPAN Testers
project, supporting the Perl programming language.  See
http://wiki.cpantesters.org/ for more information or email
questions to cpan-testers-discuss@perl.org


--
Dear Steffen Mueller,

This is a computer-generated report for Math-Symbolic-0.606
on perl 5.10.1, created by CPAN-Reporter-1.1902.

Thank you for uploading your work to CPAN.  Congratulations!
All tests were successful.

Sections of this report:

    * Tester comments
    * Program output
    * Prerequisites
    * Environment and other context

------------------------------
TESTER COMMENTS
------------------------------

Additional comments from tester:

this report is from an automated smoke testing program
and was not reviewed by a human for accuracy

------------------------------
PROGRAM OUTPUT
------------------------------

Output from '/usr/bin/make test':

PERL_DL_NONLAZY=1 /smoker/5.10.1/perl/bin/perl "-MExtUtils::Command::MM" "-e" "test_harness(0, 'blib/lib', 'blib/arch')" t/*.t
t/00dist.t ............... skipped: Test::Distribution not installed
t/00pod.t ................ skipped: Test::Pod 1.00 required for testing POD
t/00podcover.t ........... skipped: Test::Pod::Coverage not installed
t/01basic.t .............. ok
t/02basic.t .............. ok
t/03exp.t ................ ok
t/04deep_derivatives.t ... ok
t/05unary_minus.t ........ ok
t/06parser.t ............. ok
t/07simple_trig.t ........ ok
t/08parse_hyperbolic.t ... ok
t/09hyperbolic.t ......... ok
t/10hyperbolic.t ......... ok
t/11trigonometric.t ...... ok
t/12overload.t ........... ok
t/13parse_more.t ......... ok
t/14compile.t ............ ok
t/15total_derivatives.t .. ok
t/16tests.t .............. ok
t/17modifications.t ...... ok
t/18vectorcalc.t ......... ok
t/19misccalc.t ........... ok
t/20miscalgebra.t ........ ok
t/21more_derivatives.t ... ok
t/22dumpers.t ............ ok
t/90regression.t ......... ok
All tests successful.
Files=26, Tests=435, 44 wallclock secs ( 0.13 usr  0.02 sys +  6.10 cusr  0.18 csys =  6.43 CPU)
Result: PASS

------------------------------
PREREQUISITES
------------------------------

Prerequisite modules loaded:

requires:

    Module              Need Have    
    ------------------- ---- --------
    Data::Dumper        0    2.124   
    Memoize             1.01 1.01_03 
    Parse::RecDescent   0    1.965001
    Test::More          0    0.92    

configure_requires:

    Module              Need Have    
    ------------------- ---- --------
    ExtUtils::MakeMaker 0    6.56    


------------------------------
ENVIRONMENT AND OTHER CONTEXT
------------------------------

Environment variables:

    AUTOMATED_TESTING = 1
    LANG = en_US.UTF-8
    LC_ALL = C
    LC_CTYPE = en_US.UTF-8
    PATH = /usr/local/bin:/usr/bin:/bin:/usr/local/games:/usr/games
    PERL5LIB = /smoker/5.10.1/cpan/build/Parse-RecDescent-1.965001-qsWcQF/blib/arch:/smoker/5.10.1/cpan/build/Parse-RecDescent-1.965001-qsWcQF/blib/lib:/root/src/sex
    PERL5OPT = 
    PERL5_CPANPLUS_CONFIG = /root/.cpanplus/config
    PERL5_CPANPLUS_IS_RUNNING = 19464
    PERL5_CPAN_IS_RUNNING = 19464
    PERL5_CPAN_IS_RUNNING_IN_RECURSION = 31613,19464
    PERLDB_OPTS = ornaments=0
    PERL_ANYEVENT_DBI_TESTS = 1
    PERL_ANYEVENT_EDNS0 = 1
    PERL_ANYEVENT_NET_TESTS = 1
    PERL_ANYEVENT_PROTOCOLS = ipv4,ipv6
    PERL_ANYEVENT_STRICT = 1
    PERL_CPAN_REPORTER_CONFIG = /smoker/cpanreporter-config.ini
    PERL_CPAN_REPORTER_DIR = /smoker/5.10.1/cpanreporter
    PERL_CR_SMOKER_CURRENT = Math-Symbolic-Custom-LaTeXDumper-0.207
    PERL_CR_SMOKER_RUNONCE = 1
    PERL_EXTUTILS_AUTOINSTALL = --defaultdeps
    PERL_MM_USE_DEFAULT = 1
    PERL_UNICODE = E
    SHELL = /bin/sh
    TERM = screen

Perl special variables (and OS-specific diagnostics, for MSWin32):

    $^X = /smoker/5.10.1/perl/bin/perl
    $UID/$EUID = 60000 / 60000
    $GID = 60000 60000
    $EGID = 60000 60000

Perl module toolchain versions installed:

    Module              Have    
    ------------------- --------
    CPAN                1.9600  
    Cwd                 3.30    
    ExtUtils::CBuilder  0.2602  
    ExtUtils::Command   1.16    
    ExtUtils::Install   1.54    
    ExtUtils::MakeMaker 6.56    
    ExtUtils::Manifest  1.56    
    ExtUtils::ParseXS   2.2206  
    File::Spec          3.30    
    Module::Build       0.340201
    Module::Signature   n/a     
    Test::Harness       3.17    
    Test::More          0.92    
    YAML                0.73    
    YAML::Syck          1.17    
    version             0.77    


--

Summary of my perl5 (revision 5 version 10 subversion 1) configuration:
   
  Platform:
    osname=linux, osvers=2.6.26-2-amd64, archname=i686-linux
    uname='linux rijk 2.6.26-2-amd64 #1 smp thu nov 5 02:23:12 utc 2009 i686 gnulinux '
    config_args='-Duselargefiles -Uuse64bitint -Dusemymalloc=n -Uusedl -Uusethreads -Uuseithreads -Uusemultiplicity -Uusesfio -Uuseshrplib -Uinstallusrbinperl -A ccflags= -g -DPERL_DISABLE_PMC -DPERL_ARENA_SIZE=16376 -DNO_PERL_MALLOC_ENV -D_GNU_SOURCE -DNDEBUG -Dcc=cc -Doptimize=-O2 -mpush-args -fomit-frame-pointer -march=core2 -mtune=core2 -Dldflags= -lc -lm -ldl -lpthread -Dlibs=-lm -lcrypt -Dprefix=/smoker/5.10.1/perl -Dbin=/smoker/5.10.1/perl/bin -Dprivlib=/smoker/5.10.1/perl/lib -Darchlib=/smoker/5.10.1/perl/lib -Uusevendorprefix -Dsitelib=/smoker/5.10.1/perl/lib -Dsitearch=/smoker/5.10.1/perl/lib -Uman1dir -Uman3dir -Usiteman1dir -Usiteman3dir -Dpager=/usr/bin/less -Demail=Marc Lehmann <staticperl-smoker-5.10.1@plan9.de> -Dcf_email=Marc Lehmann <staticperl-smoker-5.10.1@plan9.de> -Dcf_by=Marc Lehmann <staticperl-smoker-5.10.1@plan9.de> -Dusedl -Uusemymalloc -Duseperlio -dE'
    hint=recommended, useposix=true, d_sigaction=define
    useithreads=undef, usemultiplicity=undef
    useperlio=define, d_sfio=undef, uselargefiles=define, usesocks=undef
    use64bitint=undef, use64bitall=undef, uselongdouble=undef
    usemymalloc=n, bincompat5005=undef
  Compiler:
    cc='cc', ccflags ='-g -DPERL_DISABLE_PMC -DPERL_ARENA_SIZE=16376 -DNO_PERL_MALLOC_ENV -D_GNU_SOURCE -DNDEBUG -fno-strict-aliasing -pipe -I/usr/local/include -D_LARGEFILE_SOURCE -D_FILE_OFFSET_BITS=64',
    optimize='-O2 -mpush-args -fomit-frame-pointer -march=core2 -mtune=core2',
    cppflags='-g -DPERL_DISABLE_PMC -DPERL_ARENA_SIZE=16376 -DNO_PERL_MALLOC_ENV -D_GNU_SOURCE -DNDEBUG -fno-strict-aliasing -pipe -I/usr/local/include'
    ccversion='', gccversion='4.4.5', gccosandvers=''
    intsize=4, longsize=4, ptrsize=4, doublesize=8, byteorder=1234
    d_longlong=define, longlongsize=8, d_longdbl=define, longdblsize=12
    ivtype='long', ivsize=4, nvtype='double', nvsize=8, Off_t='off_t', lseeksize=8
    alignbytes=4, prototype=define
  Linker and Libraries:
    ld='cc', ldflags =' -lc -lm -ldl -lpthread -L/usr/local/lib'
    libpth=/usr/local/lib /lib /usr/lib /usr/lib64
    libs=-lm -lcrypt
    perllibs=-lm -lcrypt
    libc=/lib/libc-2.11.2.so, so=so, useshrplib=false, libperl=libperl.a
    gnulibc_version='2.11.2'
  Dynamic Linking:
    dlsrc=dl_dlopen.xs, dlext=so, d_dlsymun=undef, ccdlflags='-Wl,-E'
    cccdlflags='-fPIC', lddlflags='-shared -O2 -mpush-args -fomit-frame-pointer -march=core2 -mtune=core2 -L/usr/local/lib '


Characteristics of this binary (from libperl): 
  Compile-time options: PERL_DONT_CREATE_GVSV PERL_MALLOC_WRAP
                        USE_LARGE_FILES USE_PERLIO
  Built under linux
  Compiled at Jul  1 2011 16:11:01
  %ENV:
    PERL5LIB="/smoker/5.10.1/cpan/build/Parse-RecDescent-1.965001-qsWcQF/blib/arch:/smoker/5.10.1/cpan/build/Parse-RecDescent-1.965001-qsWcQF/blib/lib:/root/src/sex"
    PERL5OPT=""
    PERL5_CPANPLUS_CONFIG="/root/.cpanplus/config"
    PERL5_CPANPLUS_IS_RUNNING="19464"
    PERL5_CPAN_IS_RUNNING="19464"
    PERL5_CPAN_IS_RUNNING_IN_RECURSION="31613,19464"
    PERLDB_OPTS="ornaments=0"
    PERL_ANYEVENT_DBI_TESTS="1"
    PERL_ANYEVENT_EDNS0="1"
    PERL_ANYEVENT_NET_TESTS="1"
    PERL_ANYEVENT_PROTOCOLS="ipv4,ipv6"
    PERL_ANYEVENT_STRICT="1"
    PERL_CPAN_REPORTER_CONFIG="/smoker/cpanreporter-config.ini"
    PERL_CPAN_REPORTER_DIR="/smoker/5.10.1/cpanreporter"
    PERL_CR_SMOKER_CURRENT="Math-Symbolic-Custom-LaTeXDumper-0.207"
    PERL_CR_SMOKER_RUNONCE="1"
    PERL_EXTUTILS_AUTOINSTALL="--defaultdeps"
    PERL_MM_USE_DEFAULT="1"
    PERL_UNICODE="E"
  @INC:
    /smoker/5.10.1/cpan/build/Parse-RecDescent-1.965001-qsWcQF/blib/arch
    /smoker/5.10.1/cpan/build/Parse-RecDescent-1.965001-qsWcQF/blib/lib
    /root/src/sex
    /smoker/5.10.1/perl/lib
    .