Math-Symbolic v0.606 Perl 5 v5.14.0 OpenBSD.amd64-openbsd
- Status
- Pass
- From
- Chris Williams (BINGOS)
- Dist
-
Math-Symbolic v0.606
- Platform
- Perl 5 v5.14.0 OpenBSD.amd64-openbsd
- Date
- 2011-06-26 18:06:25
- ID
- 01b7f17c-a01f-11e0-92a5-c348c9b7ec30
This distribution has been tested as part of the CPAN Testers
project, supporting the Perl programming language. See
http://wiki.cpantesters.org/ for more information or email
questions to cpan-testers-discuss@perl.org
--
Dear Steffen Mueller,
This is a computer-generated error report created automatically by
CPANPLUS, version 0.9105. Testers personal comments may appear
at the end of this report.
MAKE TEST passed:
t/00dist.t ............... skipped: Test::Distribution not installed
t/00pod.t ................ skipped: Test::Pod 1.00 required for testing POD
t/00podcover.t ........... skipped: Test::Pod::Coverage not installed
t/01basic.t .............. ok
t/02basic.t .............. ok
t/03exp.t ................ ok
t/04deep_derivatives.t ... ok
t/05unary_minus.t ........ ok
t/06parser.t ............. ok
t/07simple_trig.t ........ ok
t/08parse_hyperbolic.t ... ok
t/09hyperbolic.t ......... ok
t/10hyperbolic.t ......... ok
t/11trigonometric.t ...... ok
t/12overload.t ........... ok
t/13parse_more.t ......... ok
t/14compile.t ............ ok
t/15total_derivatives.t .. ok
t/16tests.t .............. ok
t/17modifications.t ...... ok
t/18vectorcalc.t ......... ok
t/19misccalc.t ........... ok
t/20miscalgebra.t ........ ok
t/21more_derivatives.t ... ok
t/22dumpers.t ............ ok
t/90regression.t ......... ok
All tests successful.
Files=26, Tests=435, 7 wallclock secs ( 0.15 usr 0.09 sys + 5.99 cusr 0.55 csys = 6.78 CPU)
Result: PASS
[MSG] [Sun Jun 26 19:06:25 2011] Sending test report for 'Math-Symbolic-0.606'
This report was machine-generated by CPANPLUS::Dist::YACSmoke 0.64.
Powered by minismokebox version 0.54
------------------------------
ENVIRONMENT AND OTHER CONTEXT
------------------------------
Environment variables:
AUTOMATED_TESTING = 1
PATH = /home/cpan/bin:/bin:/sbin:/usr/bin:/usr/sbin:/usr/X11R6/bin:/usr/local/bin:/usr/local/sbin:/usr/games:.
PERL5LIB = :/home/cpan/pit/bare/conf/perl-5.14.0/.cpanplus/5.14.0/build/Parse-RecDescent-1.965001/blib/lib:/home/cpan/pit/bare/conf/perl-5.14.0/.cpanplus/5.14.0/build/Parse-RecDescent-1.965001/blib/arch:/home/cpan/pit/bare/conf/perl-5.14.0/.cpanplus/5.14.0/build/Math-Symbolic-0.606/blib/lib:/home/cpan/pit/bare/conf/perl-5.14.0/.cpanplus/5.14.0/build/Math-Symbolic-0.606/blib/arch
PERL5_CPANPLUS_IS_RUNNING = 15908
PERL5_CPANPLUS_IS_VERSION = 0.9105
PERL5_MINISMOKEBOX = 0.54
PERL5_YACSMOKE_BASE = /home/cpan/pit/bare/conf/perl-5.14.0
PERL_EXTUTILS_AUTOINSTALL = --defaultdeps
PERL_MM_USE_DEFAULT = 1
SHELL = /usr/local/bin/bash
TERM = screen
Perl special variables (and OS-specific diagnostics, for MSWin32):
Perl: $^X = /home/cpan/pit/bare/perl-5.14.0/bin/perl
UID: $< = 1001
EUID: $> = 1001
GID: $( = 1001 1001
EGID: $) = 1001 1001
-------------------------------
--
Summary of my perl5 (revision 5 version 14 subversion 0) configuration:
Platform:
osname=openbsd, osvers=4.9, archname=OpenBSD.amd64-openbsd
uname='openbsd ostrich.bingosnet.co.uk 4.9 generic#477 amd64 '
config_args='-des -Dprefix=/home/cpan/pit/bare/perl-5.14.0'
hint=recommended, useposix=true, d_sigaction=define
useithreads=undef, usemultiplicity=undef
useperlio=define, d_sfio=undef, uselargefiles=define, usesocks=undef
use64bitint=define, use64bitall=define, uselongdouble=undef
usemymalloc=y, bincompat5005=undef
Compiler:
cc='cc', ccflags ='-fno-strict-aliasing -pipe -fstack-protector -I/usr/local/include',
optimize='-O2',
cppflags='-fno-strict-aliasing -pipe -fstack-protector -I/usr/local/include'
ccversion='', gccversion='4.2.1 20070719 ', gccosandvers='openbsd4.9'
intsize=4, longsize=8, ptrsize=8, doublesize=8, byteorder=12345678
d_longlong=define, longlongsize=8, d_longdbl=define, longdblsize=16
ivtype='long', ivsize=8, nvtype='double', nvsize=8, Off_t='off_t', lseeksize=8
alignbytes=8, prototype=define
Linker and Libraries:
ld='cc', ldflags ='-Wl,-E -fstack-protector -L/usr/local/lib'
libpth=/usr/local/lib /usr/lib
libs=-lgdbm -lm -lutil -lc
perllibs=-lm -lutil -lc
libc=/usr/lib/libc.so.58.0, so=so, useshrplib=false, libperl=libperl.a
gnulibc_version=''
Dynamic Linking:
dlsrc=dl_dlopen.xs, dlext=so, d_dlsymun=undef, ccdlflags=' '
cccdlflags='-DPIC -fPIC ', lddlflags='-shared -fPIC -L/usr/local/lib -fstack-protector'
Characteristics of this binary (from libperl):
Compile-time options: MYMALLOC PERL_DONT_CREATE_GVSV PERL_MALLOC_WRAP
PERL_PRESERVE_IVUV USE_64_BIT_ALL USE_64_BIT_INT
USE_LARGE_FILES USE_PERLIO USE_PERL_ATOF
Built under openbsd
Compiled at May 16 2011 12:49:10
%ENV:
PERL5LIB=":/home/cpan/pit/bare/conf/perl-5.14.0/.cpanplus/5.14.0/build/Parse-RecDescent-1.965001/blib/lib:/home/cpan/pit/bare/conf/perl-5.14.0/.cpanplus/5.14.0/build/Parse-RecDescent-1.965001/blib/arch:/home/cpan/pit/bare/conf/perl-5.14.0/.cpanplus/5.14.0/build/Math-Symbolic-0.606/blib/lib:/home/cpan/pit/bare/conf/perl-5.14.0/.cpanplus/5.14.0/build/Math-Symbolic-0.606/blib/arch"
PERL5_CPANPLUS_IS_RUNNING="15908"
PERL5_CPANPLUS_IS_VERSION="0.9105"
PERL5_MINISMOKEBOX="0.54"
PERL5_YACSMOKE_BASE="/home/cpan/pit/bare/conf/perl-5.14.0"
PERL_EXTUTILS_AUTOINSTALL="--defaultdeps"
PERL_MM_USE_DEFAULT="1"
@INC:
/home/cpan/pit/bare/conf/perl-5.14.0/.cpanplus/5.14.0/build/Parse-RecDescent-1.965001/blib/lib
/home/cpan/pit/bare/conf/perl-5.14.0/.cpanplus/5.14.0/build/Parse-RecDescent-1.965001/blib/arch
/home/cpan/pit/bare/conf/perl-5.14.0/.cpanplus/5.14.0/build/Math-Symbolic-0.606/blib/lib
/home/cpan/pit/bare/conf/perl-5.14.0/.cpanplus/5.14.0/build/Math-Symbolic-0.606/blib/arch
/home/cpan/pit/bare/perl-5.14.0/lib/site_perl/5.14.0/OpenBSD.amd64-openbsd
/home/cpan/pit/bare/perl-5.14.0/lib/site_perl/5.14.0
/home/cpan/pit/bare/perl-5.14.0/lib/5.14.0/OpenBSD.amd64-openbsd
/home/cpan/pit/bare/perl-5.14.0/lib/5.14.0
.