CHI v0.56 Perl 5 v5.18.0 darwin-2level

Status
Pass
From
Serguei Trouchelle (STRO)
Dist
CHI v0.56
Platform
Perl 5 v5.18.0 darwin-2level
Date
2013-07-12 08:35:28
ID
017fca44-eace-11e2-846e-8df8e131e93b
This distribution has been tested as part of the CPAN Testers
project, supporting the Perl programming language.  See
http://wiki.cpantesters.org/ for more information or email
questions to cpan-testers-discuss@perl.org


--
Dear Jonathan Swartz,

This is a computer-generated report for CHI-0.56
on perl 5.18.0, created by CPAN-Reporter-1.2010.

Thank you for uploading your work to CPAN.  Congratulations!
All tests were successful.

Sections of this report:

    * Tester comments
    * Program output
    * Prerequisites
    * Environment and other context

------------------------------
TESTER COMMENTS
------------------------------

Additional comments from tester:

this report is from an automated smoke testing program
and was not reviewed by a human for accuracy

------------------------------
PROGRAM OUTPUT
------------------------------

Output from '/usr/bin/make test':

PERL_DL_NONLAZY=1 /Users/trushel/perl/5.18.0/bin/perl "-MExtUtils::Command::MM" "-e" "test_harness(0, 'blib/lib', 'blib/arch')" t/*.t
# Testing CHI 0.56, Perl 5.018000, /Users/trushel/perl/5.18.0/bin/perl
t/00-load.t ............................. ok
t/author-03-pod.t ....................... skipped: these tests are for testing by the author
t/author-file-driver.t .................. skipped: these tests are for testing by the author
t/author-no-data-serializer.t ........... skipped: these tests are for testing by the author
t/author-RequiredModules.t .............. skipped: these tests are for testing by the author
t/Bugs.t ................................ ok
t/Config.t .............................. ok
t/Constants.t ........................... ok
t/Driver-Memory.t ....................... ok
t/Driver-RawMemory.t .................... ok
t/GetError.t ............................ ok
t/Initialize.t .......................... ok
t/Sanity.t .............................. ok
t/SetError.t ............................ ok
t/smoke-Driver-CacheCache.t ............. skipped: one of required modules not installed: Cache::FileCache
t/smoke-Driver-FastMmap.t ............... skipped: one of required modules not installed: Cache::FastMmap
t/smoke-Driver-File-DepthZero.t ......... ok
t/smoke-Driver-File.t ................... ok
t/smoke-Driver-NonMoose.t ............... ok
t/smoke-Driver-Subcache-l1_cache.t ...... ok
t/smoke-Driver-Subcache-mirror_cache.t .. ok
t/smoke-Null.t .......................... ok
t/Subcache.t ............................ ok
t/Subclass.t ............................ ok
t/Util.t ................................ ok
All tests successful.
Files=25, Tests=5215, 14 wallclock secs ( 0.59 usr  0.09 sys + 11.92 cusr  1.47 csys = 14.07 CPU)
Result: PASS

------------------------------
PREREQUISITES
------------------------------

Prerequisite modules loaded:

requires:

    Module                Need Have  
    --------------------- ---- ------
    Carp::Assert          0.20 0.20  
    Data::UUID            0    1.219 
    Digest::JHash         0    0.07  
    Digest::MD5           0    2.53  
    File::Spec            0.80 3.40  
    Hash::MoreUtils       0    0.02  
    JSON                  0    2.59  
    List::MoreUtils       0.13 0.33  
    Log::Any              0.08 0.15  
    Moose                 0.66 2.0802
    Storable              0    2.41  
    String::RewritePrefix 0    0.006 
    Task::Weaken          0    1.04  
    Time::Duration        1.06 1.1   
    Time::Duration::Parse 0.03 0.06  
    Time::HiRes           1.30 1.9725
    Try::Tiny             0.05 0.14  

build_requires:

    Module                Need Have  
    --------------------- ---- ------
    Date::Parse           0    2.30  
    Test::Builder         0    0.98  
    Test::Class           0    0.39  
    Test::Deep            0    0.110 
    Test::Exception       0    0.32  
    Test::More            0    0.98  
    Test::Warn            0    0.24  

configure_requires:

    Module                Need Have  
    --------------------- ---- ------
    ExtUtils::MakeMaker   6.30 6.66  


------------------------------
ENVIRONMENT AND OTHER CONTEXT
------------------------------

Environment variables:

    AUTOMATED_TESTING = 1
    LANG = en_US.UTF-8
    PATH = /usr/bin:/bin:/usr/sbin:/sbin:/usr/local/bin:/usr/local/bin/g4bin:/usr/local/sbin
    PERL5LIB = 
    PERL5OPT = 
    PERL5_CPANPLUS_IS_RUNNING = 16036
    PERL5_CPAN_IS_RUNNING = 16036
    PERL5_CPAN_IS_RUNNING_IN_RECURSION = 11967,16036
    PERL_CR_SMOKER_CURRENT = Net-TribalWarsMap-API-TribeLookup-0.1.0
    PERL_EXTUTILS_AUTOINSTALL = --defaultdeps
    PERL_MM_USE_DEFAULT = 1
    SHELL = /bin/bash
    TERM = xterm-256color
    TMPDIR = /var/folders/00/11s1r000h01000cxqpysvccm004747/T/

Perl special variables (and OS-specific diagnostics, for MSWin32):

    $^X = /Users/trushel/perl/5.18.0/bin/perl
    $UID/$EUID = 138375 / 138375
    $GID = 5762 5762 21 981 980 12 33 62 80 81 98 100 204 401
    $EGID = 5762 5762 21 981 980 12 33 62 80 81 98 100 204 401

Perl module toolchain versions installed:

    Module              Have    
    ------------------- --------
    CPAN                2.00    
    CPAN::Meta          2.120921
    Cwd                 3.40    
    ExtUtils::CBuilder  0.280210
    ExtUtils::Command   1.17    
    ExtUtils::Install   1.59    
    ExtUtils::MakeMaker 6.66    
    ExtUtils::Manifest  1.63    
    ExtUtils::ParseXS   3.18    
    File::Spec          3.40    
    JSON                2.59    
    JSON::PP            2.27202 
    Module::Build       0.4005  
    Module::Signature   n/a     
    Parse::CPAN::Meta   1.4404  
    Test::Harness       3.26    
    Test::More          0.98    
    YAML                0.84    
    YAML::Syck          1.27    
    version             0.9902  


--

Summary of my perl5 (revision 5 version 18 subversion 0) configuration:
   
  Platform:
    osname=darwin, osvers=12.4.0, archname=darwin-2level
    uname='darwin trushel-macbookpro.local 12.4.0 darwin kernel version 12.4.0: wed may 1 17:57:12 pdt 2013; root:xnu-2050.24.15~1release_x86_64 x86_64 '
    config_args=''
    hint=recommended, useposix=true, d_sigaction=define
    useithreads=undef, usemultiplicity=undef
    useperlio=define, d_sfio=undef, uselargefiles=define, usesocks=undef
    use64bitint=define, use64bitall=define, uselongdouble=undef
    usemymalloc=n, bincompat5005=undef
  Compiler:
    cc='cc', ccflags ='-fno-common -DPERL_DARWIN -fno-strict-aliasing -pipe -fstack-protector',
    optimize='-O3',
    cppflags='-fno-common -DPERL_DARWIN -fno-strict-aliasing -pipe -fstack-protector'
    ccversion='', gccversion='4.2.1 Compatible Apple LLVM 4.2 (clang-425.0.28)', gccosandvers=''
    intsize=4, longsize=8, ptrsize=8, doublesize=8, byteorder=12345678
    d_longlong=define, longlongsize=8, d_longdbl=define, longdblsize=16
    ivtype='long', ivsize=8, nvtype='double', nvsize=8, Off_t='off_t', lseeksize=8
    alignbytes=8, prototype=define
  Linker and Libraries:
    ld='env MACOSX_DEPLOYMENT_TARGET=10.3 cc', ldflags =' -fstack-protector -L/usr/local/lib'
    libpth=/usr/local/lib /usr/lib
    libs=-ldbm -ldl -lm -lutil -lc
    perllibs=-ldl -lm -lutil -lc
    libc=, so=dylib, useshrplib=false, libperl=libperl.a
    gnulibc_version=''
  Dynamic Linking:
    dlsrc=dl_dlopen.xs, dlext=bundle, d_dlsymun=undef, ccdlflags=' '
    cccdlflags=' ', lddlflags=' -bundle -undefined dynamic_lookup -L/usr/local/lib -fstack-protector'


Characteristics of this binary (from libperl): 
  Compile-time options: HAS_TIMES PERLIO_LAYERS PERL_DONT_CREATE_GVSV
                        PERL_HASH_FUNC_ONE_AT_A_TIME_HARD PERL_MALLOC_WRAP
                        PERL_PRESERVE_IVUV PERL_SAWAMPERSAND USE_64_BIT_ALL
                        USE_64_BIT_INT USE_LARGE_FILES USE_LOCALE
                        USE_LOCALE_COLLATE USE_LOCALE_CTYPE
                        USE_LOCALE_NUMERIC USE_PERLIO USE_PERL_ATOF
  Built under darwin
  Compiled at Jul  8 2013 20:25:16
  %ENV:
    PERL5LIB=""
    PERL5OPT=""
    PERL5_CPANPLUS_IS_RUNNING="16036"
    PERL5_CPAN_IS_RUNNING="16036"
    PERL5_CPAN_IS_RUNNING_IN_RECURSION="11967,16036"
    PERL_CR_SMOKER_CURRENT="Net-TribalWarsMap-API-TribeLookup-0.1.0"
    PERL_EXTUTILS_AUTOINSTALL="--defaultdeps"
    PERL_MM_USE_DEFAULT="1"
  @INC:
    /Users/trushel/perl/5.18.0/lib/site_perl/5.18.0/darwin-2level
    /Users/trushel/perl/5.18.0/lib/site_perl/5.18.0
    /Users/trushel/perl/5.18.0/lib/5.18.0/darwin-2level
    /Users/trushel/perl/5.18.0/lib/5.18.0
    .