Moo v2.005005 Perl 5 v5.38.0 x86_64-linux-thread-multi
- Status
- Pass
- From
- Arpad Szasz
- Dist
-
Moo v2.005005
- Platform
- Perl 5 v5.38.0 x86_64-linux-thread-multi
- Date
- 2023-07-03 15:33:48
- ID
- 011e32a2-19b7-11ee-a594-19d76e90a7fa
This distribution has been tested as part of the CPAN Testers
project, supporting the Perl programming language. See
http://wiki.cpantesters.org/ for more information or email
questions to cpan-testers-discuss@perl.org
--
Dear HAARG,
This is a computer-generated report for Moo-2.005005
on perl 5.38.0, created by App::cpanminus::reporter 0.20 (1.7046).
Thank you for uploading your work to CPAN. Congratulations!
All tests were successful.
Sections of this report:
* Tester comments
* Program output
* Prerequisites
* Environment and other context
------------------------------
TESTER COMMENTS
------------------------------
Additional comments from tester:
none provided
------------------------------
PROGRAM OUTPUT
------------------------------
Output from '':
Building and testing Moo-2.005005
cp lib/Moo/_Utils.pm blib/lib/Moo/_Utils.pm
cp lib/Method/Generate/Accessor.pm blib/lib/Method/Generate/Accessor.pm
cp lib/Moo/HandleMoose/_TypeMap.pm blib/lib/Moo/HandleMoose/_TypeMap.pm
cp lib/Moo/Object.pm blib/lib/Moo/Object.pm
cp lib/Moo/Role.pm blib/lib/Moo/Role.pm
cp lib/Moo/HandleMoose/FakeMetaClass.pm blib/lib/Moo/HandleMoose/FakeMetaClass.pm
cp lib/oo.pm blib/lib/oo.pm
cp lib/Method/Generate/DemolishAll.pm blib/lib/Method/Generate/DemolishAll.pm
cp lib/Method/Generate/Constructor.pm blib/lib/Method/Generate/Constructor.pm
cp lib/Moo/HandleMoose.pm blib/lib/Moo/HandleMoose.pm
cp lib/Moo/sification.pm blib/lib/Moo/sification.pm
cp lib/Method/Generate/BuildAll.pm blib/lib/Method/Generate/BuildAll.pm
cp lib/Moo.pm blib/lib/Moo.pm
Manifying 3 pod documents
PERL_DL_NONLAZY=1 "/home/arpi/opt/perl5/perls/perl-5.38.0/bin/perl" -It/lib "-MTestEnv=" "-MExtUtils::Command::MM" "-MTest::Harness" "-e" "undef *Test::Harness::Switches; test_harness(0, 'blib/lib', 'blib/arch')" t/*.t
t/accessor-default.t ............... ok
t/accessor-coerce.t ................ ok
t/accessor-generator-extension.t ... ok
t/accessor-handles.t ............... ok
t/accessor-mixed.t ................. ok
t/accessor-shortcuts.t ............. ok
t/accessor-pred-clear.t ............ ok
t/accessor-trigger.t ............... ok
t/accessor-reader-writer.t ......... ok
t/accessor-weaken-pre-5_8_3.t ...... ok
t/accessor-roles.t ................. ok
t/accessor-isa.t ................... ok
t/accessor-weaken.t ................ ok
t/buildall-subconstructor.t ........ ok
t/buildargs-error.t ................ ok
t/buildall.t ....................... ok
t/constructor-modify.t ............. ok
t/coerce-1.t ....................... ok
t/demolish-basics.t ................ ok
t/croak-locations.t ................ ok
t/compose-non-role.t ............... ok
t/buildargs.t ...................... ok
t/compose-conflicts.t .............. ok
t/demolish-bugs-eats_mini.t ........ ok
t/demolish-bugs-eats_exceptions.t .. ok
t/compose-roles.t .................. ok
t/demolish-throw.t ................. ok
t/demolish-global_destruction.t .... ok
t/extends-role.t ................... ok
t/does.t ........................... ok
t/has-array.t ...................... ok
t/has-before-extends.t ............. ok
t/extend-constructor.t ............. ok
t/has-plus.t ....................... ok
t/extends-non-moo.t ................ ok
t/foreignbuildargs.t ............... ok
t/load_module.t .................... ok
t/global_underscore.t .............. ok
t/isa-interfere.t .................. ok
t/load_module_error.t .............. ok
t/load_module_role_tiny.t .......... ok
t/init-arg.t ....................... ok
t/modifiers.t ...................... ok
t/long-package-name.t .............. ok
t/modify_lazy_handlers.t ........... ok
t/lazy_isa.t ....................... ok
t/moo-accessors.t .................. ok
t/moo-c3.t ......................... ok
t/moo-utils-_subname-Sub-Name.t .... ok
t/moo-utils-_subname.t ............. ok
t/moo-utils-_name_coderef.t ........ ok
t/method-generate-constructor.t .... ok
t/method-generate-accessor.t ....... ok
t/moo.t ............................ ok
t/moo-object.t ..................... ok
t/no-build.t ....................... ok
t/moo-utils.t ...................... ok
t/non-moo-extends-c3.t ............. ok
t/no-moo.t ......................... ok
t/not-methods.t .................... ok
t/non-moo-extends.t ................ ok
t/mutual-requires.t ................ ok
t/overridden-core-funcs.t .......... ok
t/not-both.t ....................... ok
t/sub-and-handles.t ................ ok
t/subconstructor.t ................. ok
t/undef-bug.t ...................... ok
t/role-conflicts-moox.t ............ ok
t/use-after-no.t ................... ok
t/overloaded-coderefs.t ............ ok
t/zzz-check-breaks.t ............... ok
All tests successful.
Files=71, Tests=841, 1 wallclock secs ( 0.21 usr 0.13 sys + 6.52 cusr 0.91 csys = 7.77 CPU)
Result: PASS
------------------------------
PREREQUISITES
------------------------------
Prerequisite modules loaded:
runtime:
Module Need Have
------------------------ -------- --------
Carp 0 1.54
Class::Method::Modifiers 1.10 2.15
Exporter 0 5.77
perl 5.006 5.038000
Role::Tiny 2.002003 2.002004
Scalar::Util 1.00 1.63
Sub::Defer 2.006006 2.006008
Sub::Quote 2.006006 2.006008
configure:
Module Need Have
------------------------ -------- --------
ExtUtils::MakeMaker 0 7.70
------------------------------
ENVIRONMENT AND OTHER CONTEXT
------------------------------
Environment variables:
LANG = en_US.UTF-8
LC_ADDRESS = ro_RO.UTF-8
LC_IDENTIFICATION = ro_RO.UTF-8
LC_MEASUREMENT = ro_RO.UTF-8
LC_MONETARY = ro_RO.UTF-8
LC_NAME = ro_RO.UTF-8
LC_NUMERIC = ro_RO.UTF-8
LC_PAPER = ro_RO.UTF-8
LC_TELEPHONE = ro_RO.UTF-8
LC_TIME = ro_RO.UTF-8
PATH = /home/arpi/opt/perl5/bin:/home/arpi/opt/perl5/perls/stable/bin:/home/arpi/.cargo/bin:/home/arpi/.nvm/versions/node/v20.0.0/bin:/home/arpi/.cargo/bin:/home/arpi/.local/share/umake/bin::/home/arpi/.rakudobrew/bin:/home/arpi/.local/bin:/home/arpi/bin:/home/arpi/bin:/usr/local/sbin:/usr/local/bin:/usr/sbin:/usr/bin:/sbin:/bin:/usr/games:/usr/local/games:/snap/bin:/snap/bin:/home/arpi/.yarn/bin:/home/arpi/go/bin:/home/arpi/.fzf/bin:/home/arpi/go/bin
PERLBREW_HOME = /home/arpi/.perlbrew
PERLBREW_MANPATH = /home/arpi/opt/perl5/perls/stable/man
PERLBREW_PATH = /home/arpi/opt/perl5/bin:/home/arpi/opt/perl5/perls/stable/bin
PERLBREW_PERL = stable
PERLBREW_ROOT = /home/arpi/opt/perl5
PERLBREW_SHELLRC_VERSION = 0.97
PERLBREW_VERSION = 0.97
PROGRAMMING_TESTS = /home/arpi/Tresors/Default/Programming
SHELL = /bin/bash
TERM = xterm-256color
Perl special variables (and OS-specific diagnostics, for MSWin32):
EGID = 1000 4 20 24 27 29 30 46 108 115 131 132 145 998 1000 1007
EUID = 1000
EXECUTABLE_NAME = /home/arpi/opt/perl5/perls/perl-5.38.0/bin/perl
GID = 1000 4 20 24 27 29 30 46 108 115 131 132 145 998 1000 1007
UID = 1000
Perl module toolchain versions installed:
Module Have
------------------- --------
CPAN 2.36
CPAN::Meta 2.150010
Cwd 3.89
ExtUtils::CBuilder 0.280238
ExtUtils::Command 7.70
ExtUtils::Install 2.22
ExtUtils::MakeMaker 7.70
ExtUtils::Manifest 1.73
ExtUtils::ParseXS 3.51
File::Spec 3.88
JSON 4.10
JSON::PP 4.16
Module::Build 0.4234
Module::Signature n/a
Parse::CPAN::Meta 2.150010
Test::Harness 3.44
Test::More 1.302194
YAML 1.30
YAML::Syck n/a
version 0.9929
--
Summary of my perl5 (revision 5 version 38 subversion 0) configuration:
Platform:
osname=linux
osvers=6.2.0-24-generic
archname=x86_64-linux-thread-multi
uname='linux guppy 6.2.0-24-generic #24-ubuntu smp preempt_dynamic fri jun 16 12:03:50 utc 2023 x86_64 x86_64 x86_64 gnulinux '
config_args='-de -Dprefix=/home/arpi/opt/perl5/perls/perl-5.38.0 -Dusethreads -Duselargefiles -Duse64bitall -Dusesitecustomize -Duseshrplib -Dinc_version_list=none -Dpager=/bin/less -Doptimize=-O2 -Dcf_by=Plenum.ro -Dcf_email=arpad.szasz@plenum.ro -Uuserelocatableinc -UDEBUGGING -Aeval:scriptdir=/home/arpi/opt/perl5/perls/perl-5.38.0/bin'
hint=recommended
useposix=true
d_sigaction=define
useithreads=define
usemultiplicity=define
use64bitint=define
use64bitall=define
uselongdouble=undef
usemymalloc=n
default_inc_excludes_dot=define
Compiler:
cc='cc'
ccflags ='-D_REENTRANT -D_GNU_SOURCE -fwrapv -fno-strict-aliasing -pipe -fstack-protector-strong -I/usr/local/include -D_LARGEFILE_SOURCE -D_FILE_OFFSET_BITS=64'
optimize='-O2'
cppflags='-D_REENTRANT -D_GNU_SOURCE -fwrapv -fno-strict-aliasing -pipe -fstack-protector-strong -I/usr/local/include'
ccversion=''
gccversion='12.2.0'
gccosandvers=''
intsize=4
longsize=8
ptrsize=8
doublesize=8
byteorder=12345678
doublekind=3
d_longlong=define
longlongsize=8
d_longdbl=define
longdblsize=16
longdblkind=3
ivtype='long'
ivsize=8
nvtype='double'
nvsize=8
Off_t='off_t'
lseeksize=8
alignbytes=8
prototype=define
Linker and Libraries:
ld='cc'
ldflags =' -fstack-protector-strong -L/usr/local/lib'
libpth=/usr/local/lib /usr/lib/x86_64-linux-gnu /usr/lib /usr/lib64
libs=-lpthread -ldl -lm -lcrypt -lutil -lc
perllibs=-lpthread -ldl -lm -lcrypt -lutil -lc
libc=/lib/x86_64-linux-gnu/libc.so.6
so=so
useshrplib=true
libperl=libperl.so
gnulibc_version='2.37'
Dynamic Linking:
dlsrc=dl_dlopen.xs
dlext=so
d_dlsymun=undef
ccdlflags='-Wl,-E -Wl,-rpath,/home/arpi/opt/perl5/perls/perl-5.38.0/lib/5.38.0/x86_64-linux-thread-multi/CORE'
cccdlflags='-fPIC'
lddlflags='-shared -O2 -L/usr/local/lib -fstack-protector-strong'
Characteristics of this binary (from libperl):
Compile-time options:
HAS_LONG_DOUBLE
HAS_STRTOLD
HAS_TIMES
MULTIPLICITY
PERLIO_LAYERS
PERL_COPY_ON_WRITE
PERL_DONT_CREATE_GVSV
PERL_HASH_FUNC_SIPHASH13
PERL_HASH_USE_SBOX32
PERL_MALLOC_WRAP
PERL_OP_PARENT
PERL_PRESERVE_IVUV
PERL_USE_SAFE_PUTENV
USE_64_BIT_ALL
USE_64_BIT_INT
USE_ITHREADS
USE_LARGE_FILES
USE_LOCALE
USE_LOCALE_COLLATE
USE_LOCALE_CTYPE
USE_LOCALE_NUMERIC
USE_LOCALE_TIME
USE_PERLIO
USE_PERL_ATOF
USE_REENTRANT_API
USE_SITECUSTOMIZE
USE_THREAD_SAFE_LOCALE
Built under linux
Compiled at Jul 3 2023 17:49:56
%ENV:
PERLBREW_HOME="/home/arpi/.perlbrew"
PERLBREW_MANPATH="/home/arpi/opt/perl5/perls/stable/man"
PERLBREW_PATH="/home/arpi/opt/perl5/bin:/home/arpi/opt/perl5/perls/stable/bin"
PERLBREW_PERL="stable"
PERLBREW_ROOT="/home/arpi/opt/perl5"
PERLBREW_SHELLRC_VERSION="0.97"
PERLBREW_VERSION="0.97"
@INC:
/home/arpi/opt/perl5/perls/perl-5.38.0/lib/site_perl/5.38.0/x86_64-linux-thread-multi
/home/arpi/opt/perl5/perls/perl-5.38.0/lib/site_perl/5.38.0
/home/arpi/opt/perl5/perls/perl-5.38.0/lib/5.38.0/x86_64-linux-thread-multi
/home/arpi/opt/perl5/perls/perl-5.38.0/lib/5.38.0