Text-Conceal v0.9901 Perl 5 v5.16.2 amd64-freebsd
- Status
- Pass
- From
- Chris Williams (BINGOS)
- Dist
-
Text-Conceal v0.9901
- Platform
- Perl 5 v5.16.2 amd64-freebsd
- Date
- 2021-10-14 00:16:40
- ID
- 01173582-2c84-11ec-bc66-57723b537541
This distribution has been tested as part of the CPAN Testers
project, supporting the Perl programming language. See
http://wiki.cpantesters.org/ for more information or email
questions to cpan-testers-discuss@perl.org
--
Dear Kaz Utashiro,
This is a computer-generated error report created automatically by
CPANPLUS, version 0.9912. Testers personal comments may appear
at the end of this report.
Thank you for uploading your work to CPAN. Congratulations!
All tests were successful.
TEST RESULTS:
Below is the error stack from stage 'make test':
t/00_compile.t ............. ok
t/VPrintf/01_simple.t ...... ok
t/VPrintf/02_multi.t ....... ok
t/VPrintf/03_special.t ..... ok
Unknown charname 'KATAKANA LETTER SMALL KI' at (eval 20) line 1.
Unknown charname 'KATAKANA LETTER SMALL KO' at (eval 26) line 1.
Unknown charname 'KATAKANA LETTER SMALL SA' at (eval 28) line 1.
Unknown charname 'KATAKANA LETTER SMALL SE' at (eval 34) line 1.
Unknown charname 'KATAKANA LETTER SMALL SO' at (eval 36) line 1.
Unknown charname 'KATAKANA LETTER SMALL TA' at (eval 38) line 1.
Unknown charname 'KATAKANA LETTER SMALL TI' at (eval 40) line 1.
Unknown charname 'KATAKANA LETTER SMALL TE' at (eval 44) line 1.
Unknown charname 'KATAKANA LETTER SMALL NA' at (eval 48) line 1.
Unknown charname 'KATAKANA LETTER SMALL NI' at (eval 50) line 1.
Unknown charname 'KATAKANA LETTER SMALL NE' at (eval 54) line 1.
Unknown charname 'KATAKANA LETTER SMALL NO' at (eval 56) line 1.
Unknown charname 'KATAKANA LETTER SMALL MA' at (eval 68) line 1.
Unknown charname 'KATAKANA LETTER SMALL MI' at (eval 70) line 1.
Unknown charname 'KATAKANA LETTER SMALL ME' at (eval 74) line 1.
Unknown charname 'KATAKANA LETTER SMALL MO' at (eval 76) line 1.
Unknown charname 'KATAKANA LETTER YI' at (eval 79) line 1.
Unknown charname 'KATAKANA LETTER SMALL YI' at (eval 80) line 1.
Unknown charname 'KATAKANA LETTER YE' at (eval 83) line 1.
Unknown charname 'KATAKANA LETTER SMALL YE' at (eval 84) line 1.
Unknown charname 'KATAKANA LETTER SMALL WI' at (eval 100) line 1.
Unknown charname 'KATAKANA LETTER WU' at (eval 101) line 1.
Unknown charname 'KATAKANA LETTER SMALL WU' at (eval 102) line 1.
Unknown charname 'KATAKANA LETTER SMALL WE' at (eval 104) line 1.
Unknown charname 'KATAKANA LETTER SMALL WO' at (eval 106) line 1.
Unknown charname 'KATAKANA LETTER SMALL GA' at (eval 108) line 1.
Unknown charname 'KATAKANA LETTER SMALL GI' at (eval 110) line 1.
Unknown charname 'KATAKANA LETTER SMALL GU' at (eval 112) line 1.
Unknown charname 'KATAKANA LETTER SMALL GE' at (eval 114) line 1.
Unknown charname 'KATAKANA LETTER SMALL GO' at (eval 116) line 1.
Unknown charname 'KATAKANA LETTER SMALL ZA' at (eval 118) line 1.
Unknown charname 'KATAKANA LETTER SMALL ZI' at (eval 120) line 1.
Unknown charname 'KATAKANA LETTER SMALL ZU' at (eval 122) line 1.
Unknown charname 'KATAKANA LETTER SMALL ZE' at (eval 124) line 1.
Unknown charname 'KATAKANA LETTER SMALL ZO' at (eval 126) line 1.
Unknown charname 'KATAKANA LETTER SMALL DA' at (eval 128) line 1.
Unknown charname 'KATAKANA LETTER SMALL DI' at (eval 130) line 1.
Unknown charname 'KATAKANA LETTER SMALL DU' at (eval 132) line 1.
Unknown charname 'KATAKANA LETTER SMALL DE' at (eval 134) line 1.
Unknown charname 'KATAKANA LETTER SMALL DO' at (eval 136) line 1.
Unknown charname 'KATAKANA LETTER SMALL BA' at (eval 138) line 1.
Unknown charname 'KATAKANA LETTER SMALL BI' at (eval 140) line 1.
Unknown charname 'KATAKANA LETTER SMALL BU' at (eval 142) line 1.
Unknown charname 'KATAKANA LETTER SMALL BE' at (eval 144) line 1.
Unknown charname 'KATAKANA LETTER SMALL BO' at (eval 146) line 1.
Unknown charname 'KATAKANA LETTER SMALL PA' at (eval 148) line 1.
Unknown charname 'KATAKANA LETTER SMALL PI' at (eval 150) line 1.
Unknown charname 'KATAKANA LETTER SMALL PU' at (eval 152) line 1.
Unknown charname 'KATAKANA LETTER SMALL PE' at (eval 154) line 1.
Unknown charname 'KATAKANA LETTER SMALL PO' at (eval 156) line 1.
Unknown charname 'HIRAGANA LETTER SMALL KI' at (eval 170) line 1.
Unknown charname 'HIRAGANA LETTER SMALL KU' at (eval 172) line 1.
Unknown charname 'HIRAGANA LETTER SMALL KO' at (eval 176) line 1.
Unknown charname 'HIRAGANA LETTER SMALL SA' at (eval 178) line 1.
Unknown charname 'HIRAGANA LETTER SMALL SI' at (eval 180) line 1.
Unknown charname 'HIRAGANA LETTER SMALL SU' at (eval 182) line 1.
Unknown charname 'HIRAGANA LETTER SMALL SE' at (eval 184) line 1.
Unknown charname 'HIRAGANA LETTER SMALL SO' at (eval 186) line 1.
Unknown charname 'HIRAGANA LETTER SMALL TA' at (eval 188) line 1.
Unknown charname 'HIRAGANA LETTER SMALL TI' at (eval 190) line 1.
Unknown charname 'HIRAGANA LETTER SMALL TE' at (eval 194) line 1.
Unknown charname 'HIRAGANA LETTER SMALL TO' at (eval 196) line 1.
Unknown charname 'HIRAGANA LETTER SMALL NA' at (eval 198) line 1.
Unknown charname 'HIRAGANA LETTER SMALL NI' at (eval 200) line 1.
Unknown charname 'HIRAGANA LETTER SMALL NU' at (eval 202) line 1.
Unknown charname 'HIRAGANA LETTER SMALL NE' at (eval 204) line 1.
Unknown charname 'HIRAGANA LETTER SMALL NO' at (eval 206) line 1.
Unknown charname 'HIRAGANA LETTER SMALL HA' at (eval 208) line 1.
Unknown charname 'HIRAGANA LETTER SMALL HI' at (eval 210) line 1.
Unknown charname 'HIRAGANA LETTER SMALL HU' at (eval 212) line 1.
Unknown charname 'HIRAGANA LETTER SMALL HE' at (eval 214) line 1.
Unknown charname 'HIRAGANA LETTER SMALL HO' at (eval 216) line 1.
Unknown charname 'HIRAGANA LETTER SMALL MA' at (eval 218) line 1.
Unknown charname 'HIRAGANA LETTER SMALL MI' at (eval 220) line 1.
Unknown charname 'HIRAGANA LETTER SMALL MU' at (eval 222) line 1.
Unknown charname 'HIRAGANA LETTER SMALL ME' at (eval 224) line 1.
Unknown charname 'HIRAGANA LETTER SMALL MO' at (eval 226) line 1.
Unknown charname 'HIRAGANA LETTER YI' at (eval 229) line 1.
Unknown charname 'HIRAGANA LETTER SMALL YI' at (eval 230) line 1.
Unknown charname 'HIRAGANA LETTER YE' at (eval 233) line 1.
Unknown charname 'HIRAGANA LETTER SMALL YE' at (eval 234) line 1.
Unknown charname 'HIRAGANA LETTER SMALL RA' at (eval 238) line 1.
Unknown charname 'HIRAGANA LETTER SMALL RI' at (eval 240) line 1.
Unknown charname 'HIRAGANA LETTER SMALL RU' at (eval 242) line 1.
Unknown charname 'HIRAGANA LETTER SMALL RE' at (eval 244) line 1.
Unknown charname 'HIRAGANA LETTER SMALL RO' at (eval 246) line 1.
Unknown charname 'HIRAGANA LETTER SMALL WI' at (eval 250) line 1.
Unknown charname 'HIRAGANA LETTER WU' at (eval 251) line 1.
Unknown charname 'HIRAGANA LETTER SMALL WU' at (eval 252) line 1.
Unknown charname 'HIRAGANA LETTER SMALL WE' at (eval 254) line 1.
Unknown charname 'HIRAGANA LETTER SMALL WO' at (eval 256) line 1.
Unknown charname 'HIRAGANA LETTER SMALL GA' at (eval 258) line 1.
Unknown charname 'HIRAGANA LETTER SMALL GI' at (eval 260) line 1.
Unknown charname 'HIRAGANA LETTER SMALL GU' at (eval 262) line 1.
Unknown charname 'HIRAGANA LETTER SMALL GE' at (eval 264) line 1.
Unknown charname 'HIRAGANA LETTER SMALL GO' at (eval 266) line 1.
Unknown charname 'HIRAGANA LETTER SMALL ZA' at (eval 268) line 1.
Unknown charname 'HIRAGANA LETTER SMALL ZI' at (eval 270) line 1.
Unknown charname 'HIRAGANA LETTER SMALL ZU' at (eval 272) line 1.
Unknown charname 'HIRAGANA LETTER SMALL ZE' at (eval 274) line 1.
Unknown charname 'HIRAGANA LETTER SMALL ZO' at (eval 276) line 1.
Unknown charname 'HIRAGANA LETTER SMALL DA' at (eval 278) line 1.
Unknown charname 'HIRAGANA LETTER SMALL DI' at (eval 280) line 1.
Unknown charname 'HIRAGANA LETTER SMALL DU' at (eval 282) line 1.
Unknown charname 'HIRAGANA LETTER SMALL DE' at (eval 284) line 1.
Unknown charname 'HIRAGANA LETTER SMALL DO' at (eval 286) line 1.
Unknown charname 'HIRAGANA LETTER SMALL BA' at (eval 288) line 1.
Unknown charname 'HIRAGANA LETTER SMALL BI' at (eval 290) line 1.
Unknown charname 'HIRAGANA LETTER SMALL BU' at (eval 292) line 1.
Unknown charname 'HIRAGANA LETTER SMALL BE' at (eval 294) line 1.
Unknown charname 'HIRAGANA LETTER SMALL BO' at (eval 296) line 1.
Unknown charname 'HIRAGANA LETTER SMALL PA' at (eval 298) line 1.
Unknown charname 'HIRAGANA LETTER SMALL PI' at (eval 300) line 1.
Unknown charname 'HIRAGANA LETTER SMALL PU' at (eval 302) line 1.
Unknown charname 'HIRAGANA LETTER SMALL PE' at (eval 304) line 1.
Unknown charname 'HIRAGANA LETTER SMALL PO' at (eval 306) line 1.
t/VPrintf/04_combined.t .... ok
t/VPrintf/05_filehandle.t .. ok
t/VPrintf/07_backspace.t ... ok
All tests successful.
Files=7, Tests=577, 3 wallclock secs ( 0.18 usr 0.05 sys + 1.71 cusr 0.54 csys = 2.48 CPU)
Result: PASS
PREREQUISITES:
Here is a list of prerequisites you specified and versions we
managed to load:
Module Name Have Want
Test::More 1.302187 0.98
Text::ANSI::Fold 2.1101 2.06
Perl module toolchain versions installed:
Module Name Have
CPANPLUS 0.9912
CPANPLUS::Dist::Build 0.90
Cwd 3.75
ExtUtils::CBuilder 0.280236
ExtUtils::Command 7.62
ExtUtils::Install 2.20
ExtUtils::MakeMaker 7.62
ExtUtils::Manifest 1.73
ExtUtils::ParseXS 3.35
File::Spec 3.75
Module::Build 0.4231
Pod::Parser 1.51
Pod::Simple 3.20
Test2 1.302187
Test::Harness 3.42
Test::More 1.302187
version 0.9929
******************************** NOTE ********************************
The comments above are created mechanically, possibly without manual
checking by the sender. As there are many people performing automatic
tests on each upload to CPAN, it is likely that you will receive
identical messages about the same problem.
If you believe that the message is mistaken, please reply to the first
one with correction and/or additional informations, and do not take
it personally. We appreciate your patience. :)
**********************************************************************
Additional comments:
This report was machine-generated by CPANPLUS::Dist::YACSmoke 1.08.
Powered by minismokebox version 0.68
CPANPLUS is prefering Build.PL
------------------------------
ENVIRONMENT AND OTHER CONTEXT
------------------------------
Environment variables:
AUTOMATED_TESTING = 1
NONINTERACTIVE_TESTING = 1
PATH = /sbin:/bin:/usr/sbin:/usr/bin:/usr/local/sbin:/usr/local/bin:/home/cpan/bin
PERL5LIB = /usr/home/cpan/pit/jail/ePjWYgoeAs/lib/perl5:/usr/home/cpan/pit/bare/conf/perl-5.16.2/.cpanplus/5.16.2/build/ugnRiKmaCF/Text-VisualWidth-PP-0.05/blib/lib:/usr/home/cpan/pit/bare/conf/perl-5.16.2/.cpanplus/5.16.2/build/ugnRiKmaCF/Text-VisualWidth-PP-0.05/blib/arch:/usr/home/cpan/pit/bare/conf/perl-5.16.2/.cpanplus/5.16.2/build/ThkFUcGgZn/Text-ANSI-Fold-2.1101/blib/lib:/usr/home/cpan/pit/bare/conf/perl-5.16.2/.cpanplus/5.16.2/build/ThkFUcGgZn/Text-ANSI-Fold-2.1101/blib/arch:/usr/home/cpan/pit/bare/conf/perl-5.16.2/.cpanplus/5.16.2/build/cYDhCrW0EO/Text-ANSI-Tabs-0.07/blib/lib:/usr/home/cpan/pit/bare/conf/perl-5.16.2/.cpanplus/5.16.2/build/cYDhCrW0EO/Text-ANSI-Tabs-0.07/blib/arch:/usr/home/cpan/pit/bare/conf/perl-5.16.2/.cpanplus/5.16.2/build/sOUusijlZK/Text-ANSI-Fold-Util-0.06/blib/lib:/usr/home/cpan/pit/bare/conf/perl-5.16.2/.cpanplus/5.16.2/build/sOUusijlZK/Text-ANSI-Fold-Util-0.06/blib/arch:/usr/home/cpan/pit/bare/conf/perl-5.16.2/.cpanplus/5.16.2/build/olCE3ylIWC/Text-Conceal-0.9901/blib/lib:/usr/home/cpan/pit/bare/conf/perl-5.16.2/.cpanplus/5.16.2/build/olCE3ylIWC/Text-Conceal-0.9901/blib/arch
PERL5_CPANPLUS_IS_RUNNING = 92018
PERL5_CPANPLUS_IS_VERSION = 0.9912
PERL5_MINISMOKEBOX = 0.68
PERL5_YACSMOKE_BASE = /usr/home/cpan/pit/bare/conf/perl-5.16.2
PERL_EXTUTILS_AUTOINSTALL = --defaultdeps
PERL_LOCAL_LIB_ROOT = /usr/home/cpan/pit/jail/ePjWYgoeAs
PERL_MB_OPT = --install_base "/usr/home/cpan/pit/jail/ePjWYgoeAs"
PERL_MM_OPT = INSTALL_BASE=/usr/home/cpan/pit/jail/ePjWYgoeAs
PERL_MM_USE_DEFAULT = 1
SHELL = /usr/local/bin/bash
TERM = screen
Perl special variables (and OS-specific diagnostics, for MSWin32):
Perl: $^X = /usr/home/cpan/pit/bare/perl-5.16.2/bin/perl
UID: $< = 1002
EUID: $> = 1002
GID: $( = 1002 1002
EGID: $) = 1002 1002
-------------------------------
--
Summary of my perl5 (revision 5 version 16 subversion 2) configuration:
Platform:
osname=freebsd, osvers=12.2-release, archname=amd64-freebsd
uname='freebsd fforc 12.2-release freebsd 12.2-release r366954 generic amd64 '
config_args='-des -Dprefix=/usr/home/cpan/pit/bare/perl-5.16.2'
hint=recommended, useposix=true, d_sigaction=define
useithreads=undef, usemultiplicity=undef
useperlio=define, d_sfio=undef, uselargefiles=define, usesocks=undef
use64bitint=define, use64bitall=define, uselongdouble=undef
usemymalloc=n, bincompat5005=undef
Compiler:
cc='cc', ccflags ='-DHAS_FPSETMASK -DHAS_FLOATINGPOINT_H -fno-strict-aliasing -pipe -fstack-protector -I/usr/local/include',
optimize='-O2',
cppflags='-DHAS_FPSETMASK -DHAS_FLOATINGPOINT_H -fno-strict-aliasing -pipe -fstack-protector -I/usr/local/include'
ccversion='', gccversion='FreeBSD Clang 10.0.1 (git@github.com:llvm/llvm-project.git llvmorg-10.0.1-0-gef32c611aa2)', gccosandvers=''
intsize=4, longsize=8, ptrsize=8, doublesize=8, byteorder=12345678
d_longlong=define, longlongsize=8, d_longdbl=define, longdblsize=16
ivtype='long', ivsize=8, nvtype='double', nvsize=8, Off_t='off_t', lseeksize=8
alignbytes=8, prototype=define
Linker and Libraries:
ld='cc', ldflags ='-Wl,-E -fstack-protector -L/usr/local/lib'
libpth=/usr/lib /usr/local/lib
libs=-lgdbm -ldl -lm -lcrypt -lutil -lc
perllibs=-ldl -lm -lcrypt -lutil -lc
libc=, so=so, useshrplib=false, libperl=libperl.a
gnulibc_version=''
Dynamic Linking:
dlsrc=dl_dlopen.xs, dlext=so, d_dlsymun=undef, ccdlflags=' '
cccdlflags='-DPIC -fPIC', lddlflags='-shared -L/usr/local/lib -fstack-protector'
Characteristics of this binary (from libperl):
Compile-time options: HAS_TIMES PERLIO_LAYERS PERL_DONT_CREATE_GVSV
PERL_MALLOC_WRAP PERL_PRESERVE_IVUV USE_64_BIT_ALL
USE_64_BIT_INT USE_LARGE_FILES USE_LOCALE
USE_LOCALE_COLLATE USE_LOCALE_CTYPE
USE_LOCALE_NUMERIC USE_PERLIO USE_PERL_ATOF
Locally applied patches:
Devel::PatchPerl 2.00
Built under freebsd
Compiled at Oct 29 2020 19:14:09
%ENV:
PERL5LIB="/usr/home/cpan/pit/jail/ePjWYgoeAs/lib/perl5:/usr/home/cpan/pit/bare/conf/perl-5.16.2/.cpanplus/5.16.2/build/ugnRiKmaCF/Text-VisualWidth-PP-0.05/blib/lib:/usr/home/cpan/pit/bare/conf/perl-5.16.2/.cpanplus/5.16.2/build/ugnRiKmaCF/Text-VisualWidth-PP-0.05/blib/arch:/usr/home/cpan/pit/bare/conf/perl-5.16.2/.cpanplus/5.16.2/build/ThkFUcGgZn/Text-ANSI-Fold-2.1101/blib/lib:/usr/home/cpan/pit/bare/conf/perl-5.16.2/.cpanplus/5.16.2/build/ThkFUcGgZn/Text-ANSI-Fold-2.1101/blib/arch:/usr/home/cpan/pit/bare/conf/perl-5.16.2/.cpanplus/5.16.2/build/cYDhCrW0EO/Text-ANSI-Tabs-0.07/blib/lib:/usr/home/cpan/pit/bare/conf/perl-5.16.2/.cpanplus/5.16.2/build/cYDhCrW0EO/Text-ANSI-Tabs-0.07/blib/arch:/usr/home/cpan/pit/bare/conf/perl-5.16.2/.cpanplus/5.16.2/build/sOUusijlZK/Text-ANSI-Fold-Util-0.06/blib/lib:/usr/home/cpan/pit/bare/conf/perl-5.16.2/.cpanplus/5.16.2/build/sOUusijlZK/Text-ANSI-Fold-Util-0.06/blib/arch:/usr/home/cpan/pit/bare/conf/perl-5.16.2/.cpanplus/5.16.2/build/olCE3ylIWC/Text-Conceal-0.9901/blib/lib:/usr/home/cpan/pit/bare/conf/perl-5.16.2/.cpanplus/5.16.2/build/olCE3ylIWC/Text-Conceal-0.9901/blib/arch"
PERL5_CPANPLUS_IS_RUNNING="92018"
PERL5_CPANPLUS_IS_VERSION="0.9912"
PERL5_MINISMOKEBOX="0.68"
PERL5_YACSMOKE_BASE="/usr/home/cpan/pit/bare/conf/perl-5.16.2"
PERL_EXTUTILS_AUTOINSTALL="--defaultdeps"
PERL_LOCAL_LIB_ROOT="/usr/home/cpan/pit/jail/ePjWYgoeAs"
PERL_MB_OPT="--install_base "/usr/home/cpan/pit/jail/ePjWYgoeAs""
PERL_MM_OPT="INSTALL_BASE=/usr/home/cpan/pit/jail/ePjWYgoeAs"
PERL_MM_USE_DEFAULT="1"
@INC:
/usr/home/cpan/pit/jail/ePjWYgoeAs/lib/perl5/5.16.2/amd64-freebsd
/usr/home/cpan/pit/jail/ePjWYgoeAs/lib/perl5/5.16.2
/usr/home/cpan/pit/jail/ePjWYgoeAs/lib/perl5/amd64-freebsd
/usr/home/cpan/pit/jail/ePjWYgoeAs/lib/perl5
/usr/home/cpan/pit/bare/conf/perl-5.16.2/.cpanplus/5.16.2/build/ugnRiKmaCF/Text-VisualWidth-PP-0.05/blib/lib
/usr/home/cpan/pit/bare/conf/perl-5.16.2/.cpanplus/5.16.2/build/ugnRiKmaCF/Text-VisualWidth-PP-0.05/blib/arch
/usr/home/cpan/pit/bare/conf/perl-5.16.2/.cpanplus/5.16.2/build/ThkFUcGgZn/Text-ANSI-Fold-2.1101/blib/lib
/usr/home/cpan/pit/bare/conf/perl-5.16.2/.cpanplus/5.16.2/build/ThkFUcGgZn/Text-ANSI-Fold-2.1101/blib/arch
/usr/home/cpan/pit/bare/conf/perl-5.16.2/.cpanplus/5.16.2/build/cYDhCrW0EO/Text-ANSI-Tabs-0.07/blib/lib
/usr/home/cpan/pit/bare/conf/perl-5.16.2/.cpanplus/5.16.2/build/cYDhCrW0EO/Text-ANSI-Tabs-0.07/blib/arch
/usr/home/cpan/pit/bare/conf/perl-5.16.2/.cpanplus/5.16.2/build/sOUusijlZK/Text-ANSI-Fold-Util-0.06/blib/lib
/usr/home/cpan/pit/bare/conf/perl-5.16.2/.cpanplus/5.16.2/build/sOUusijlZK/Text-ANSI-Fold-Util-0.06/blib/arch
/usr/home/cpan/pit/bare/conf/perl-5.16.2/.cpanplus/5.16.2/build/olCE3ylIWC/Text-Conceal-0.9901/blib/lib
/usr/home/cpan/pit/bare/conf/perl-5.16.2/.cpanplus/5.16.2/build/olCE3ylIWC/Text-Conceal-0.9901/blib/arch
/usr/home/cpan/pit/bare/perl-5.16.2/lib/site_perl/5.16.2/amd64-freebsd
/usr/home/cpan/pit/bare/perl-5.16.2/lib/site_perl/5.16.2
/usr/home/cpan/pit/bare/perl-5.16.2/lib/5.16.2/amd64-freebsd
/usr/home/cpan/pit/bare/perl-5.16.2/lib/5.16.2
.