CHI v0.56 Perl 5 v5.17.8 x86_64-linux-ld

Status
Pass
From
Andreas J. König (ANDK)
Dist
CHI v0.56
Platform
Perl 5 v5.17.8 x86_64-linux-ld
Date
2012-12-22 02:48:02
ID
00de8494-4be2-11e2-8426-107346f78928
This distribution has been tested as part of the CPAN Testers
project, supporting the Perl programming language.  See
http://wiki.cpantesters.org/ for more information or email
questions to cpan-testers-discuss@perl.org


--
Dear Jonathan Swartz,

This is a computer-generated report for CHI-0.56
on perl 5.17.8, created by CPAN-Reporter-1.2009.

Thank you for uploading your work to CPAN.  Congratulations!
All tests were successful.

Sections of this report:

    * Tester comments
    * Program output
    * Prerequisites
    * Environment and other context

------------------------------
TESTER COMMENTS
------------------------------

Additional comments from tester:

this report is from an automated smoke testing program
and was not reviewed by a human for accuracy

------------------------------
PROGRAM OUTPUT
------------------------------

Output from '/usr/bin/make test':

PERL_DL_NONLAZY=1 /tmp/basesmoker-reloperl-60q4/bin/perl "-MExtUtils::Command::MM" "-e" "test_harness(0, 'blib/lib', 'blib/arch')" t/*.t
# Testing CHI 0.56, Perl 5.017008, /tmp/basesmoker-reloperl-60q4/bin/perl
t/00-load.t ............................. ok
t/author-03-pod.t ....................... skipped: these tests are for testing by the author
t/author-file-driver.t .................. skipped: these tests are for testing by the author
t/author-no-data-serializer.t ........... skipped: these tests are for testing by the author
t/author-RequiredModules.t .............. skipped: these tests are for testing by the author
t/Bugs.t ................................ ok
t/Config.t .............................. ok
t/Constants.t ........................... ok
t/Driver-Memory.t ....................... ok
t/Driver-RawMemory.t .................... ok
t/GetError.t ............................ ok
t/Initialize.t .......................... ok
t/Sanity.t .............................. ok
t/SetError.t ............................ ok
t/smoke-Driver-CacheCache.t ............. ok
t/smoke-Driver-FastMmap.t ............... skipped: one of required modules not installed: Cache::FastMmap
t/smoke-Driver-File-DepthZero.t ......... ok
t/smoke-Driver-File.t ................... ok
t/smoke-Driver-NonMoose.t ............... ok
Unescaped left brace in regex is deprecated, passed through in regex; marked by <-- HERE in m/CHI stats: { <-- HERE "absent_misses":1,"end_time":\d+,"get_time_ms":\d+,"label":"File","namespace":"Foo","root_class":"CHI","set_key_size":6,"set_time_ms":\d+,"set_value_size":20,"sets":1,"start_time":\d+}/ at /tmp/loop_over_bdir-MnbO7Z/CHI-0.56-pLQ5YC/blib/lib/CHI/t/Driver/Subcache/l1_cache.pm line 50.
Unescaped left brace in regex is deprecated, passed through in regex; marked by <-- HERE in m/CHI stats: { <-- HERE "absent_misses":1,"end_time":\d+,"get_time_ms":\d+,"hits":1,"label":"File:l1_cache","namespace":"Foo","root_class":"CHI","set_key_size":6,"set_time_ms":\d+,"set_value_size":20,"sets":1,"start_time":\d+}/ at /tmp/loop_over_bdir-MnbO7Z/CHI-0.56-pLQ5YC/blib/lib/CHI/t/Driver/Subcache/l1_cache.pm line 53.
t/smoke-Driver-Subcache-l1_cache.t ...... ok
t/smoke-Driver-Subcache-mirror_cache.t .. ok
t/smoke-Null.t .......................... ok
t/Subcache.t ............................ ok
t/Subclass.t ............................ ok
t/Util.t ................................ ok
All tests successful.
Files=25, Tests=6051, 16 wallclock secs ( 0.51 usr  0.05 sys +  9.44 cusr  0.70 csys = 10.70 CPU)
Result: PASS

------------------------------
PREREQUISITES
------------------------------

Prerequisite modules loaded:

requires:

    Module                Need Have   
    --------------------- ---- -------
    Carp::Assert          0.20 0.20   
    Data::UUID            0    1.218  
    Digest::JHash         0    0.07   
    Digest::MD5           0    2.52   
    File::Spec            0.80 3.39_02
    Hash::MoreUtils       0    0.02   
    JSON                  0    2.53   
    List::MoreUtils       0.13 0.33   
    Log::Any              0.08 0.14   
    Moose                 0.66 2.0604 
    Storable              0    2.40   
    String::RewritePrefix 0    0.006  
    Task::Weaken          0    1.04   
    Time::Duration        1.06 1.06   
    Time::Duration::Parse 0.03 0.06   
    Time::HiRes           1.30 1.9725 
    Try::Tiny             0.05 0.11   

build_requires:

    Module                Need Have   
    --------------------- ---- -------
    Date::Parse           0    2.30   
    Test::Builder         0    0.98   
    Test::Class           0    0.38   
    Test::Deep            0    0.110  
    Test::Exception       0    0.31   
    Test::More            0    0.98   
    Test::Warn            0    0.24   

configure_requires:

    Module                Need Have   
    --------------------- ---- -------
    ExtUtils::MakeMaker   6.30 6.64   


------------------------------
ENVIRONMENT AND OTHER CONTEXT
------------------------------

Environment variables:

    AUTOMATED_TESTING = 1
    LANG = en_US.UTF-8
    LANGUAGE = en_US:en
    PATH = /usr/lib/ccache:/home/sand/bin:/usr/local/bin:/usr/bin:/bin:/usr/bin/X11:/usr/games:/usr/local/perl/bin:/usr/X11/bin:/sbin:/usr/sbin
    PERL5LIB = 
    PERL5OPT = 
    PERL5_CPANPLUS_IS_RUNNING = 31570
    PERL5_CPAN_IS_RUNNING = 31570
    PERL_MM_USE_DEFAULT = 1
    SHELL = /usr/bin/zsh
    TERM = screen

Perl special variables (and OS-specific diagnostics, for MSWin32):

    $^X = /tmp/basesmoker-reloperl-60q4/bin/perl
    $UID/$EUID = 1005 / 1005
    $GID = 1005 1005
    $EGID = 1005 1005

Perl module toolchain versions installed:

    Module              Have    
    ------------------- --------
    CPAN                1.99_51 
    CPAN::Meta          2.120921
    Cwd                 3.39_03 
    ExtUtils::CBuilder  0.280209
    ExtUtils::Command   1.17    
    ExtUtils::Install   1.58    
    ExtUtils::MakeMaker 6.64    
    ExtUtils::Manifest  1.62    
    ExtUtils::ParseXS   3.18    
    File::Spec          3.39_02 
    JSON                2.53    
    JSON::PP            2.27200 
    Module::Build       0.4003  
    Module::Signature   0.70    
    Parse::CPAN::Meta   1.4404  
    Test::Harness       3.25_01 
    Test::More          0.98    
    YAML                0.84    
    YAML::Syck          1.22    
    version             0.9901  


--

Summary of my perl5 (revision 5 version 17 subversion 8) configuration:
  Commit id: e2beedf4df02c72fec132a29c4d4fa0360cea755
  Platform:
    osname=linux, osvers=3.2.0-4-amd64, archname=x86_64-linux
    uname='linux k83 3.2.0-4-amd64 #1 smp debian 3.2.35-1 x86_64 gnulinux '
    config_args='-Dprefix=/home/src/perl/repoperls/installed-perls/perl/v5.17.7-16-ge2beedf/165a -Dmyhostname=k83 -Dinstallusrbinperl=n -Uversiononly -Dusedevel -des -Ui_db -Uuseithreads -Uuselongdouble -DDEBUGGING=-g'
    hint=recommended, useposix=true, d_sigaction=define
    useithreads=undef, usemultiplicity=undef
    useperlio=define, d_sfio=undef, uselargefiles=define, usesocks=undef
    use64bitint=define, use64bitall=define, uselongdouble=undef
    usemymalloc=n, bincompat5005=undef
  Compiler:
    cc='cc', ccflags ='-fno-strict-aliasing -pipe -fstack-protector -I/usr/local/include -D_LARGEFILE_SOURCE -D_FILE_OFFSET_BITS=64',
    optimize='-O2 -g',
    cppflags='-fno-strict-aliasing -pipe -fstack-protector -I/usr/local/include'
    ccversion='', gccversion='4.7.2', gccosandvers=''
    intsize=4, longsize=8, ptrsize=8, doublesize=8, byteorder=12345678
    d_longlong=define, longlongsize=8, d_longdbl=define, longdblsize=16
    ivtype='long', ivsize=8, nvtype='double', nvsize=8, Off_t='off_t', lseeksize=8
    alignbytes=8, prototype=define
  Linker and Libraries:
    ld='cc', ldflags =' -fstack-protector -L/usr/local/lib'
    libpth=/usr/local/lib /lib/x86_64-linux-gnu /lib/../lib /usr/lib/x86_64-linux-gnu /usr/lib/../lib /lib /usr/lib
    libs=-lnsl -ldb -ldl -lm -lcrypt -lutil -lc
    perllibs=-lnsl -ldl -lm -lcrypt -lutil -lc
    libc=, so=so, useshrplib=false, libperl=libperl.a
    gnulibc_version='2.13'
  Dynamic Linking:
    dlsrc=dl_dlopen.xs, dlext=so, d_dlsymun=undef, ccdlflags='-Wl,-E'
    cccdlflags='-fPIC', lddlflags='-shared -O2 -g -L/usr/local/lib -fstack-protector'


Characteristics of this binary (from libperl): 
  Compile-time options: HAS_TIMES PERLIO_LAYERS PERL_DONT_CREATE_GVSV
                        PERL_MALLOC_WRAP PERL_NEW_COPY_ON_WRITE
                        PERL_PRESERVE_IVUV PERL_USE_DEVEL USE_64_BIT_ALL
                        USE_64_BIT_INT USE_LARGE_FILES USE_LOCALE
                        USE_LOCALE_COLLATE USE_LOCALE_CTYPE
                        USE_LOCALE_NUMERIC USE_PERLIO USE_PERL_ATOF
  Built under linux
  Compiled at Dec 21 2012 18:08:42
  %ENV:
    PERL5LIB=""
    PERL5OPT=""
    PERL5_CPANPLUS_IS_RUNNING="31570"
    PERL5_CPAN_IS_RUNNING="31570"
    PERL_MM_USE_DEFAULT="1"
  @INC:
    /home/src/perl/repoperls/installed-perls/perl/v5.17.7-16-ge2beedf/165a/lib/site_perl/5.17.8/x86_64-linux
    /home/src/perl/repoperls/installed-perls/perl/v5.17.7-16-ge2beedf/165a/lib/site_perl/5.17.8
    /home/src/perl/repoperls/installed-perls/perl/v5.17.7-16-ge2beedf/165a/lib/5.17.8/x86_64-linux
    /home/src/perl/repoperls/installed-perls/perl/v5.17.7-16-ge2beedf/165a/lib/5.17.8
    .