CHI v0.59 Perl 5 v5.20.2 x86_64-linux

Status
Pass
From
NONAME
Dist
CHI v0.59
Platform
Perl 5 v5.20.2 x86_64-linux
Date
2015-05-12 20:18:07
ID
00cca786-f8e4-11e4-a0b1-49dfbc3f7889
This distribution has been tested as part of the CPAN Testers
project, supporting the Perl programming language.  See
http://wiki.cpantesters.org/ for more information or email
questions to cpan-testers-discuss@perl.org


--
Dear JSWARTZ,

This is a computer-generated report for CHI-0.59
on perl 5.20.2, created by App::cpanminus::reporter 0.12 (1.7027).

Thank you for uploading your work to CPAN.  Congratulations!
All tests were successful.

Sections of this report:

    * Tester comments
    * Program output
    * Prerequisites
    * Environment and other context

------------------------------
TESTER COMMENTS
------------------------------

Additional comments from tester:

none provided

------------------------------
PROGRAM OUTPUT
------------------------------

Output from '':

Building and testing CHI-0.59
cp lib/CHI/Driver/Role/Universal.pm blib/lib/CHI/Driver/Role/Universal.pm
cp lib/CHI/Driver/Base/CacheContainer.pm blib/lib/CHI/Driver/Base/CacheContainer.pm
cp lib/CHI/t/Config.pm blib/lib/CHI/t/Config.pm
cp lib/CHI/Driver.pm blib/lib/CHI/Driver.pm
cp lib/CHI/Serializer/Storable.pm blib/lib/CHI/Serializer/Storable.pm
cp lib/CHI.pm blib/lib/CHI.pm
cp lib/CHI/Driver/File.pm blib/lib/CHI/Driver/File.pm
cp lib/CHI/Driver/Role/IsSubcache.pm blib/lib/CHI/Driver/Role/IsSubcache.pm
cp lib/CHI/t/Driver/Memory.pm blib/lib/CHI/t/Driver/Memory.pm
cp lib/CHI/Test/Driver/Readonly.pm blib/lib/CHI/Test/Driver/Readonly.pm
cp lib/CHI/Serializer/JSON.pm blib/lib/CHI/Serializer/JSON.pm
cp lib/CHI/Test/Driver/NonMoose.pm blib/lib/CHI/Test/Driver/NonMoose.pm
cp lib/CHI/Driver/CacheCache.pm blib/lib/CHI/Driver/CacheCache.pm
cp lib/CHI/t/Driver/NonMoose.pm blib/lib/CHI/t/Driver/NonMoose.pm
cp lib/CHI/Test/Util.pm blib/lib/CHI/Test/Util.pm
cp lib/CHI/Driver/RawMemory.pm blib/lib/CHI/Driver/RawMemory.pm
cp lib/CHI/t/Driver/CacheCache.pm blib/lib/CHI/t/Driver/CacheCache.pm
cp lib/CHI/Driver/Development.pod blib/lib/CHI/Driver/Development.pod
cp lib/CHI/Driver/FastMmap.pm blib/lib/CHI/Driver/FastMmap.pm
cp lib/CHI/t/Driver/Subcache.pm blib/lib/CHI/t/Driver/Subcache.pm
cp lib/CHI/Util.pm blib/lib/CHI/Util.pm
cp lib/CHI/Driver/Null.pm blib/lib/CHI/Driver/Null.pm
cp lib/CHI/Driver/Metacache.pm blib/lib/CHI/Driver/Metacache.pm
cp lib/CHI/t/Driver.pm blib/lib/CHI/t/Driver.pm
cp lib/CHI/Driver/Role/IsSizeAware.pm blib/lib/CHI/Driver/Role/IsSizeAware.pm
cp lib/CHI/Test/Driver/Role/CheckKeyValidity.pm blib/lib/CHI/Test/Driver/Role/CheckKeyValidity.pm
cp lib/CHI/t/Driver/File/DepthZero.pm blib/lib/CHI/t/Driver/File/DepthZero.pm
cp lib/CHI/t/Driver/RawMemory.pm blib/lib/CHI/t/Driver/RawMemory.pm
cp lib/CHI/t/Driver/Subcache/l1_cache.pm blib/lib/CHI/t/Driver/Subcache/l1_cache.pm
cp lib/CHI/Driver/Memory.pm blib/lib/CHI/Driver/Memory.pm
cp lib/CHI/t/Bugs.pm blib/lib/CHI/t/Bugs.pm
cp lib/CHI/t/Constants.pm blib/lib/CHI/t/Constants.pm
cp lib/CHI/Test.pm blib/lib/CHI/Test.pm
cp lib/CHI/Test/Driver/Writeonly.pm blib/lib/CHI/Test/Driver/Writeonly.pm
cp lib/CHI/CacheObject.pm blib/lib/CHI/CacheObject.pm
cp lib/CHI/Benchmarks.pod blib/lib/CHI/Benchmarks.pod
cp lib/CHI/t/Driver/File.pm blib/lib/CHI/t/Driver/File.pm
cp lib/CHI/Constants.pm blib/lib/CHI/Constants.pm
cp lib/CHI/Types.pm blib/lib/CHI/Types.pm
cp lib/CHI/Stats.pm blib/lib/CHI/Stats.pm
cp lib/CHI/t/Driver/FastMmap.pm blib/lib/CHI/t/Driver/FastMmap.pm
cp lib/CHI/Test/Class.pm blib/lib/CHI/Test/Class.pm
cp lib/CHI/Driver/Role/HasSubcaches.pm blib/lib/CHI/Driver/Role/HasSubcaches.pm
cp lib/CHI/t/Sanity.pm blib/lib/CHI/t/Sanity.pm
cp lib/CHI/t/SetError.pm blib/lib/CHI/t/SetError.pm
cp lib/CHI/t/Initialize.pm blib/lib/CHI/t/Initialize.pm
cp lib/CHI/t/RequiredModules.pm blib/lib/CHI/t/RequiredModules.pm
cp lib/CHI/t/Driver/Subcache/mirror_cache.pm blib/lib/CHI/t/Driver/Subcache/mirror_cache.pm
cp lib/CHI/t/Subclass.pm blib/lib/CHI/t/Subclass.pm
cp lib/CHI/t/Null.pm blib/lib/CHI/t/Null.pm
cp lib/CHI/t/GetError.pm blib/lib/CHI/t/GetError.pm
cp lib/CHI/t/Subcache.pm blib/lib/CHI/t/Subcache.pm
cp lib/CHI/t/Util.pm blib/lib/CHI/t/Util.pm
Manifying blib/man3/CHI.3
Manifying blib/man3/CHI::Benchmarks.3
Manifying blib/man3/CHI::CacheObject.3
Manifying blib/man3/CHI::Constants.3
Manifying blib/man3/CHI::Driver.3
Manifying blib/man3/CHI::Driver::Base::CacheContainer.3
Manifying blib/man3/CHI::Driver::CacheCache.3
Manifying blib/man3/CHI::Driver::Development.3
Manifying blib/man3/CHI::Driver::FastMmap.3
Manifying blib/man3/CHI::Driver::File.3
Manifying blib/man3/CHI::Driver::Memory.3
Manifying blib/man3/CHI::Driver::Metacache.3
Manifying blib/man3/CHI::Driver::Null.3
Manifying blib/man3/CHI::Driver::RawMemory.3
Manifying blib/man3/CHI::Stats.3
PERL_DL_NONLAZY=1 /home/mojolicious/perl5/perlbrew/perls/perl-5.20.2/bin/perl "-MExtUtils::Command::MM" "-MTest::Harness" "-e" "undef *Test::Harness::Switches; test_harness(0, 'blib/lib', 'blib/arch')" t/*.t
# Testing CHI 0.59, Perl 5.020002, /home/mojolicious/perl5/perlbrew/perls/perl-5.20.2/bin/perl
t/00-load.t ............................. ok
t/author-03-pod.t ....................... skipped: these tests are for testing by the author
t/author-file-driver.t .................. skipped: these tests are for testing by the author
t/author-no-data-serializer.t ........... skipped: these tests are for testing by the author
t/author-RequiredModules.t .............. skipped: these tests are for testing by the author
t/Bugs.t ................................ ok
t/Config.t .............................. ok
t/Constants.t ........................... ok
t/Driver-Memory.t ....................... ok
t/Driver-RawMemory.t .................... ok
t/GetError.t ............................ ok
t/Initialize.t .......................... ok
t/release-dependent.t ................... skipped: these tests are for release candidate testing
t/Sanity.t .............................. ok
t/SetError.t ............................ ok
t/smoke-Driver-CacheCache.t ............. skipped: these tests are for "smoke bot" testing
t/smoke-Driver-FastMmap.t ............... skipped: these tests are for "smoke bot" testing
t/smoke-Driver-File-DepthZero.t ......... skipped: these tests are for "smoke bot" testing
t/smoke-Driver-File.t ................... skipped: these tests are for "smoke bot" testing
t/smoke-Driver-NonMoose.t ............... skipped: these tests are for "smoke bot" testing
t/smoke-Driver-Subcache-l1_cache.t ...... skipped: these tests are for "smoke bot" testing
t/smoke-Driver-Subcache-mirror_cache.t .. skipped: these tests are for "smoke bot" testing
t/smoke-Null.t .......................... skipped: these tests are for "smoke bot" testing
t/Subcache.t ............................ ok
t/Subclass.t ............................ ok
t/Util.t ................................ ok
All tests successful.
Files=26, Tests=1787,  4 wallclock secs ( 0.30 usr  0.03 sys +  3.37 cusr  0.33 csys =  4.03 CPU)
Result: PASS

------------------------------
PREREQUISITES
------------------------------

Prerequisite modules loaded:

runtime:

    Module                          Need  Have   
    ------------------------------- ----- -------
  ! Carp::Assert                    0.20  n/a    
  ! Class::Load                     0     n/a    
    Data::UUID                      0     1.220  
  ! Digest::JHash                   0     n/a    
    Digest::MD5                     0     2.53   
    File::Spec                      0.80  3.48_01
  ! Hash::MoreUtils                 0     n/a    
    JSON                            0     2.90   
  ! List::MoreUtils                 0.13  n/a    
  ! Log::Any                        0.08  n/a    
  ! Moo                             1.003 n/a    
  ! MooX::Types::MooseLike          0.23  n/a    
  ! MooX::Types::MooseLike::Base    0     n/a    
  ! MooX::Types::MooseLike::Numeric 0     n/a    
    Storable                        0     2.49_01
  ! String::RewritePrefix           0     n/a    
  ! Task::Weaken                    0     n/a    
  ! Time::Duration                  1.06  n/a    
  ! Time::Duration::Parse           0.03  n/a    
    Time::HiRes                     1.30  1.9726 
    Try::Tiny                       0.05  0.22   

configure:

    Module                          Need  Have   
    ------------------------------- ----- -------
    ExtUtils::MakeMaker             0     6.98   


------------------------------
ENVIRONMENT AND OTHER CONTEXT
------------------------------

Environment variables:

    PATH = /home/mojolicious/perl5/perlbrew/bin:/home/mojolicious/perl5/perlbrew/perls/perl-5.20.1/bin:/usr/local/bin:/usr/bin:/bin:/usr/local/games:/usr/games
    PERLBREW_BASHRC_VERSION = 0.73
    PERLBREW_HOME = /home/mojolicious/.perlbrew
    PERLBREW_MANPATH = /home/mojolicious/perl5/perlbrew/perls/perl-5.20.1/man
    PERLBREW_PATH = /home/mojolicious/perl5/perlbrew/bin:/home/mojolicious/perl5/perlbrew/perls/perl-5.20.1/bin
    PERLBREW_PERL = perl-5.20.1
    PERLBREW_ROOT = /home/mojolicious/perl5/perlbrew
    PERLBREW_VERSION = 0.73
    SHELL = /bin/bash
    TERM = xterm

Perl special variables (and OS-specific diagnostics, for MSWin32):

    EGID = 1003 1003
    EUID = 1003
    EXECUTABLE_NAME = /home/mojolicious/perl5/perlbrew/perls/perl-5.20.2/bin/perl
    GID = 1003 1003
    UID = 1003

Perl module toolchain versions installed:

    Module              Have    
    ------------------- --------
    CPAN                2.05    
    CPAN::Meta          2.143240
    Cwd                 3.48_01 
    ExtUtils::CBuilder  0.280217
    ExtUtils::Command   1.18    
    ExtUtils::Install   1.67    
    ExtUtils::MakeMaker 6.98    
    ExtUtils::Manifest  1.63    
    ExtUtils::ParseXS   3.24    
    File::Spec          3.48_01 
    JSON                2.90    
    JSON::PP            2.27203 
    Module::Build       0.4211  
    Module::Signature   n/a     
    Parse::CPAN::Meta   1.4414  
    Test::Harness       3.30    
    Test::More          1.001014
    YAML                n/a     
    YAML::Syck          n/a     
    version             0.9909  


--

Summary of my perl5 (revision 5 version 20 subversion 2) configuration:
   
  Platform:
    osname=linux, osvers=3.13.0-042stab094.8, archname=x86_64-linux
    uname='linux lvps92-51-161-142.dedicated.hosteurope.de 3.13.0-042stab094.8 #1 smp tue dec 16 20:36:56 msk 2014 x86_64 x86_64 x86_64 gnulinux '
    config_args='-de -Dprefix=/home/mojolicious/perl5/perlbrew/perls/perl-5.20.2 -Aeval:scriptdir=/home/mojolicious/perl5/perlbrew/perls/perl-5.20.2/bin'
    hint=recommended, useposix=true, d_sigaction=define
    useithreads=undef, usemultiplicity=undef
    use64bitint=define, use64bitall=define, uselongdouble=undef
    usemymalloc=n, bincompat5005=undef
  Compiler:
    cc='cc', ccflags ='-fwrapv -fno-strict-aliasing -pipe -fstack-protector -I/usr/local/include -D_LARGEFILE_SOURCE -D_FILE_OFFSET_BITS=64',
    optimize='-O2',
    cppflags='-fwrapv -fno-strict-aliasing -pipe -fstack-protector -I/usr/local/include'
    ccversion='', gccversion='4.8.2', gccosandvers=''
    intsize=4, longsize=8, ptrsize=8, doublesize=8, byteorder=12345678
    d_longlong=define, longlongsize=8, d_longdbl=define, longdblsize=16
    ivtype='long', ivsize=8, nvtype='double', nvsize=8, Off_t='off_t', lseeksize=8
    alignbytes=8, prototype=define
  Linker and Libraries:
    ld='cc', ldflags =' -fstack-protector -L/usr/local/lib'
    libpth=/usr/local/lib /usr/lib/gcc/x86_64-linux-gnu/4.8/include-fixed /usr/include/x86_64-linux-gnu /usr/lib /lib/x86_64-linux-gnu /lib/../lib /usr/lib/x86_64-linux-gnu /usr/lib/../lib /lib
    libs=-lnsl -ldl -lm -lcrypt -lutil -lc
    perllibs=-lnsl -ldl -lm -lcrypt -lutil -lc
    libc=libc-2.19.so, so=so, useshrplib=false, libperl=libperl.a
    gnulibc_version='2.19'
  Dynamic Linking:
    dlsrc=dl_dlopen.xs, dlext=so, d_dlsymun=undef, ccdlflags='-Wl,-E'
    cccdlflags='-fPIC', lddlflags='-shared -O2 -L/usr/local/lib -fstack-protector'


Characteristics of this binary (from libperl): 
  Compile-time options: HAS_TIMES PERLIO_LAYERS PERL_DONT_CREATE_GVSV
                        PERL_HASH_FUNC_ONE_AT_A_TIME_HARD PERL_MALLOC_WRAP
                        PERL_NEW_COPY_ON_WRITE PERL_PRESERVE_IVUV
                        USE_64_BIT_ALL USE_64_BIT_INT USE_LARGE_FILES
                        USE_LOCALE USE_LOCALE_COLLATE USE_LOCALE_CTYPE
                        USE_LOCALE_NUMERIC USE_PERLIO USE_PERL_ATOF
  Locally applied patches:
	Devel::PatchPerl 1.30
  Built under linux
  Compiled at Feb 15 2015 08:07:45
  %ENV:
    PERLBREW_BASHRC_VERSION="0.73"
    PERLBREW_HOME="/home/mojolicious/.perlbrew"
    PERLBREW_MANPATH="/home/mojolicious/perl5/perlbrew/perls/perl-5.20.1/man"
    PERLBREW_PATH="/home/mojolicious/perl5/perlbrew/bin:/home/mojolicious/perl5/perlbrew/perls/perl-5.20.1/bin"
    PERLBREW_PERL="perl-5.20.1"
    PERLBREW_ROOT="/home/mojolicious/perl5/perlbrew"
    PERLBREW_VERSION="0.73"
  @INC:
    /home/mojolicious/perl5/perlbrew/perls/perl-5.20.2/lib/site_perl/5.20.2/x86_64-linux
    /home/mojolicious/perl5/perlbrew/perls/perl-5.20.2/lib/site_perl/5.20.2
    /home/mojolicious/perl5/perlbrew/perls/perl-5.20.2/lib/5.20.2/x86_64-linux
    /home/mojolicious/perl5/perlbrew/perls/perl-5.20.2/lib/5.20.2
    .