Catmandu-MARC v1.06 Perl 5 v5.22.3 x86_64-linux
- Status
- Pass
- From
- Slaven Rezić (SREZIC)
- Dist
-
Catmandu-MARC v1.06
- Platform
- Perl 5 v5.22.3 x86_64-linux
- Date
- 2017-01-31 14:10:21
- ID
- 00ba971e-e7bf-11e6-a528-d50c259ea41e
This distribution has been tested as part of the CPAN Testers
project, supporting the Perl programming language. See
http://wiki.cpantesters.org/ for more information or email
questions to cpan-testers-discuss@perl.org
--
Dear Patrick Hochstenbach,
This is a computer-generated report for Catmandu-MARC-1.06
on perl 5.22.3, created by CPAN-Reporter-1.2018.
Thank you for uploading your work to CPAN. Congratulations!
All tests were successful.
Sections of this report:
* Tester comments
* Program output
* Prerequisites
* Environment and other context
------------------------------
TESTER COMMENTS
------------------------------
Additional comments from tester:
none provided
------------------------------
PROGRAM OUTPUT
------------------------------
Output from './Build test':
t/00-load.t .......................... ok
t/01-importer.t ...................... ok
t/02-aleph.t ......................... ok
t/03-marc_map.t ...................... ok
Use of uninitialized value in concatenation (.) or string at /opt/perl-5.22.3/lib/site_perl/5.22.3/MARC/File/XML.pm line 397, <GEN0> chunk 3.
t/04-marc21.t ........................ ok
t/05-marc_remove.t ................... ok
t/06-old-new-internal-syntax.t ....... ok
t/07-inline-fix.t .................... ok
t/08-exporter.t ...................... ok
t/09-marc_add.t ...................... ok
t/10-marcmaker.t ..................... ok
t/11-mij.t ........................... ok
t/12-marc_set.t ...................... ok
t/13-marcxml.t ....................... ok
t/14-marc_decode_dollar_subfields.t .. ok
t/15-marc_in_json.t .................. ok
t/16-marc-each.t ..................... ok
t/17-microlif.t ...................... ok
t/18-inlineable.t .................... ok
t/19-io-string.t ..................... ok
t/20-marc_has.t ...................... ok
t/21-marc-spec.t ..................... ok
t/99-deprecate.t ..................... ok
t/author-pod-syntax.t ................ skipped: these tests are for testing by the author
All tests successful.
Files=24, Tests=271, 7 wallclock secs ( 0.06 usr 0.15 sys + 5.92 cusr 1.02 csys = 7.15 CPU)
Result: PASS
------------------------------
PREREQUISITES
------------------------------
Prerequisite modules loaded:
requires:
Module Need Have
--------------------- -------- --------
Carp 0 1.38
Catmandu 1.0201 1.0305
Const::Fast 0.014 0.014
JSON::XS 2.3 3.03
List::Util 0 1.47
MARC::File::MARCMaker 0.05 0.05
MARC::File::MiJ 0.04 0.04
MARC::File::XML v1.0.3 1.0.3
MARC::Lint 0 1.5
MARC::Parser::RAW 0 0.05
MARC::Record v2.0.6 2.0.6
MARC::Spec 0 0.0.3
Memoize 0 1.03_01
Moo 1.0 2.003000
MooX::Singleton 0 1.20
perl v5.10.1 5.022003
YAML::XS 0.34 0.63
build_requires:
Module Need Have
--------------------- -------- --------
Module::Build 0.28 0.4220
Pod::Simple::HTML 3.23 3.35
Test::Deep 0 1.126
Test::More 1.001003 1.302075
Test::Pod 0 1.51
Test::Simple 1.001003 1.302075
Test::Warnings 0 0.026
XML::XPath 1.13 1.40
configure_requires:
Module Need Have
--------------------- -------- --------
Module::Build 0.28 0.4220
------------------------------
ENVIRONMENT AND OTHER CONTEXT
------------------------------
Environment variables:
LANG = C
LC_ALL = de_DE.UTF-8
PATH = /usr/local/bin:/usr/bin:/bin:/usr/local/sbin:/usr/sbin:/sbin:/home/cpansand/bin/linux-gnu:/home/cpansand/bin/sh:/home/cpansand/bin:/usr/games:/home/cpansand/devel:/home/eserte/src/srezic-misc/scripts
PERL5LIB = /home/cpansand/.cpan/build/2017013112/MARC-Spec-0.0.3-q40Spt/blib/arch:/home/cpansand/.cpan/build/2017013112/MARC-Spec-0.0.3-q40Spt/blib/lib
PERL5OPT =
PERL5_CPANPLUS_IS_RUNNING = 9880
PERL5_CPAN_IS_RUNNING = 9880
PERL5_CPAN_IS_RUNNING_IN_RECURSION = 9821,9880
PERLDOC = -MPod::Perldoc::ToTextOverstrike
PERL_BATCH = yes
PERL_CANARY_STABILITY_NOPROMPT = 1
PERL_CPAN_REPORTER_CONFIG = /var/tmp/cpansmoker-1023/2017013112/cpanreporter_000_config.ini
PERL_EXTUTILS_AUTOINSTALL = --defaultdeps
PERL_PARALLEL_SMOKER = yes
PERL_USE_UNSAFE_INC = 1
SHELL = /bin/zsh
TERM = screen
TMPDIR = /var/tmp/cpansmoker-1023/2017013112
Perl special variables (and OS-specific diagnostics, for MSWin32):
$^X = /bbbike/perl-5.22.3/bin/perl5.22.3
$UID/$EUID = 1023 / 1023
$GID = 1023 1023
$EGID = 1023 1023
Perl module toolchain versions installed:
Module Have
------------------- --------
CPAN 2.11_01
CPAN::Meta 2.150010
Cwd 3.56_02
ExtUtils::CBuilder 0.280221
ExtUtils::Command 7.24
ExtUtils::Install 2.04
ExtUtils::MakeMaker 7.24
ExtUtils::Manifest 1.70
ExtUtils::ParseXS 3.28
File::Spec 3.56_02
JSON 2.90
JSON::PP 2.27400
Module::Build 0.4220
Module::Signature 0.81
Parse::CPAN::Meta 2.150010
Test::Harness 3.35_01
Test::More 1.302075
YAML 1.21
YAML::Syck 1.29
version 0.9909
--
Summary of my perl5 (revision 5 version 22 subversion 3) configuration:
Platform:
osname=linux, osvers=3.16.0-4-amd64, archname=x86_64-linux
uname='linux eserte 3.16.0-4-amd64 #1 smp debian 3.16.39-1 (2016-12-30) x86_64 gnulinux '
config_args='-ds -e -Dprefix=/opt/perl-5.22.3 -Dcf_email=srezic@cpan.org'
hint=recommended, useposix=true, d_sigaction=define
useithreads=undef, usemultiplicity=undef
use64bitint=define, use64bitall=define, uselongdouble=undef
usemymalloc=n, bincompat5005=undef
Compiler:
cc='cc', ccflags ='-fwrapv -fno-strict-aliasing -pipe -fstack-protector-strong -I/usr/local/include -D_LARGEFILE_SOURCE -D_FILE_OFFSET_BITS=64 -D_FORTIFY_SOURCE=2',
optimize='-O2',
cppflags='-fwrapv -fno-strict-aliasing -pipe -fstack-protector-strong -I/usr/local/include'
ccversion='', gccversion='4.9.2', gccosandvers=''
intsize=4, longsize=8, ptrsize=8, doublesize=8, byteorder=12345678, doublekind=3
d_longlong=define, longlongsize=8, d_longdbl=define, longdblsize=16, longdblkind=3
ivtype='long', ivsize=8, nvtype='double', nvsize=8, Off_t='off_t', lseeksize=8
alignbytes=8, prototype=define
Linker and Libraries:
ld='cc', ldflags =' -fstack-protector-strong -L/usr/local/lib'
libpth=/usr/local/lib /usr/lib/gcc/x86_64-linux-gnu/4.9/include-fixed /usr/include/x86_64-linux-gnu /usr/lib /lib/x86_64-linux-gnu /lib/../lib /usr/lib/x86_64-linux-gnu /usr/lib/../lib /lib
libs=-lpthread -lnsl -lgdbm -ldb -ldl -lm -lcrypt -lutil -lc -lgdbm_compat
perllibs=-lpthread -lnsl -ldl -lm -lcrypt -lutil -lc
libc=libc-2.19.so, so=so, useshrplib=false, libperl=libperl.a
gnulibc_version='2.19'
Dynamic Linking:
dlsrc=dl_dlopen.xs, dlext=so, d_dlsymun=undef, ccdlflags='-Wl,-E'
cccdlflags='-fPIC', lddlflags='-shared -O2 -L/usr/local/lib -fstack-protector-strong'
Characteristics of this binary (from libperl):
Compile-time options: HAS_TIMES PERLIO_LAYERS PERL_DONT_CREATE_GVSV
PERL_HASH_FUNC_ONE_AT_A_TIME_HARD PERL_MALLOC_WRAP
PERL_NEW_COPY_ON_WRITE PERL_PRESERVE_IVUV
USE_64_BIT_ALL USE_64_BIT_INT USE_LARGE_FILES
USE_LOCALE USE_LOCALE_COLLATE USE_LOCALE_CTYPE
USE_LOCALE_NUMERIC USE_LOCALE_TIME USE_PERLIO
USE_PERL_ATOF
Built under linux
Compiled at Jan 14 2017 21:21:45
%ENV:
PERL5LIB="/home/cpansand/.cpan/build/2017013112/MARC-Spec-0.0.3-q40Spt/blib/arch:/home/cpansand/.cpan/build/2017013112/MARC-Spec-0.0.3-q40Spt/blib/lib"
PERL5OPT=""
PERL5_CPANPLUS_IS_RUNNING="9880"
PERL5_CPAN_IS_RUNNING="9880"
PERL5_CPAN_IS_RUNNING_IN_RECURSION="9821,9880"
PERLDOC="-MPod::Perldoc::ToTextOverstrike"
PERL_BATCH="yes"
PERL_CANARY_STABILITY_NOPROMPT="1"
PERL_CPAN_REPORTER_CONFIG="/var/tmp/cpansmoker-1023/2017013112/cpanreporter_000_config.ini"
PERL_EXTUTILS_AUTOINSTALL="--defaultdeps"
PERL_PARALLEL_SMOKER="yes"
PERL_USE_UNSAFE_INC="1"
@INC:
/home/cpansand/.cpan/build/2017013112/MARC-Spec-0.0.3-q40Spt/blib/arch
/home/cpansand/.cpan/build/2017013112/MARC-Spec-0.0.3-q40Spt/blib/lib
/opt/perl-5.22.3/lib/site_perl/5.22.3/x86_64-linux
/opt/perl-5.22.3/lib/site_perl/5.22.3
/opt/perl-5.22.3/lib/5.22.3/x86_64-linux
/opt/perl-5.22.3/lib/5.22.3
.