CHI v0.55 Perl 5 v5.12.3 darwin-2level

Status
Pass
From
Nigel Horne
Dist
CHI v0.55
Platform
Perl 5 v5.12.3 darwin-2level
Date
2012-07-13 17:34:30
ID
0064c1a4-cd11-11e1-ac3c-b54b049ce4cd
This distribution has been tested as part of the CPAN Testers
project, supporting the Perl programming language.  See
http://wiki.cpantesters.org/ for more information or email
questions to cpan-testers-discuss@perl.org


--
Dear Jonathan Swartz,

This is a computer-generated report for CHI-0.55
on perl 5.12.3, created by CPAN-Reporter-1.2003.

Thank you for uploading your work to CPAN.  Congratulations!
All tests were successful.

Sections of this report:

    * Tester comments
    * Program output
    * Prerequisites
    * Environment and other context

------------------------------
TESTER COMMENTS
------------------------------

Additional comments from tester:

none provided

------------------------------
PROGRAM OUTPUT
------------------------------

Output from '/usr/bin/make test':

PERL_DL_NONLAZY=1 /var/root/perl5/perlbrew/perls/perl-5.12.3/bin/perl "-MExtUtils::Command::MM" "-e" "test_harness(0, 'blib/lib', 'blib/arch')" t/*.t
# Testing CHI 0.55, Perl 5.012003, /var/root/perl5/perlbrew/perls/perl-5.12.3/bin/perl
t/00-load.t ............................. ok
t/author-03-pod.t ....................... skipped: these tests are for testing by the author
t/author-file-driver.t .................. skipped: these tests are for testing by the author
t/author-no-data-serializer.t ........... skipped: these tests are for testing by the author
t/author-RequiredModules.t .............. skipped: these tests are for testing by the author
t/Bugs.t ................................ ok
t/Config.t .............................. ok
t/Constants.t ........................... ok
t/Driver-Memory.t ....................... ok
t/Driver-RawMemory.t .................... ok
t/GetError.t ............................ ok
t/Initialize.t .......................... ok
t/Sanity.t .............................. ok
t/SetError.t ............................ ok
t/smoke-Driver-CacheCache.t ............. skipped: these tests are for "smoke bot" testing
t/smoke-Driver-FastMmap.t ............... skipped: these tests are for "smoke bot" testing
t/smoke-Driver-File-DepthZero.t ......... skipped: these tests are for "smoke bot" testing
t/smoke-Driver-File.t ................... skipped: these tests are for "smoke bot" testing
t/smoke-Driver-NonMoose.t ............... skipped: these tests are for "smoke bot" testing
t/smoke-Driver-Subcache-l1_cache.t ...... skipped: these tests are for "smoke bot" testing
t/smoke-Driver-Subcache-mirror_cache.t .. skipped: these tests are for "smoke bot" testing
t/smoke-Null.t .......................... skipped: these tests are for "smoke bot" testing
t/Subcache.t ............................ ok
t/Subclass.t ............................ ok
t/Util.t ................................ ok
All tests successful.
Files=25, Tests=1785, 169 wallclock secs ( 5.72 usr  1.27 sys + 152.32 cusr  8.84 csys = 168.15 CPU)
Result: PASS

------------------------------
PREREQUISITES
------------------------------

Prerequisite modules loaded:

requires:

    Module                Need Have   
    --------------------- ---- -------
    Carp::Assert          0.20 0.20   
    Data::UUID            0    1.217  
    Digest::JHash         0    0.07   
    Digest::MD5           0    2.51   
    File::Spec            0.80 3.31_01
    Hash::MoreUtils       0    0.02   
    JSON                  0    2.53   
    List::MoreUtils       0.13 0.33   
    Log::Any              0.08 0.14   
    Moose                 0.66 2.0603 
    Storable              0    2.35   
    String::RewritePrefix 0    0.006  
    Task::Weaken          0    1.04   
    Time::Duration        1.06 1.06   
    Time::Duration::Parse 0.03 0.06   
    Time::HiRes           1.30 1.9719 
    Try::Tiny             0.05 0.11   

build_requires:

    Module                Need Have   
    --------------------- ---- -------
    Date::Parse           0    2.30   
    Test::Builder         0    0.98   
    Test::Class           0    0.37   
    Test::Deep            0    0.108  
    Test::Exception       0    0.31   
    Test::More            0    0.98   
    Test::Warn            0    0.24   

configure_requires:

    Module                Need Have   
    --------------------- ---- -------
    ExtUtils::MakeMaker   6.30 6.62   


------------------------------
ENVIRONMENT AND OTHER CONTEXT
------------------------------

Environment variables:

    LANG = 
    MANPATH_WITHOUT_PERLBREW = 
    PATH = /var/root/perl5/perlbrew/bin:/var/root/perl5/perlbrew/perls/perl-5.12.3/bin:/var/root/perl5/perlbrew/bin:/var/root/bin:/bin:/sbin:/usr/bin:/usr/sbin:/usr/perl5/bin
    PATH_WITHOUT_PERLBREW = /var/root/bin:/bin:/sbin:/usr/bin:/usr/sbin
    PERL5LIB = 
    PERL5OPT = 
    PERL5_CPANPLUS_IS_RUNNING = 1180
    PERL5_CPAN_IS_RUNNING = 1180
    PERLBREW_BASHRC_VERSION = 0.44
    PERLBREW_HOME = /var/root/.perlbrew
    PERLBREW_LIB = 
    PERLBREW_MANPATH = /var/root/perl5/perlbrew/perls/perl-5.12.3/man
    PERLBREW_PATH = /var/root/perl5/perlbrew/bin:/var/root/perl5/perlbrew/perls/perl-5.12.3/bin
    PERLBREW_PERL = perl-5.12.3
    PERLBREW_ROOT = /var/root/perl5/perlbrew
    PERLBREW_VERSION = 0.44
    PERL_LOCAL_LIB_ROOT = 
    PERL_MB_OPT = 
    PERL_MM_OPT = 
    SHELL = /bin/sh
    TERM = vt100
    TMPDIR = /tmp

Perl special variables (and OS-specific diagnostics, for MSWin32):

    $^X = /var/root/perl5/perlbrew/perls/perl-5.12.3/bin/perl
    $UID/$EUID = 0 / 0
    $GID = 0 0 1 2 3 4 5 20 31 80
    $EGID = 0 0 1 2 3 4 5 20 31 80

Perl module toolchain versions installed:

    Module              Have    
    ------------------- --------
    CPAN                1.9800  
    CPAN::Meta          2.113640
    Cwd                 3.31    
    ExtUtils::CBuilder  0.27    
    ExtUtils::Command   1.16    
    ExtUtils::Install   1.55    
    ExtUtils::MakeMaker 6.62    
    ExtUtils::Manifest  1.58    
    ExtUtils::ParseXS   2.21    
    File::Spec          3.31_01 
    JSON                2.53    
    JSON::PP            2.27104 
    Module::Build       0.4001  
    Module::Signature   n/a     
    Parse::CPAN::Meta   1.4401  
    Test::Harness       3.17    
    Test::More          0.98    
    YAML                n/a     
    YAML::Syck          1.19    
    version             0.88    


--

Summary of my perl5 (revision 5 version 12 subversion 3) configuration:
   
  Platform:
    osname=darwin, osvers=7.0.0, archname=darwin-2level
    uname='darwin localhost 7.0.0 darwin kernel version 7.0.0: thu nov 13 19:17:35 pst 2003; root:workxnu-517.objrelease_i386 x86 i386 '
    config_args='-de -Dprefix=/var/root/perl5/perlbrew/perls/perl-5.12.3 -Accflags=-O2'
    hint=recommended, useposix=true, d_sigaction=define
    useithreads=undef, usemultiplicity=undef
    useperlio=define, d_sfio=undef, uselargefiles=define, usesocks=undef
    use64bitint=undef, use64bitall=undef, uselongdouble=undef
    usemymalloc=n, bincompat5005=undef
  Compiler:
    cc='cc', ccflags ='-fno-common -DPERL_DARWIN -no-cpp-precomp -O2 -fno-strict-aliasing -pipe -I/usr/local/include',
    optimize='-Os',
    cppflags='-no-cpp-precomp -fno-common -DPERL_DARWIN -no-cpp-precomp -O2 -fno-strict-aliasing -pipe -I/usr/local/include'
    ccversion='', gccversion='3.3 20030304 (Apple Computer, Inc. build 1495)', gccosandvers=''
    intsize=4, longsize=4, ptrsize=4, doublesize=8, byteorder=1234
    d_longlong=define, longlongsize=8, d_longdbl=define, longdblsize=12
    ivtype='long', ivsize=4, nvtype='double', nvsize=8, Off_t='off_t', lseeksize=8
    alignbytes=8, prototype=define
  Linker and Libraries:
    ld='env MACOSX_DEPLOYMENT_TARGET=10.3 cc', ldflags =' -L/usr/local/lib -L/opt/local/lib'
    libpth=/usr/local/lib /opt/local/lib /usr/lib
    libs=-ldbm -ldl -lm -lc
    perllibs=-ldl -lm -lc
    libc=/usr/lib/libc.dylib, so=dylib, useshrplib=false, libperl=libperl.a
    gnulibc_version=''
  Dynamic Linking:
    dlsrc=dl_dyld.xs, dlext=bundle, d_dlsymun=undef, ccdlflags=' '
    cccdlflags=' ', lddlflags=' -bundle -undefined dynamic_lookup -L/usr/local/lib -L/opt/local/lib'


Characteristics of this binary (from libperl): 
  Compile-time options: PERL_DONT_CREATE_GVSV PERL_MALLOC_WRAP
                        USE_LARGE_FILES USE_PERLIO USE_PERL_ATOF
  Built under darwin
  Compiled at Jan 20 2012 04:28:10
  %ENV:
    PERL5LIB=""
    PERL5OPT=""
    PERL5_CPANPLUS_IS_RUNNING="1180"
    PERL5_CPAN_IS_RUNNING="1180"
    PERLBREW_BASHRC_VERSION="0.44"
    PERLBREW_HOME="/var/root/.perlbrew"
    PERLBREW_LIB=""
    PERLBREW_MANPATH="/var/root/perl5/perlbrew/perls/perl-5.12.3/man"
    PERLBREW_PATH="/var/root/perl5/perlbrew/bin:/var/root/perl5/perlbrew/perls/perl-5.12.3/bin"
    PERLBREW_PERL="perl-5.12.3"
    PERLBREW_ROOT="/var/root/perl5/perlbrew"
    PERLBREW_VERSION="0.44"
    PERL_LOCAL_LIB_ROOT=""
    PERL_MB_OPT=""
    PERL_MM_OPT=""
  @INC:
    /var/root/perl5/perlbrew/perls/perl-5.12.3/lib/site_perl/5.12.3/darwin-2level
    /var/root/perl5/perlbrew/perls/perl-5.12.3/lib/site_perl/5.12.3
    /var/root/perl5/perlbrew/perls/perl-5.12.3/lib/5.12.3/darwin-2level
    /var/root/perl5/perlbrew/perls/perl-5.12.3/lib/5.12.3
    .